BEGIN:VCALENDAR
VERSION:2.0
PRODID:-//Urbanham.com - ECPv6.15.20//NONSGML v1.0//EN
CALSCALE:GREGORIAN
METHOD:PUBLISH
X-ORIGINAL-URL:https://urbanham.com
X-WR-CALDESC:Events for Urbanham.com
REFRESH-INTERVAL;VALUE=DURATION:PT1H
X-Robots-Tag:noindex
X-PUBLISHED-TTL:PT1H
BEGIN:VTIMEZONE
TZID:UTC
BEGIN:STANDARD
TZOFFSETFROM:+0000
TZOFFSETTO:+0000
TZNAME:UTC
DTSTART:20230101T000000
END:STANDARD
END:VTIMEZONE
BEGIN:VEVENT
DTSTART;TZID=UTC:20240712T190000
DTEND;TZID=UTC:20240714T203000
DTSTAMP:20260425T195157
CREATED:20240702T124625Z
LAST-MODIFIED:20240702T124625Z
UID:2434-1720810800-1720989000@urbanham.com
SUMMARY:Arnez J Live at the Stardome (July 12 - July 14)
DESCRIPTION:An Atlanta native\, Arnez began working the comedy circuit in Georgia and quickly became one of “Hotlanta’s” funniest newcomers. A finalist in the “Bay Area Black Comedy Competition\,” he was immediately noticed by the entertainment industry and was asked to make his first television appearance on Showtime’s “Comedy Club Network.” Numerous television appearances soon followed including appearances on “The Keenan Ivory Wayans Show\,” “Louie Anderson’s Comedy Showcase\,” Comedy Central’s “Make Me Laugh\,” NBC’s “Friday Night Videos\,” “The Mo’Nique Show”\, Russell Simmons’ “Def Comedy Jam\,” his own BET “Comic View Grandstand Hour Special\,” and “Comedy Central Presents: Arnez J.” He was most recently seen headlining Showtime’s “Shaquille O’Neal Presents: All Star Comedy Jam.” \nToday\, Arnez is widely considered one of the best working artists\, with a polished and highly entertaining standup routine that keeps his audiences entertained without having to use profanity. In keeping with his plan\, Arnez keeps up a dizzying pace performing for sold out crowds at arenas and other venues across the country.
URL:https://urbanham.com/event/arnez-j-live-at-the-stardome-july-12-july-14/
LOCATION:Hoover\, Alabama
CATEGORIES:Comedy,Featured Events,Food & Drinks,Upcoming Events
ATTACH;FMTTYPE=image/png:https://urbanham.com/wp-content/uploads/2024/07/ArnezJx300.png
ORGANIZER;CN="Stardome Comedy Club":MAILTO:info@stardome.com
END:VEVENT
END:VCALENDAR