BEGIN:VCALENDAR
VERSION:2.0
PRODID:-//Urbanham.com - ECPv6.15.20//NONSGML v1.0//EN
CALSCALE:GREGORIAN
METHOD:PUBLISH
X-ORIGINAL-URL:https://urbanham.com
X-WR-CALDESC:Events for Urbanham.com
REFRESH-INTERVAL;VALUE=DURATION:PT1H
X-Robots-Tag:noindex
X-PUBLISHED-TTL:PT1H
BEGIN:VTIMEZONE
TZID:UTC
BEGIN:STANDARD
TZOFFSETFROM:+0000
TZOFFSETTO:+0000
TZNAME:UTC
DTSTART:20230101T000000
END:STANDARD
END:VTIMEZONE
BEGIN:VEVENT
DTSTART;TZID=UTC:20240809T080000
DTEND;TZID=UTC:20240810T170000
DTSTAMP:20260424T134939
CREATED:20240728T205106Z
LAST-MODIFIED:20240728T222821Z
UID:2570-1723190400-1723309200@urbanham.com
SUMMARY:Eddie Griffin LIVE at the Stardome (August 9 - 10)
DESCRIPTION:As an actor\, Eddie Griffin has appeared in over 50 films such films as The Last Boy Scout (1991)\, Coneheads (1993)\, Armageddon (1998)\, Deuce Bigalow: Male Gigolo (1999)\, Norbit (2007)\, American Hero (2015) Mucho Dinero (2016)\, and A Star is Born (2018). His most notable film role was Anton Jackson in Undercover Brother (2002). Eddie was nominated (1996) and won (2000) the NAACP Image Award for Best Actor in his own hit comedy series Malcolm and Eddie (1996-2000). In 2019 Eddie began shooting the feature film The Comeback Trail alongside actors Robert De Niro\, Morgan Freeman and Tommy Lee Jones. Eddie Griffin is back for his third SHOWTIME comedy special\, Eddie Griffin: E-NIGGMA\, premiering on Friday\, December 6\, 2019. Currently\, Eddie can be found performing his weekly Las Vegas Residency\, The Eddie Griffin Experience at the Sahara Hotel and Casino.
URL:https://urbanham.com/event/eddie-griffin-live-at-the-stardome-august-9-10/
LOCATION:Hoover\, Alabama
CATEGORIES:Comedy,Featured Events,Food & Drinks,Upcoming Events
ATTACH;FMTTYPE=image/png:https://urbanham.com/wp-content/uploads/2024/07/EddieGriffinx300.png
ORGANIZER;CN="Stardome Comedy Club":MAILTO:info@stardome.com
END:VEVENT
BEGIN:VEVENT
DTSTART;TZID=UTC:20240810T140000
DTEND;TZID=UTC:20240810T180000
DTSTAMP:20260424T134939
CREATED:20240404T021329Z
LAST-MODIFIED:20240404T025115Z
UID:2091-1723298400-1723312800@urbanham.com
SUMMARY:Birmingham Pig Roast
DESCRIPTION:The ¡HICA! Junior Board presents the inaugural Birmingham Pig Roast—an event that brings together Alabama’s passion for good barbecue and the rich Latino communities in Birmingham.  \nIn Puerto Rico and other Latino cultures\, a pig roast happens whenever there is a big celebration. Now\, ¡HICA! is bringing that celebration to the Magic City. Join us for juicy\, tender pulled pork\, delicious sides\, family-friendly entertainment and more. Plus\, try the Lagerveza—a beer by Cahaba Brewing Company brewed just for the event. We’ll bring los lechones (those are the succulent pigs\, ready to slow roast for hours). You bring your appetite. Welcome to our familia. \nSaturday\, August 10\, 2024\n2:00 PM – 6:00 PM \nCahaba Brewing\n4500 5th Avenue South\nBirmingham\, AL\, 35222\nUnited States
URL:https://urbanham.com/event/birmingham-pig-roast/
LOCATION:Birmingham\, AL\, Birmingham\, AL\, 35203\, United States
CATEGORIES:Art & Culture,Food & Drinks,Things to do,Upcoming Events
ATTACH;FMTTYPE=image/png:https://urbanham.com/wp-content/uploads/2024/04/bhampigroastx300.png
END:VEVENT
END:VCALENDAR