BEGIN:VCALENDAR
VERSION:2.0
PRODID:-//Urbanham.com - ECPv6.15.20//NONSGML v1.0//EN
CALSCALE:GREGORIAN
METHOD:PUBLISH
X-ORIGINAL-URL:https://urbanham.com
X-WR-CALDESC:Events for Urbanham.com
REFRESH-INTERVAL;VALUE=DURATION:PT1H
X-Robots-Tag:noindex
X-PUBLISHED-TTL:PT1H
BEGIN:VTIMEZONE
TZID:UTC
BEGIN:STANDARD
TZOFFSETFROM:+0000
TZOFFSETTO:+0000
TZNAME:UTC
DTSTART:20230101T000000
END:STANDARD
END:VTIMEZONE
BEGIN:VEVENT
DTSTART;TZID=UTC:20240920T163000
DTEND;TZID=UTC:20240922T180000
DTSTAMP:20260422T152519
CREATED:20240909T132651Z
LAST-MODIFIED:20240909T133155Z
UID:2669-1726849800-1727028000@urbanham.com
SUMMARY:Revolt World 2024 (September 20 - 22)
DESCRIPTION:REVOLT WORLD 2024 – 3 Day of Impact and Inspiration \nREVOLT WORLD returns to Atlanta\, GA\, from September 20th – 22nd as a first-of-its-kind event reimagining the intersection of culture and creativity. This 3-day immersive experience features top REVOLT shows\, impactful conversations\, live performances\, masterclasses\, and branded activations. We look forward to welcoming you into the reimagined future and creating the most impactful platform for Creators.
URL:https://urbanham.com/event/revolt-world-2024-september-20-22/
LOCATION:x – Atlanta\, GA\, Atlanta\, GA\, 30303\, United States
CATEGORIES:Art & Culture,DJ,Featured Events,Festival,Live Music,Upcoming Events
ATTACH;FMTTYPE=image/png:https://urbanham.com/wp-content/uploads/2024/09/RevoltWorldx300.png
END:VEVENT
BEGIN:VEVENT
DTSTART;TZID=UTC:20240920T180000
DTEND;TZID=UTC:20240920T210000
DTSTAMP:20260422T152519
CREATED:20240912T150804Z
LAST-MODIFIED:20240912T152306Z
UID:2769-1726855200-1726866000@urbanham.com
SUMMARY:Radical Love & Black Joy Fest (September 20)
DESCRIPTION:Don’t miss this FREE community event celebrating National Black Voter’s Registration Day!  Featuring James Fortune\, Jazz McKenzie\, Logan the Entertainer\, DJ Chris Coleman and Emcee Lady Woo! Free T-Shirts for the first 100 Registrants. \n6:00pm – 9:00pm at Railroad Park. \nGet your FREE Tickets from BlackJoyFest.eventbrite.com
URL:https://urbanham.com/event/radical-love-black-joy-fest-september-20/
LOCATION:Birmingham\, AL\, Birmingham\, AL\, 35203\, United States
CATEGORIES:DJ,Family Event,Featured Events,Food Trucks,Live Music,Things to do,Upcoming Events
ATTACH;FMTTYPE=image/png:https://urbanham.com/wp-content/uploads/2024/09/JoyFestx300.png
END:VEVENT
END:VCALENDAR