BEGIN:VCALENDAR
VERSION:2.0
PRODID:-//Urbanham.com - ECPv6.15.20//NONSGML v1.0//EN
CALSCALE:GREGORIAN
METHOD:PUBLISH
X-ORIGINAL-URL:https://urbanham.com
X-WR-CALDESC:Events for Urbanham.com
REFRESH-INTERVAL;VALUE=DURATION:PT1H
X-Robots-Tag:noindex
X-PUBLISHED-TTL:PT1H
BEGIN:VTIMEZONE
TZID:UTC
BEGIN:STANDARD
TZOFFSETFROM:+0000
TZOFFSETTO:+0000
TZNAME:UTC
DTSTART:20230101T000000
END:STANDARD
END:VTIMEZONE
BEGIN:VEVENT
DTSTART;TZID=UTC:20240926T080000
DTEND;TZID=UTC:20240926T170000
DTSTAMP:20260423T023029
CREATED:20240913T030933Z
LAST-MODIFIED:20240913T032458Z
UID:2786-1727337600-1727370000@urbanham.com
SUMMARY:Open Mic with Eunice Elliot (September 26)
DESCRIPTION:Thursday\, September 26\n\nDoors: 5:45pm Show: 7pm\n$10 / Broadway Room\n\n\n\n\n\n\n\nDo you have what it takes to capture an audience?  Bring your funny to the Broadway Room Stage and see if you can make em’ laugh.  Email\nEunicecomedy@gmail.com to sign up.
URL:https://urbanham.com/event/open-mic-with-eunice-elliot-september-26/
LOCATION:AL
CATEGORIES:Comedy,Featured Events,Food & Drinks,Things to do,Upcoming Events
ATTACH;FMTTYPE=image/png:https://urbanham.com/wp-content/uploads/2024/08/Eunicex300.png
END:VEVENT
END:VCALENDAR