BEGIN:VCALENDAR
VERSION:2.0
PRODID:-//Urbanham.com - ECPv6.15.20//NONSGML v1.0//EN
CALSCALE:GREGORIAN
METHOD:PUBLISH
X-ORIGINAL-URL:https://urbanham.com
X-WR-CALDESC:Events for Urbanham.com
REFRESH-INTERVAL;VALUE=DURATION:PT1H
X-Robots-Tag:noindex
X-PUBLISHED-TTL:PT1H
BEGIN:VTIMEZONE
TZID:UTC
BEGIN:STANDARD
TZOFFSETFROM:+0000
TZOFFSETTO:+0000
TZNAME:UTC
DTSTART:20230101T000000
END:STANDARD
END:VTIMEZONE
BEGIN:VEVENT
DTSTART;TZID=UTC:20240929T080000
DTEND;TZID=UTC:20241005T170000
DTSTAMP:20260423T023024
CREATED:20240921T015347Z
LAST-MODIFIED:20241002T004705Z
UID:2945-1727596800-1728147600@urbanham.com
SUMMARY:Miles College Homecoming Events (September 29 - October 5)
DESCRIPTION:For all official events visit the Miles College Homecoming website at https://www.miles.edu/miles-college-homecoming \nMore Homecoming Week of Events!\n \n \n \n \n 
URL:https://urbanham.com/event/miles-coming-homecoming-events-september-29-october-5/
LOCATION:Birmingham\, AL\, Birmingham\, AL\, 35203\, United States
CATEGORIES:Art & Culture,Day Party,DJ,Featured Events,Food & Drinks,HBCU,Night Life,Sports,Things to do,Upcoming Events
ATTACH;FMTTYPE=image/png:https://urbanham.com/wp-content/uploads/2024/09/Milescollegex300.png
END:VEVENT
BEGIN:VEVENT
DTSTART;TZID=UTC:20241001T180000
DTEND;TZID=UTC:20241002T020000
DTSTAMP:20260423T023024
CREATED:20240921T013730Z
LAST-MODIFIED:20240921T013730Z
UID:2939-1727805600-1727834400@urbanham.com
SUMMARY:Pastor Troy Performing LIVE (October 1)
DESCRIPTION:Fairfield High School Alumni Week presents Pastor Troy LIVE at Carter’s Hookah Lounge and Grill! \nPresented by the Fairfield High Class of 1998. \n512 Rev. Abraham Woods\, Jr. Blvd\, Birmingham\, Alabama 35204
URL:https://urbanham.com/event/pastor-troy-performing-live-october-1/
LOCATION:Birmingham\, AL\, Birmingham\, AL\, 35203\, United States
CATEGORIES:DJ,Featured Events,Night Life,Things to do,Upcoming Events
ATTACH;FMTTYPE=image/jpeg:https://urbanham.com/wp-content/uploads/2024/09/PastorTroyx300.jpg
END:VEVENT
END:VCALENDAR