BEGIN:VCALENDAR
VERSION:2.0
PRODID:-//Urbanham.com - ECPv6.15.20//NONSGML v1.0//EN
CALSCALE:GREGORIAN
METHOD:PUBLISH
X-ORIGINAL-URL:https://urbanham.com
X-WR-CALDESC:Events for Urbanham.com
REFRESH-INTERVAL;VALUE=DURATION:PT1H
X-Robots-Tag:noindex
X-PUBLISHED-TTL:PT1H
BEGIN:VTIMEZONE
TZID:UTC
BEGIN:STANDARD
TZOFFSETFROM:+0000
TZOFFSETTO:+0000
TZNAME:UTC
DTSTART:20230101T000000
END:STANDARD
END:VTIMEZONE
BEGIN:VEVENT
DTSTART;TZID=UTC:20241013T160000
DTEND;TZID=UTC:20241013T180000
DTSTAMP:20260422T063346
CREATED:20240310T153036Z
LAST-MODIFIED:20240310T153036Z
UID:1769-1728835200-1728842400@urbanham.com
SUMMARY:Birmingham Legion vs Las Vegas Lights
DESCRIPTION:Sunday\, October 13th \nvs Las Vegas Lights \n4:00pm | Protective Stadium
URL:https://urbanham.com/event/birmingham-legion-vs-las-vegas-lights/
LOCATION:Birmingham\, AL\, Birmingham\, AL\, 35203\, United States
CATEGORIES:Family Event,Food & Drinks,Sports,Upcoming Events
ATTACH;FMTTYPE=image/png:https://urbanham.com/wp-content/uploads/2024/03/birminghamlegionx300.png
END:VEVENT
BEGIN:VEVENT
DTSTART;TZID=UTC:20241013T190000
DTEND;TZID=UTC:20241013T220000
DTSTAMP:20260422T063346
CREATED:20240921T004741Z
LAST-MODIFIED:20240921T004741Z
UID:2915-1728846000-1728856800@urbanham.com
SUMMARY:Eighty Five South Big Business Comedy Tour with Karlous Miller\, DC Young Fly and Chico Bean (October 13)
DESCRIPTION:Don’t miss the Eighty Five South Comedy Tour headed to the Legacy Arena on Sunday\, October 13\, 2024.  Featuring Karlous Miller\, DC Young Fly and Chico Bean!
URL:https://urbanham.com/event/eighty-five-south-big-business-comedy-tour-with-karlous-miller-dc-young-fly-and-chico-bean-october-13/
LOCATION:Birmingham\, AL\, Birmingham\, AL\, 35203\, United States
CATEGORIES:Comedy,Featured Events,Things to do,Upcoming Events
ATTACH;FMTTYPE=image/png:https://urbanham.com/wp-content/uploads/2024/09/85Southx300.png
END:VEVENT
END:VCALENDAR