BEGIN:VCALENDAR
VERSION:2.0
PRODID:-//Urbanham.com - ECPv6.15.20//NONSGML v1.0//EN
CALSCALE:GREGORIAN
METHOD:PUBLISH
X-WR-CALNAME:Urbanham.com
X-ORIGINAL-URL:https://urbanham.com
X-WR-CALDESC:Events for Urbanham.com
REFRESH-INTERVAL;VALUE=DURATION:PT1H
X-Robots-Tag:noindex
X-PUBLISHED-TTL:PT1H
BEGIN:VTIMEZONE
TZID:UTC
BEGIN:STANDARD
TZOFFSETFROM:+0000
TZOFFSETTO:+0000
TZNAME:UTC
DTSTART:20230101T000000
END:STANDARD
END:VTIMEZONE
BEGIN:VEVENT
DTSTART;TZID=UTC:20241022T200000
DTEND;TZID=UTC:20241023T020000
DTSTAMP:20260423T034304
CREATED:20241020T134352Z
LAST-MODIFIED:20241020T134522Z
UID:3259-1729627200-1729648800@urbanham.com
SUMMARY:Royalty Entertainment Classic Kickoff (October 22)
DESCRIPTION:FREE Admission to Denim on 7th on Tuesday\, October 22 for the Classic Kickoff! with Royalty Entertainment! \n2808 7th Avenue S.\, Birmingham\, AL
URL:https://urbanham.com/event/royalty-entertainment-classic-kickoff-october-22/
LOCATION:Birmingham\, AL\, Birmingham\, AL\, 35203\, United States
CATEGORIES:Food & Drinks,HBCU,Magic City Classic,Things to do,Upcoming Events
ATTACH;FMTTYPE=image/png:https://urbanham.com/wp-content/uploads/2024/10/Classic300-1.png
END:VEVENT
BEGIN:VEVENT
DTSTART;TZID=UTC:20241023T120000
DTEND;TZID=UTC:20241023T150000
DTSTAMP:20260423T034304
CREATED:20241008T194537Z
LAST-MODIFIED:20241008T200738Z
UID:3117-1729684800-1729695600@urbanham.com
SUMMARY:Magic City Classic Community Awards Reception (October 23)
DESCRIPTION:The West End Community and Commissioner Shelia Tyson presents Magic City Classic Community Awards Reception.  Team Bulldogs vs Team Hornets! Free admission\, Food and Entertainment!  Bring you own Lawn chairs to the Arlington House located at 331 Cotton Avenue SW.\, Birmingham\, AL 35211. \n12 Noon – 4pm.
URL:https://urbanham.com/event/magic-city-classic-community-awards-reception-october-23/
LOCATION:Birmingham\, AL\, Birmingham\, AL\, 35203\, United States
CATEGORIES:Community,Day Party,Magic City Classic,Things to do,Upcoming Events
ATTACH;FMTTYPE=image/png:https://urbanham.com/wp-content/uploads/2024/10/MagicCityClassicx300.png
END:VEVENT
BEGIN:VEVENT
DTSTART;TZID=UTC:20241023T180000
DTEND;TZID=UTC:20241023T220000
DTSTAMP:20260423T034304
CREATED:20241017T203838Z
LAST-MODIFIED:20241017T204129Z
UID:3154-1729706400-1729720800@urbanham.com
SUMMARY:The Green Carpet Affair (October 23)
DESCRIPTION:This event is SOLD OUT.
URL:https://urbanham.com/event/the-green-carpet-affair-october-23/
LOCATION:Birmingham\, AL\, Birmingham\, AL\, 35203\, United States
CATEGORIES:Food & Drinks,Food Trucks,Magic City Classic,Things to do,Upcoming Events
ATTACH;FMTTYPE=image/png:https://urbanham.com/wp-content/uploads/2024/10/greencarpetx300.png
END:VEVENT
BEGIN:VEVENT
DTSTART;TZID=UTC:20241023T200000
DTEND;TZID=UTC:20241024T000000
DTSTAMP:20260423T034304
CREATED:20241020T181852Z
LAST-MODIFIED:20241020T181852Z
UID:3341-1729713600-1729728000@urbanham.com
SUMMARY:The Classic Nightcap at Bodega on 5th (October 23)
DESCRIPTION:Catch a night of LIVE JAZZ at Bodega on 5th starting at 8pm.  Free admission and cigar specials.
URL:https://urbanham.com/event/the-classic-nightcap-at-bodega-on-5th-october-23/
LOCATION:Birmingham\, AL\, Birmingham\, AL\, 35203\, United States
CATEGORIES:Cigars,Food & Drinks,Live Music,Magic City Classic,Night Life,Things to do,Upcoming Events
ATTACH;FMTTYPE=image/png:https://urbanham.com/wp-content/uploads/2024/10/bodegajazzx300.png
END:VEVENT
BEGIN:VEVENT
DTSTART;TZID=UTC:20241023T200000
DTEND;TZID=UTC:20241025T233000
DTSTAMP:20260423T034304
CREATED:20241020T154758Z
LAST-MODIFIED:20241020T154926Z
UID:3322-1729713600-1729899000@urbanham.com
SUMMARY:Classic Weekend at D'Zire Bar & Lounge (October 23 - October 25)
DESCRIPTION:
URL:https://urbanham.com/event/classic-weekend-at-dzire-bar-lounge-october-23-october-25/
LOCATION:Birmingham\, AL\, Birmingham\, AL\, 35203\, United States
ATTACH;FMTTYPE=image/png:https://urbanham.com/wp-content/uploads/2024/10/dzirex300.png
END:VEVENT
BEGIN:VEVENT
DTSTART;TZID=UTC:20241023T210000
DTEND;TZID=UTC:20241023T233000
DTSTAMP:20260423T034304
CREATED:20241021T133403Z
LAST-MODIFIED:20241021T133916Z
UID:3380-1729717200-1729726200@urbanham.com
SUMMARY:Classic Status at Uptown Jazz (October 23)
DESCRIPTION:Hosted by Senate Minority Leader Bobby Singleton and House Minority Leader Anthony Daniels on Wednesday\, October 23rd at Uptown Jazz! Chris Coleman will be in the mix!
URL:https://urbanham.com/event/classic-status-at-uptown-jazz-october-23/
LOCATION:Birmingham\, AL\, Birmingham\, AL\, 35203\, United States
CATEGORIES:Business & Networking,Food & Drinks,Live Music,Magic City Classic,Things to do,Upcoming Events
ATTACH;FMTTYPE=image/png:https://urbanham.com/wp-content/uploads/2024/10/classicstatusx300.png
END:VEVENT
END:VCALENDAR