BEGIN:VCALENDAR
VERSION:2.0
PRODID:-//Urbanham.com - ECPv6.15.20//NONSGML v1.0//EN
CALSCALE:GREGORIAN
METHOD:PUBLISH
X-WR-CALNAME:Urbanham.com
X-ORIGINAL-URL:https://urbanham.com
X-WR-CALDESC:Events for Urbanham.com
REFRESH-INTERVAL;VALUE=DURATION:PT1H
X-Robots-Tag:noindex
X-PUBLISHED-TTL:PT1H
BEGIN:VTIMEZONE
TZID:UTC
BEGIN:STANDARD
TZOFFSETFROM:+0000
TZOFFSETTO:+0000
TZNAME:UTC
DTSTART:20230101T000000
END:STANDARD
END:VTIMEZONE
BEGIN:VEVENT
DTSTART;TZID=UTC:20241227T143000
DTEND;TZID=UTC:20241227T183000
DTSTAMP:20260420T085936
CREATED:20241213T151227Z
LAST-MODIFIED:20241213T151414Z
UID:3575-1735309800-1735324200@urbanham.com
SUMMARY:The Birmingham Bowl: Georgia Tech vs Vanderbilt (December 27)
DESCRIPTION:Birmingham Bowl with Georgia Tech vs Vanderbilt at Protective Stadium.
URL:https://urbanham.com/event/the-birmingham-bowl-georgia-tech-vs-vanderbilt-december-27/
LOCATION:Birmingham\, AL\, Birmingham\, AL\, 35203\, United States
CATEGORIES:Sports,Things to do,Upcoming Events
ATTACH;FMTTYPE=image/png:https://urbanham.com/wp-content/uploads/2024/12/BhamBowlx300.png
END:VEVENT
BEGIN:VEVENT
DTSTART;TZID=UTC:20241227T190000
DTEND;TZID=UTC:20241227T213000
DTSTAMP:20260420T085936
CREATED:20241213T154152Z
LAST-MODIFIED:20241213T154331Z
UID:3587-1735326000-1735335000@urbanham.com
SUMMARY:Justin Whitehead LIVE at the Stardome (December 27 - 29)
DESCRIPTION:Justin Whitehead is a professional comedian and entertainer. A native of South Georgia\, Whitehead was born and raised in Desoto\, a rural\, tight-knit community with a population barely over 700 people. He was raised by both parents\, alongside 4 siblings and has always bared witness to hard work and ambition. Justin jumped onto Stardome with his very funny “ My 600 pound life” voice overs.
URL:https://urbanham.com/event/justin-whitehead-live-at-the-stardome-december-27-29/
LOCATION:Hoover\, Alabama
CATEGORIES:Comedy,Education,Featured Events,Food & Drinks,Magic City Classic,Shopping,Things to do,Upcoming Events
ATTACH;FMTTYPE=image/png:https://urbanham.com/wp-content/uploads/2024/12/Justinx300.png
ORGANIZER;CN="Stardome Comedy Club":MAILTO:info@stardome.com
END:VEVENT
BEGIN:VEVENT
DTSTART;TZID=UTC:20241227T210000
DTEND;TZID=UTC:20241228T020000
DTSTAMP:20260420T085936
CREATED:20241213T173331Z
LAST-MODIFIED:20241213T173331Z
UID:3618-1735333200-1735351200@urbanham.com
SUMMARY:All Black Affair: Onyx Black and Bougie (December 27)
DESCRIPTION:Quentessential Classic is bringing ONYX – The Black & Bougie All-Black Affair back to Huntsville for an unforgettable night of elegance and fun. Dress in your best all-black attire and join professionals for an evening of music\, networking\, and great vibes. VIP options are available for those looking to elevate their experience with premium seating and bottle service. Be sure to check the seating chart and ticket details to secure your spot. Don’t wait—grab your tickets now for a night you won’t want to miss! \n 
URL:https://urbanham.com/event/all-black-affair-onyx-black-and-bougie-december-27/
LOCATION:Huntsville\, AL\, Huntsville\, AL\, 35801\, United States
CATEGORIES:DJ,Food & Drinks,Things to do,Upcoming Events
ATTACH;FMTTYPE=image/png:https://urbanham.com/wp-content/uploads/2024/12/Onyx-Ladyx300.png
END:VEVENT
END:VCALENDAR