BEGIN:VCALENDAR
VERSION:2.0
PRODID:-//Urbanham.com - ECPv6.15.20//NONSGML v1.0//EN
CALSCALE:GREGORIAN
METHOD:PUBLISH
X-WR-CALNAME:Urbanham.com
X-ORIGINAL-URL:https://urbanham.com
X-WR-CALDESC:Events for Urbanham.com
REFRESH-INTERVAL;VALUE=DURATION:PT1H
X-Robots-Tag:noindex
X-PUBLISHED-TTL:PT1H
BEGIN:VTIMEZONE
TZID:UTC
BEGIN:STANDARD
TZOFFSETFROM:+0000
TZOFFSETTO:+0000
TZNAME:UTC
DTSTART:20240101T000000
END:STANDARD
END:VTIMEZONE
BEGIN:VEVENT
DTSTART;TZID=UTC:20250828T151100
DTEND;TZID=UTC:20250828T191100
DTSTAMP:20260421T193553
CREATED:20250727T045505Z
LAST-MODIFIED:20250727T045721Z
UID:4389-1756393860-1756408260@urbanham.com
SUMMARY:BZ/KK ASU vs UAB Ultimate Tailgate Experience (August 28)
DESCRIPTION:Come Tailgate with the Brothers of BZ (None Greater) & KK (Gucci) for the Alabama State vs. UAB Football Game. \n1219 26th Street North\, Birmingham\, AL
URL:https://urbanham.com/event/bz-kk-asu-vs-uab-ultimate-tailgate-experience-august-28/
LOCATION:Birmingham\, AL\, Birmingham\, AL\, 35203\, United States
CATEGORIES:Day Party,DJ,Featured Events,Food & Drinks,Things to do,Upcoming Events
ATTACH;FMTTYPE=image/png:https://urbanham.com/wp-content/uploads/2025/07/BZKKx399.png
END:VEVENT
END:VCALENDAR