BEGIN:VCALENDAR
VERSION:2.0
PRODID:-//Urbanham.com - ECPv6.15.20//NONSGML v1.0//EN
CALSCALE:GREGORIAN
METHOD:PUBLISH
X-ORIGINAL-URL:https://urbanham.com
X-WR-CALDESC:Events for Urbanham.com
REFRESH-INTERVAL;VALUE=DURATION:PT1H
X-Robots-Tag:noindex
X-PUBLISHED-TTL:PT1H
BEGIN:VTIMEZONE
TZID:UTC
BEGIN:STANDARD
TZOFFSETFROM:+0000
TZOFFSETTO:+0000
TZNAME:UTC
DTSTART:20240101T000000
END:STANDARD
END:VTIMEZONE
BEGIN:VEVENT
DTSTART;TZID=UTC:20250829T190000
DTEND;TZID=UTC:20250829T230000
DTSTAMP:20260421T194030
CREATED:20250727T143140Z
LAST-MODIFIED:20250727T143154Z
UID:4417-1756494000-1756508400@urbanham.com
SUMMARY:Week Zero Classic Comedy Jam with Bill Bellamy\, Nephew Tommy and Ms. V (August 29)
DESCRIPTION:The Week Zero Classic is headed to Birmingham with a special Friday Night kick-off comedy show at the Historic Boutwell Auditorium.  For tickets visit ETix.com or the Boutwell ticket office. \nThe Week Zero Labor Day Classic double header\, taking place on Saturday\, August 30\, 2025\, at Legion Field\, will feature Clark Atlanta University football team in a thrilling matchup against Valdosta State University and Fort Valley State University vs University of West Alabama.\n\nThis event is set to be a memorable day filled with football\, community\, and celebration\, accompanied by the largest BBQ festival in Alabama.\nContact us for ticket packages and additional details. We hope to see you there!\n\nGet your tixs NOW!\n\nValdosta State Univ vs Clark Atlanta Univ-12:15pm Kickoff\nFort Valley State Univ vs Univ of West Alabama-4:15pm Kickoff\n\nTixs: www.urbantixs.com/c/legionfield\n\nMore info: email us at info@weekzero.org
URL:https://urbanham.com/event/week-zero-classic-comedy-jam-with-bill-bellamy-nephew-tommy-and-ms-v-august-29/
LOCATION:Birmingham\, AL\, Birmingham\, AL\, 35203\, United States
CATEGORIES:Comedy,HBCU,Sports,Upcoming Events
ATTACH;FMTTYPE=image/png:https://urbanham.com/wp-content/uploads/2025/07/WeekZeroClassicx300.png
END:VEVENT
END:VCALENDAR