BEGIN:VCALENDAR
VERSION:2.0
PRODID:-//Urbanham.com - ECPv6.15.20//NONSGML v1.0//EN
CALSCALE:GREGORIAN
METHOD:PUBLISH
X-WR-CALNAME:Urbanham.com
X-ORIGINAL-URL:https://urbanham.com
X-WR-CALDESC:Events for Urbanham.com
REFRESH-INTERVAL;VALUE=DURATION:PT1H
X-Robots-Tag:noindex
X-PUBLISHED-TTL:PT1H
BEGIN:VTIMEZONE
TZID:UTC
BEGIN:STANDARD
TZOFFSETFROM:+0000
TZOFFSETTO:+0000
TZNAME:UTC
DTSTART:20230101T000000
END:STANDARD
END:VTIMEZONE
BEGIN:VEVENT
DTSTART;TZID=UTC:20260305T190000
DTEND;TZID=UTC:20260305T210000
DTSTAMP:20260421T051738
CREATED:20260228T054457Z
LAST-MODIFIED:20260228T054914Z
UID:6253-1772737200-1772744400@urbanham.com
SUMMARY:Official Book Signing & Launch for “Bloom Where You’re Planted” by LaDarrius “LHUT” Hutcherson
DESCRIPTION:Birmingham’s make sure you check ou the official book signing and launch of “Bloom Where You’re Planted” by author LaDarrius “LHUT” Hutcherson on March 5\, 2026. \n📅 Thursday\, March 5\, 2026⏰ 4:00 PM – 7:00 PM📍 Memory Lane Birmingham2320 1st Avenue North\, Suite 110Birmingham\, AL \nThe event will serve as the official launch celebration for Hutcherson’s book release. Guests will have the opportunity to meet the author\, get books signed\, and enjoy light refreshments during this free community gathering. \nAbout the Event\nAttendees are encouraged to purchase their copies in advance through Amazon\, as limited copies will be available on-site. Those who have already pre-ordered or purchased their book with an Eat & Greet ticket will be able to pick up their copy at the event. \nHosted at Memory Lane Birmingham\, the event highlights the continued growth of Birmingham’s creative scene and its support of emerging talent alike.
URL:https://urbanham.com/event/official-book-signing-launch-for-bloom-where-youre-planted-by-ladarrius-lhut-hutcherson/
LOCATION:Birmingham\, AL\, Birmingham\, AL\, 35203\, United States
CATEGORIES:Business & Networking,Things to do,Upcoming Events
ATTACH;FMTTYPE=image/jpeg:https://urbanham.com/wp-content/uploads/2026/02/644448524_10235343042009856_7475934600341447113_n.jpg
END:VEVENT
BEGIN:VEVENT
DTSTART;TZID=UTC:20260218T080000
DTEND;TZID=UTC:20260218T170000
DTSTAMP:20260421T051738
CREATED:20260125T053648Z
LAST-MODIFIED:20260125T053834Z
UID:6034-1771401600-1771434000@urbanham.com
SUMMARY:The 2026 AG Gaston Conference (February 18)
DESCRIPTION:Empowering African Americans to excel in entrepreneurship and business ownership for over 20 years.\n\n\n\nThe A.G. Gaston Conference is the place to connect business owners\, community leaders\, and all who believe in African American empowerment. Join us for a day filled with information to empower and inspire you to change your future. \nAbout A.G. Gaston \nArthur George Gaston is not only the inspiration of this annual event but directly inspired many business people in Alabama. He succeeded as a serial entrepreneur and empowered other African Americans during a time when the nation legalized their oppression. Arthur George (A.G.) Gaston owned several successful businesses in Alabama during the Jim Crow law time period. He amassed a fortune worth more than $40 million from a business empire spanning communications\, real estate\, and insurance. Remembered in the Alabama Academy of Honor\, the Birmingham Hall of Fame\, and as Black Enterprise Magazine’s “Entrepreneur of the Century\,” Gaston’s contributions to the community remain to this day.
URL:https://urbanham.com/event/the-2026-ag-gaston-conference-february-18/
LOCATION:Birmingham\, AL\, Birmingham\, AL\, 35203\, United States
CATEGORIES:Business & Networking,Featured Events,Things to do,Upcoming Events
ATTACH;FMTTYPE=image/png:https://urbanham.com/wp-content/uploads/2026/01/AGGastonx300.png
END:VEVENT
BEGIN:VEVENT
DTSTART;TZID=UTC:20250927T173000
DTEND;TZID=UTC:20250927T213000
DTSTAMP:20260421T051738
CREATED:20250926T141453Z
LAST-MODIFIED:20250926T143109Z
UID:4847-1758994200-1759008600@urbanham.com
SUMMARY:The Sister Circle: Girls Nite Out! (September 27)
DESCRIPTION:A chance for women in the community to come together for support\, good times\, good vibes\, and to empower one another. \nThe “Sister Circle – Girls Night Out” event is coming up! Hosted by the Epic Center and comedian\, host\, and performer Ms. V\, the evening is all about empowering women in the community while providing networking resources. \nThe event will feature games\, line dances\, cash prizes\, conversations\, and networking opportunities\, with special hosting by Comedienne Felicia. \nJoin us on Saturday\, September 27th at the Epic Center\, located on 3rd Avenue West. Happy hour starts at 5:30pm\, doors open at 6:30 PM. \nCall (205) 212-0399 for more information. \nEVENTBRITE link for tickets: https://www.eventbrite.com/e/girls-nite-out-the-sister-circle-tickets-1670765718239?aff=oddtdtcreator\n\nSocial Media: \nhttps://www.instagram.com/theepicon3rd/#\nhttps://www.facebook.com/people/The-Epic-Center-Birmingham/61557575396336/#
URL:https://urbanham.com/event/the-sister-circle-girls-nite-out/
LOCATION:Birmingham\, AL\, Birmingham\, AL\, 35203\, United States
CATEGORIES:Art & Culture,Business & Networking,Featured Events,Things to do,Upcoming Events
ATTACH;FMTTYPE=image/png:https://urbanham.com/wp-content/uploads/2025/09/sistercirclex300.png
END:VEVENT
BEGIN:VEVENT
DTSTART;TZID=UTC:20250919T080000
DTEND;TZID=UTC:20250920T210000
DTSTAMP:20260421T051738
CREATED:20250910T040657Z
LAST-MODIFIED:20250910T145550Z
UID:4819-1758268800-1758402000@urbanham.com
SUMMARY:Alabama Minority Vendor Conference (September 19-20)
DESCRIPTION:Calling All Minority Business Leaders & Entrepreneurs! \nThe Alabama Minority Vendor Conference is back – bigger\, bolder\, and more impactful than ever. This annual gathering is the state’s premier space for small and minority-owned businesses to connect with thought leaders\, decision makers\, agencies\, and corporate partners. \nMore than a conference\, this is a curated experience designed to help you: \n\n\nGrow and scale your business \n\n\nStrengthen your community impact \n\n\nExpand opportunities across Alabama’s economy \n\n\nThis year’s focus is on equipping businesses to secure larger contracts\, sharpen strategies\, and position themselves for long-term growth. \nFriday\, September 19 – Saturday\, September 20\nBirmingham Jefferson Convention Complex East (BJCC) \nKeynote Lineup \n\n\nDr. Egypt Sherrod – HGTV host\, real estate broker & entrepreneur \n\n\nLarenz Tate – Acclaimed actor\, producer & entrepreneur \n\n\nTheir powerful stories of leadership\, creativity\, and innovation will set the tone for two days of inspiration and transformation. \nConference Highlights \n\n\nExecutive Workshops: Grants\, strategy development\, marketing \n\n\nThe Exchange: Direct connections with buyers & partners \n\n\nMasterclasses: Team building\, scaling\, finance & capital access \n\n\nNetworking Receptions & Meals: Build relationships that last \n\n\nFrom the opening luncheon with Egypt Sherrod to the closing success stories showcase – and a keynote breakfast with Larenz Tate – this two-day experience is built to give you tools\, resources\, and connections that drive real results. \nGet your tickets today at MinorityVendorConference.com – don’t wait! \nThis is your chance to gain insights from leaders who have built thriving enterprises and to connect with decision makers committed to empowering diverse businesses. \nMomentum starts now – secure your spot at the Alabama Minority Vendor Conference! \nMinorityVendorConference.com
URL:https://urbanham.com/event/alabama-minority-vendor-conference-september-19-20/
CATEGORIES:Business & Networking,Featured Events,Upcoming Events
ATTACH;FMTTYPE=image/png:https://urbanham.com/wp-content/uploads/2025/09/TakeTheDayBackx300-1.png
END:VEVENT
BEGIN:VEVENT
DTSTART;TZID=UTC:20250619T173000
DTEND;TZID=UTC:20250619T200000
DTSTAMP:20260421T051738
CREATED:20250608T163510Z
LAST-MODIFIED:20250608T164113Z
UID:4218-1750354200-1750363200@urbanham.com
SUMMARY:Juneteenth: Power Up Black Business (June 19)
DESCRIPTION:The New Birmingham Black Main Street will host it’s next event on Thursday\, June 19th at Perkins Law\, LLC which is located in the Civic Center Medical Forum Bldg.  Join us for another great day of quality conversations and networking from 5:30pm – 8:00pm.
URL:https://urbanham.com/event/power-up-black-business-june-19/
LOCATION:Birmingham\, AL\, Birmingham\, AL\, 35203\, United States
CATEGORIES:Business & Networking,Community,Featured Events,Juneteenth,Upcoming Events
ATTACH;FMTTYPE=image/png:https://urbanham.com/wp-content/uploads/2025/06/PowerUpx300.png
END:VEVENT
BEGIN:VEVENT
DTSTART;TZID=UTC:20250619T080000
DTEND;TZID=UTC:20250620T180000
DTSTAMP:20260421T051738
CREATED:20250608T044643Z
LAST-MODIFIED:20250608T044643Z
UID:4166-1750320000-1750442400@urbanham.com
SUMMARY:Alabama State Black Chamber of Commerce: Entrepreneurs and Innovators Conference (June 19 - 20)
DESCRIPTION:For more information visit https://alblackcc.org/
URL:https://urbanham.com/event/alabama-state-black-chamber-of-commerce-entrepreneurs-and-innovators-conference-june-19-20/
LOCATION:Birmingham\, AL\, Birmingham\, AL\, 35203\, United States
CATEGORIES:Business & Networking,Upcoming Events
ATTACH;FMTTYPE=image/png:https://urbanham.com/wp-content/uploads/2025/06/BlackChamberx300.png
END:VEVENT
BEGIN:VEVENT
DTSTART;TZID=UTC:20250508T183000
DTEND;TZID=UTC:20250508T213000
DTSTAMP:20260421T051738
CREATED:20250307T201553Z
LAST-MODIFIED:20250307T202328Z
UID:3865-1746729000-1746739800@urbanham.com
SUMMARY:Minority Business Awards: Celebrating Diversity | Honoring Achievement (May 8)
DESCRIPTION:The Minority Business Awards\, held annually in Birmingham\, Alabama\, celebrates the innovation and resilience of the city’s top minority business leaders. This event honors entrepreneurs who exemplify creativity\, determination\, and excellence. \nFinalists are nominated by the public and their peers\, with winners chosen by a panel of local radio personalities\, event sponsors\, and key Birmingham business leaders. \nBeyond recognizing outstanding minority leaders\, the event also serves as a source of inspiration\, featuring an empowering keynote speech from a distinguished guest speaker. \nThe celebration extends beyond the live audience—each ceremony is recorded\, produced overnight\, and shared with the community at minoritybusinessawards.com and across social media platforms. \nHosted by familiar voices from 98.7 Kiss\, 95.7 Jamz\, and 610 WAGG\, along with surprise guests\, the Minority Business Awards at The Club promises an unforgettable evening of recognition and celebration. \n  \n  \n 
URL:https://urbanham.com/event/minority-business-awards-celebration-diversity-honoring-achievement-may-8/
LOCATION:Birmingham\, AL\, Birmingham\, AL\, 35203\, United States
CATEGORIES:Business & Networking,Featured Events,Things to do,Upcoming Events
ATTACH;FMTTYPE=image/png:https://urbanham.com/wp-content/uploads/2025/03/Minority-300x300-1.png
END:VEVENT
BEGIN:VEVENT
DTSTART;TZID=UTC:20241206T203000
DTEND;TZID=UTC:20241206T223000
DTSTAMP:20260421T051738
CREATED:20241108T031725Z
LAST-MODIFIED:20241108T031725Z
UID:3437-1733517000-1733524200@urbanham.com
SUMMARY:Chrisette Michele LIVE at the Sheraton Hotel (December 6)
DESCRIPTION:It’s a night of feel good tunes\, southern soul\, jazz and classic R&B from Grammy Award winning artist\, Chrisette Michele. You’ll hear brand new music mixed in with her classics like\, “A Couple of Forevers\,” “Love Is You\,” “If I Have My Way\,” and “Blame it on Me.” So grab your friends or grab your lover and plan to have a great night! \n 
URL:https://urbanham.com/event/chrisette-michele-live-at-the-sheraton-hotel-december-6/
LOCATION:Birmingham\, AL\, Birmingham\, AL\, 35203\, United States
CATEGORIES:Business & Networking,Featured Events,Live Music,Things to do,Upcoming Events
ATTACH;FMTTYPE=image/png:https://urbanham.com/wp-content/uploads/2024/11/ChrisetteMichelex300.png
END:VEVENT
BEGIN:VEVENT
DTSTART;TZID=UTC:20241029T173000
DTEND;TZID=UTC:20241029T190000
DTSTAMP:20260421T051738
CREATED:20241028T150442Z
LAST-MODIFIED:20241028T150442Z
UID:3418-1730223000-1730228400@urbanham.com
SUMMARY:Steele Supper Pinktober Edition at Hemings (October 29)
DESCRIPTION:Join Ebony and the EBONY ARRINGTON DANCE family this Tuesday\, October 29th – 5:30 -7PM at the new HEMINGS\, Downtown Birmingham to celebrate life\, community connections and the love of educating our children through the arts. \nIt’s the PINKTOBER EDITION of the STEELE SUPPER. \nChild Care Directors / Educators encouraged to attend. \nPlease RSVP to attend: https://shorturl.at/7d7Az \n \n 
URL:https://urbanham.com/event/steele-supper-pinktober-edition-at-hemings-october-29/
LOCATION:Birmingham\, AL\, Birmingham\, AL\, 35203\, United States
CATEGORIES:Art & Culture,Business & Networking,Community,Upcoming Events
ATTACH;FMTTYPE=image/png:https://urbanham.com/wp-content/uploads/2024/10/ebonyx300.png
END:VEVENT
BEGIN:VEVENT
DTSTART;TZID=UTC:20241024T170000
DTEND;TZID=UTC:20241024T210000
DTSTAMP:20260421T051738
CREATED:20241020T141403Z
LAST-MODIFIED:20241020T141403Z
UID:3272-1729789200-1729803600@urbanham.com
SUMMARY:Entrepreneur Industry Mixer (October 24)
DESCRIPTION:Make you way to VLounge for the Entrepreneur Industry Mixer on Thursday\, October 24th.  Sounds by DJ Desmond Reed.
URL:https://urbanham.com/event/entrepreneur-industry-mixer-october-24/
LOCATION:Birmingham\, AL\, Birmingham\, AL\, 35203\, United States
CATEGORIES:Business & Networking,Food & Drinks,Magic City Classic,Upcoming Events
ATTACH;FMTTYPE=image/jpeg:https://urbanham.com/wp-content/uploads/2024/10/insutryx300.jpg
END:VEVENT
BEGIN:VEVENT
DTSTART;TZID=UTC:20241024T073000
DTEND;TZID=UTC:20241024T090000
DTSTAMP:20260421T051738
CREATED:20241020T131157Z
LAST-MODIFIED:20241020T131403Z
UID:3242-1729755000-1729760400@urbanham.com
SUMMARY:The Magic City HBCU Breakfast (October 24)
DESCRIPTION:In honor of HBCUs throughout our state\, on Thursday\, Oct. 24 from 7:30 to 9 a.m. at The Harbert Center\, we invite you to join us for our annual Magic City HBCU Breakfast\, presented by Spire. This year’s event will benefit the United Negro College Fund (UNCF)\, the nation’s largest and most effective minority education organization. \nThis year’s event takes a fresh focus and emphasis on the essential collaboration between the business community and HBCUs. We will explore the profound impact of these collaborations on our business community. By engaging with HBCUs\, local businesses gain access to a rich pool of diverse talent\, empowering them to advance their DEI objectives and create a more inclusive environment. Moreover\, these partnerships play a pivotal role in providing exceptional opportunities for HBCU students to excel and contribute to our region’s economic growth. \nThe keynote speaker is Lodriguez Murray. Murray is a seasoned advocate for higher education with a focus on federal policy. He has been instrumental in securing significant funding and legislative support for HBCUs and their students. His advocacy has resulted in millions of dollars in federal aid and critical policy changes. Prior to joining UNCF\, Murray held government affairs positions at various organizations. \nThe Harbert Center\n2019 4th Ave N\nBirmingham AL 35203\, US\n7:30am – 9:30am
URL:https://urbanham.com/event/the-magic-city-hbcu-breakfast-october-24/
LOCATION:Birmingham\, AL\, Birmingham\, AL\, 35203\, United States
CATEGORIES:Business & Networking,Magic City Classic,Upcoming Events
ATTACH;FMTTYPE=image/png:https://urbanham.com/wp-content/uploads/2024/10/LodriguezMurrayx300.png
END:VEVENT
BEGIN:VEVENT
DTSTART;TZID=UTC:20241023T210000
DTEND;TZID=UTC:20241023T233000
DTSTAMP:20260421T051738
CREATED:20241021T133403Z
LAST-MODIFIED:20241021T133916Z
UID:3380-1729717200-1729726200@urbanham.com
SUMMARY:Classic Status at Uptown Jazz (October 23)
DESCRIPTION:Hosted by Senate Minority Leader Bobby Singleton and House Minority Leader Anthony Daniels on Wednesday\, October 23rd at Uptown Jazz! Chris Coleman will be in the mix!
URL:https://urbanham.com/event/classic-status-at-uptown-jazz-october-23/
LOCATION:Birmingham\, AL\, Birmingham\, AL\, 35203\, United States
CATEGORIES:Business & Networking,Food & Drinks,Live Music,Magic City Classic,Things to do,Upcoming Events
ATTACH;FMTTYPE=image/png:https://urbanham.com/wp-content/uploads/2024/10/classicstatusx300.png
END:VEVENT
BEGIN:VEVENT
DTSTART;TZID=UTC:20241022T180000
DTEND;TZID=UTC:20241022T220000
DTSTAMP:20260421T051738
CREATED:20241018T182256Z
LAST-MODIFIED:20241018T183004Z
UID:3217-1729620000-1729634400@urbanham.com
SUMMARY:Privilege - An Invitation Only Event (October 22)
DESCRIPTION:Hemings located at 1623 2nd Avenue North\, Birmingham\, AL. Valet Parking\, Complimentary Cocktails and Hors d’oeuvres.  Invitation Key or Guest List required for Entry. \n1623 2nd Avenue North\, Birmingham\, AL
URL:https://urbanham.com/event/privilege-an-invitation-only-event-october-22/
LOCATION:Birmingham\, AL\, Birmingham\, AL\, 35203\, United States
CATEGORIES:Business & Networking,Magic City Classic,Things to do,Upcoming Events
ATTACH;FMTTYPE=image/png:https://urbanham.com/wp-content/uploads/2024/10/priveledgex300.png
END:VEVENT
BEGIN:VEVENT
DTSTART;TZID=UTC:20241021T173000
DTEND;TZID=UTC:20241021T210000
DTSTAMP:20260421T051738
CREATED:20241007T182353Z
LAST-MODIFIED:20241007T184526Z
UID:3087-1729531800-1729544400@urbanham.com
SUMMARY:Network 'n' Chill Birmingham (October 21)
DESCRIPTION:The 2024 Season Finale of Network ‘n’ Chill Birmingham will be Monday\, October 21\, 2024 at Michaels Restaurant on the rooftop from 5:30pm – 9:00pm.  Complimentary Hors d’oeuvers. Free to attend! Register today at https://inmm.group/network-n-chill-birmingham-registration/ \n 
URL:https://urbanham.com/event/network-n-chill-birmingham-october-21/
LOCATION:Birmingham\, AL\, Birmingham\, AL\, 35203\, United States
CATEGORIES:Business & Networking,Food & Drinks,Things to do,Upcoming Events
ATTACH;FMTTYPE=image/png:https://urbanham.com/wp-content/uploads/2024/10/NetworkAndChillx300.png
END:VEVENT
BEGIN:VEVENT
DTSTART;TZID=UTC:20240627T120000
DTEND;TZID=UTC:20240629T230000
DTSTAMP:20260421T051738
CREATED:20240625T132132Z
LAST-MODIFIED:20240702T124848Z
UID:2401-1719489600-1719702000@urbanham.com
SUMMARY:Sloss Tech 2024
DESCRIPTION:Sloss Tech week is here! Hometown hero Roy Wood\, Jr. will kick things off on Thursday\, June 27 and we’ll close day one with a VIP rooftop party with DJ Gina Tollese.\n\n\n\nThursday keynotes highlights include:\n\n\n\nDona Sarkar (Microsoft AI & Copilot)\nFrances Haugen (Scientist\, Engineer\, Facebook Whistleblower)\n\n\n\nCheck the website at http://sloss.tech for the full\, two-day agenda.
URL:https://urbanham.com/event/sloss-tech-2024/
CATEGORIES:Business & Networking,DJ,Featured Events,Food & Drinks,Things to do,Upcoming Events
ATTACH;FMTTYPE=image/png:https://urbanham.com/wp-content/uploads/2024/06/slosstechx300.png
END:VEVENT
BEGIN:VEVENT
DTSTART;TZID=UTC:20240624T173000
DTEND;TZID=UTC:20240624T210000
DTSTAMP:20260421T051738
CREATED:20240513T150524Z
LAST-MODIFIED:20240621T215314Z
UID:2263-1719250200-1719262800@urbanham.com
SUMMARY:Network & Chill Birmingham
DESCRIPTION:Network & Chill Birmingham is Monday\, June 24th at Michael’s Restaurant (Bar Sebastian) on Monday\, June 24th from 5:30pm – 9:00pm.  This event is FREE to attend with registration. Register at https://inmm.group/network-n-chill-birmingham-registration/
URL:https://urbanham.com/event/network-chill-birmingham/
LOCATION:Birmingham\, AL\, Birmingham\, AL\, 35203\, United States
CATEGORIES:Business & Networking,Featured Events,Food & Drinks,Upcoming Events
ATTACH;FMTTYPE=image/png:https://urbanham.com/wp-content/uploads/2024/05/NetworkAndChillx300.png
END:VEVENT
BEGIN:VEVENT
DTSTART;TZID=UTC:20240619T170000
DTEND;TZID=UTC:20240620T173000
DTSTAMP:20260421T051738
CREATED:20240413T205942Z
LAST-MODIFIED:20240604T015410Z
UID:2167-1718816400-1718904600@urbanham.com
SUMMARY:I See Me\, Inc. Literacy Summit (June 19 - June 20)
DESCRIPTION:I SEE ME\, INC. LITERACY SUMMIT\n\n The I See Me Literacy Summit and Reception presented by Books-A-Million\, seeks to equip the community with the tools necessary to raise extraordinary readers\, who will become tomorrow’s leaders\, through the exposure of knowledge from skilled experts in literacy education. The summit will engage educators\, parents\, and other educational stakeholders through speakers and panels\, sessions\, and collaborative information sharing. The reception will afford you the opportunity to meet the speakers and network with other educators\, parents and stakeholders.
URL:https://urbanham.com/event/i-see-me-inc-literacy-summit-june-19-june-20/
LOCATION:Birmingham\, AL\, Birmingham\, AL\, 35203\, United States
CATEGORIES:Business & Networking,Education,Featured Events
ATTACH;FMTTYPE=image/png:https://urbanham.com/wp-content/uploads/2024/04/ISeeMeLiteracySummitx300.png
END:VEVENT
BEGIN:VEVENT
DTSTART;TZID=UTC:20240427T110000
DTEND;TZID=UTC:20240427T140000
DTSTAMP:20260421T051738
CREATED:20240403T182159Z
LAST-MODIFIED:20240403T182244Z
UID:2049-1714215600-1714226400@urbanham.com
SUMMARY:ABWA 5th Annual Big Hat Brunch
DESCRIPTION:The ABWA Fifth Annual Big Heat Brunch: Women in Leadership – Positioning Yourself For The Role You Deserve! \nSaturday\, April 27\, 2024 from 11am – 2pm at the City Club Birmingham \nFor more information contact chair Veronica Wallace Anderson (205) 603-7988 or a Heart of Birmingham Chapter Member.
URL:https://urbanham.com/event/abwa-5th-annual-big-hat-brunch/
LOCATION:Birmingham\, AL\, Birmingham\, AL\, 35203\, United States
CATEGORIES:Business & Networking,Community,Upcoming Events
ATTACH;FMTTYPE=image/png:https://urbanham.com/wp-content/uploads/2024/04/bighatx300.png
END:VEVENT
BEGIN:VEVENT
DTSTART;TZID=UTC:20240414T140000
DTEND;TZID=UTC:20240414T170000
DTSTAMP:20260421T051738
CREATED:20240403T184027Z
LAST-MODIFIED:20240403T184157Z
UID:2061-1713103200-1713114000@urbanham.com
SUMMARY:Put Some Spring Into Your Step Women's Empowerment Brunch
DESCRIPTION:Put Some Spring Into Your Step Women’s Empowerment Brunch!  April 14th starting at 2pm. \nEpic Center – 1301 3rd Avenue West\, Birmingham\, AL 35208. \nFor information call (205) 212-0399
URL:https://urbanham.com/event/2061/
LOCATION:Birmingham\, AL\, Birmingham\, AL\, 35203\, United States
CATEGORIES:Brunch,Business & Networking,Upcoming Events
ATTACH;FMTTYPE=image/png:https://urbanham.com/wp-content/uploads/2024/04/springx300.png
END:VEVENT
BEGIN:VEVENT
DTSTART;TZID=UTC:20240327T140000
DTEND;TZID=UTC:20240327T170000
DTSTAMP:20260421T051738
CREATED:20240304T190457Z
LAST-MODIFIED:20240324T144822Z
UID:1377-1711548000-1711558800@urbanham.com
SUMMARY:HBCU Spring Coming x Birmingham
DESCRIPTION:HBCU Spring Coming is back in Birmingham for another year.  Check out the great opportunities for HBCU students and alumni at https://hbcuspringcoming.com/ \nThere will be a full weekend of events posted soon to the website. \n \n \n \n \n 
URL:https://urbanham.com/event/hbcu-sprincoming-x-birmingham/
LOCATION:Birmingham\, AL\, Birmingham\, AL\, 35203\, United States
CATEGORIES:Business & Networking,HBCU,Upcoming Events
ATTACH;FMTTYPE=image/png:https://urbanham.com/wp-content/uploads/2024/03/springx300.png
END:VEVENT
BEGIN:VEVENT
DTSTART;TZID=UTC:20240324T100000
DTEND;TZID=UTC:20240324T120000
DTSTAMP:20260421T051738
CREATED:20240315T230918Z
LAST-MODIFIED:20240315T231043Z
UID:1858-1711274400-1711281600@urbanham.com
SUMMARY:95.7 Jamz Women's Empowerment Brunch
DESCRIPTION:The 95.7 Jamz\, Black Women’s Roundtable\, and Max Transit present the Women’s Empowerment Brunch focused on motivating our female audience and the women in our surrounding communities during Women’s History Month. The brunch will be an intimate in person experience with 50 attendees\, the ladies of 95.7 JAMZ\, and our special guest speakers. This year’s brunch will take place at Michael’s Restaurant from 10a-12p\, and brunch will be provided to all attendees. This networking brunch will be hosted by the ladies of 95.7 JAMZ\, Diamond Tyleir and K. Samone with music provided by DJ Gorgeous. There will be plenty of networking\, prize giveaways\, surprise guest appearances and more. \nMichael’s Restaurant\n1525 1st Ave South\nBirmingham\, AL 35233
URL:https://urbanham.com/event/957-jamz-womens-empowerment-brunch/
LOCATION:Birmingham\, AL\, Birmingham\, AL\, 35203\, United States
CATEGORIES:Brunch,Business & Networking,Food & Drinks,Upcoming Events
ATTACH;FMTTYPE=image/jpeg:https://urbanham.com/wp-content/uploads/2024/03/womenbrunchx300.jpg
END:VEVENT
BEGIN:VEVENT
DTSTART;TZID=UTC:20240314T130000
DTEND;TZID=UTC:20240314T160000
DTSTAMP:20260421T051738
CREATED:20240304T155100Z
LAST-MODIFIED:20240309T181453Z
UID:1329-1710421200-1710432000@urbanham.com
SUMMARY:Alabama Media Professionals Presents Women In Media Panel and Workshop
DESCRIPTION:Alabama Media Professionals Presents Women In Media Panel and Workshop \nIt’s a Celebration of Communicators Coming Together in Birmingham! \nJoin us on Thursday March 14\, for Alabama Media Professionals Women in Media panel discussion\, Q&A\, and workshop. This event aims to empower women who are interested in journalism\, media\, and press by offering an insightful panel discussion and networking opportunity while celebrating prominent women leaders in the city of Birmingham. In addition\, each participant will leave with tools and knowledge to create digital business cards. \nIn honor of Women’s Appreciation Month in March\, Alabama Media Professionals will host a Women In Media Panel and Workshop from 1 p.m. to 3 p.m. on March 14 in Balton Kirkwood Theatre at Miles College. The fee for professionals is $25\, $10 for AMP members and free for students. To register for the event\, go to https://www.almediaprofessionals.org/future-events.
URL:https://urbanham.com/event/alabama-media-professionals-presents-women-in-media-panel-and-workshop/
LOCATION:Birmingham\, AL\, Birmingham\, AL\, 35203\, United States
CATEGORIES:Business & Networking,Upcoming Events
ATTACH;FMTTYPE=image/jpeg:https://urbanham.com/wp-content/uploads/2024/03/womenx300.jpg
ORGANIZER;CN="Alabama Media Professionals":MAILTO:alabamamediaprofessionalsedf@gmail.com
END:VEVENT
END:VCALENDAR