BEGIN:VCALENDAR
VERSION:2.0
PRODID:-//Urbanham.com - ECPv6.15.20//NONSGML v1.0//EN
CALSCALE:GREGORIAN
METHOD:PUBLISH
X-ORIGINAL-URL:https://urbanham.com
X-WR-CALDESC:Events for Urbanham.com
REFRESH-INTERVAL;VALUE=DURATION:PT1H
X-Robots-Tag:noindex
X-PUBLISHED-TTL:PT1H
BEGIN:VTIMEZONE
TZID:UTC
BEGIN:STANDARD
TZOFFSETFROM:+0000
TZOFFSETTO:+0000
TZNAME:UTC
DTSTART:20240101T000000
END:STANDARD
END:VTIMEZONE
BEGIN:VEVENT
DTSTART;TZID=UTC:20251205T190000
DTEND;TZID=UTC:20251206T210000
DTSTAMP:20260424T185313
CREATED:20251129T065328Z
LAST-MODIFIED:20251129T222341Z
UID:5199-1764961200-1765054800@urbanham.com
SUMMARY:Steve Brown LIVE at the Stardome (December 5 - 6)
DESCRIPTION:High-energy\, tattooed and branded comedian Steve Brown delivers an unforgettable weekend of stand-up.
URL:https://urbanham.com/event/steve-brown/
LOCATION:Hoover\, Alabama
CATEGORIES:Comedy,Comedy Show,Featured Events,Things to do,Upcoming Events
ATTACH;FMTTYPE=image/png:https://urbanham.com/wp-content/uploads/2025/11/stevebrownx300.png
ORGANIZER;CN="Stardome Comedy Club":MAILTO:info@stardome.com
END:VEVENT
BEGIN:VEVENT
DTSTART;TZID=UTC:20251207T180000
DTEND;TZID=UTC:20251207T180000
DTSTAMP:20260424T185313
CREATED:20251129T065329Z
LAST-MODIFIED:20251129T222850Z
UID:5200-1765130400-1765130400@urbanham.com
SUMMARY:Sammy Obeid LIVE at the Stardome (December 7\, 2025)
DESCRIPTION:Lebanese-Palestinian American\, born in Oakland California\, Sammy Obeid double majored in Business and Mathematics at UC Berkeley and then turned down a job at Google to be a comedian. Now the host of 100 Humans on Netflix\, he’s also appeared on NBC’s Last Comic Standing and America’s Got Talent\, as well as TBS’s Conan\, and is best known for his world record of performing comedy 1\,001 nights in a row\, a story featured in both Time Magazine and The New York Times.
URL:https://urbanham.com/event/sammy-obeid/
LOCATION:Hoover\, Alabama
CATEGORIES:Comedy Show,Featured Events,Food & Drinks,Things to do,Upcoming Events
ATTACH;FMTTYPE=image/png:https://urbanham.com/wp-content/uploads/2025/11/SammyObeidx300.png
ORGANIZER;CN="Stardome Comedy Club":MAILTO:info@stardome.com
END:VEVENT
BEGIN:VEVENT
DTSTART;TZID=UTC:20251219T190000
DTEND;TZID=UTC:20251219T190000
DTSTAMP:20260424T185313
CREATED:20251129T065340Z
LAST-MODIFIED:20251129T065340Z
UID:5206-1766170800-1766170800@urbanham.com
SUMMARY:Darren Knight A.k.a Southern Mama
DESCRIPTION:Viral sensation Darren Knight aka Southern Momma brings his high-energy Southern comedy.
URL:https://urbanham.com/event/darren-knight-a-k-a-southern-mama/
CATEGORIES:Comedy Show
END:VEVENT
END:VCALENDAR