BEGIN:VCALENDAR
VERSION:2.0
PRODID:-//Urbanham.com - ECPv6.15.20//NONSGML v1.0//EN
CALSCALE:GREGORIAN
METHOD:PUBLISH
X-WR-CALNAME:Urbanham.com
X-ORIGINAL-URL:https://urbanham.com
X-WR-CALDESC:Events for Urbanham.com
REFRESH-INTERVAL;VALUE=DURATION:PT1H
X-Robots-Tag:noindex
X-PUBLISHED-TTL:PT1H
BEGIN:VTIMEZONE
TZID:UTC
BEGIN:STANDARD
TZOFFSETFROM:+0000
TZOFFSETTO:+0000
TZNAME:UTC
DTSTART:20240101T000000
END:STANDARD
END:VTIMEZONE
BEGIN:VEVENT
DTSTART;TZID=UTC:20251108T173000
DTEND;TZID=UTC:20251108T223000
DTSTAMP:20260420T061317
CREATED:20251108T051855Z
LAST-MODIFIED:20251108T052038Z
UID:4987-1762623000-1762641000@urbanham.com
SUMMARY:T.I. LIVE at the Stardome (November 7 - 8)
DESCRIPTION: 
URL:https://urbanham.com/event/t-i-live-at-the-stardome-november-7-8/
LOCATION:AL
CATEGORIES:Comedy,Featured Events,Things to do,Upcoming Events
ATTACH;FMTTYPE=image/png:https://urbanham.com/wp-content/uploads/2025/11/tix300.png
END:VEVENT
END:VCALENDAR