BEGIN:VCALENDAR
VERSION:2.0
PRODID:-//Urbanham.com - ECPv6.15.20//NONSGML v1.0//EN
CALSCALE:GREGORIAN
METHOD:PUBLISH
X-ORIGINAL-URL:https://urbanham.com
X-WR-CALDESC:Events for Urbanham.com
REFRESH-INTERVAL;VALUE=DURATION:PT1H
X-Robots-Tag:noindex
X-PUBLISHED-TTL:PT1H
BEGIN:VTIMEZONE
TZID:UTC
BEGIN:STANDARD
TZOFFSETFROM:+0000
TZOFFSETTO:+0000
TZNAME:UTC
DTSTART:20240101T000000
END:STANDARD
END:VTIMEZONE
BEGIN:VEVENT
DTSTART;TZID=UTC:20251130T183000
DTEND;TZID=UTC:20251130T183000
DTSTAMP:20260419T225524
CREATED:20251129T065325Z
LAST-MODIFIED:20251129T070932Z
UID:5197-1764527400-1764527400@urbanham.com
SUMMARY:Sunday Funnies Comedy Show (November 30)
DESCRIPTION:Sunday night showcase featuring JB Robinson\, DJ George\, Jaquez J\, Mr. Peanut Butter\, Solo Jones and host Bennie Mac.
URL:https://urbanham.com/event/sunday-funnies-comedy-show/
LOCATION:Hoover\, Alabama
CATEGORIES:Comedy,Featured Events,Food & Drinks,Upcoming Events
ATTACH;FMTTYPE=image/png:https://urbanham.com/wp-content/uploads/2025/11/funniesx300.png
ORGANIZER;CN="Stardome Comedy Club":MAILTO:info@stardome.com
END:VEVENT
END:VCALENDAR