BEGIN:VCALENDAR
VERSION:2.0
PRODID:-//Urbanham.com - ECPv6.15.20//NONSGML v1.0//EN
CALSCALE:GREGORIAN
METHOD:PUBLISH
X-WR-CALNAME:Urbanham.com
X-ORIGINAL-URL:https://urbanham.com
X-WR-CALDESC:Events for Urbanham.com
REFRESH-INTERVAL;VALUE=DURATION:PT1H
X-Robots-Tag:noindex
X-PUBLISHED-TTL:PT1H
BEGIN:VTIMEZONE
TZID:UTC
BEGIN:STANDARD
TZOFFSETFROM:+0000
TZOFFSETTO:+0000
TZNAME:UTC
DTSTART:20240101T000000
END:STANDARD
END:VTIMEZONE
BEGIN:VEVENT
DTSTART;TZID=UTC:20251205T190000
DTEND;TZID=UTC:20251206T210000
DTSTAMP:20260419T210855
CREATED:20251129T065328Z
LAST-MODIFIED:20251129T222341Z
UID:5199-1764961200-1765054800@urbanham.com
SUMMARY:Steve Brown LIVE at the Stardome (December 5 - 6)
DESCRIPTION:High-energy\, tattooed and branded comedian Steve Brown delivers an unforgettable weekend of stand-up.
URL:https://urbanham.com/event/steve-brown/
LOCATION:Hoover\, Alabama
CATEGORIES:Comedy,Comedy Show,Featured Events,Things to do,Upcoming Events
ATTACH;FMTTYPE=image/png:https://urbanham.com/wp-content/uploads/2025/11/stevebrownx300.png
ORGANIZER;CN="Stardome Comedy Club":MAILTO:info@stardome.com
END:VEVENT
END:VCALENDAR