BEGIN:VCALENDAR
VERSION:2.0
PRODID:-//Urbanham.com - ECPv6.15.20//NONSGML v1.0//EN
CALSCALE:GREGORIAN
METHOD:PUBLISH
X-WR-CALNAME:Urbanham.com
X-ORIGINAL-URL:https://urbanham.com
X-WR-CALDESC:Events for Urbanham.com
REFRESH-INTERVAL;VALUE=DURATION:PT1H
X-Robots-Tag:noindex
X-PUBLISHED-TTL:PT1H
BEGIN:VTIMEZONE
TZID:UTC
BEGIN:STANDARD
TZOFFSETFROM:+0000
TZOFFSETTO:+0000
TZNAME:UTC
DTSTART:20250101T000000
END:STANDARD
END:VTIMEZONE
BEGIN:VEVENT
DTSTART;TZID=UTC:20260109T000000
DTEND;TZID=UTC:20260110T000000
DTSTAMP:20260419T133013
CREATED:20251129T065356Z
LAST-MODIFIED:20251201T222741Z
UID:5211-1767916800-1768003200@urbanham.com
SUMMARY:Special Event: Lil Duval
DESCRIPTION:Grand Hustle comedian Lil Duval brings his signature Southern comedy for a special event weekend.
URL:https://urbanham.com/event/special-event-lil-duval/
LOCATION:AL
CATEGORIES:Comedy,Food & Drinks,Things to do,Upcoming Events
ATTACH;FMTTYPE=image/png:https://urbanham.com/wp-content/uploads/2025/11/lilduvalx300.png
END:VEVENT
END:VCALENDAR