BEGIN:VCALENDAR
VERSION:2.0
PRODID:-//Urbanham.com - ECPv6.15.20//NONSGML v1.0//EN
CALSCALE:GREGORIAN
METHOD:PUBLISH
X-WR-CALNAME:Urbanham.com
X-ORIGINAL-URL:https://urbanham.com
X-WR-CALDESC:Events for Urbanham.com
REFRESH-INTERVAL;VALUE=DURATION:PT1H
X-Robots-Tag:noindex
X-PUBLISHED-TTL:PT1H
BEGIN:VTIMEZONE
TZID:UTC
BEGIN:STANDARD
TZOFFSETFROM:+0000
TZOFFSETTO:+0000
TZNAME:UTC
DTSTART:20250101T000000
END:STANDARD
END:VTIMEZONE
BEGIN:VEVENT
DTSTART;TZID=UTC:20260116T190000
DTEND;TZID=UTC:20260118T210000
DTSTAMP:20260420T074844
CREATED:20251129T065813Z
LAST-MODIFIED:20251201T224322Z
UID:5222-1768590000-1768770000@urbanham.com
SUMMARY:Special Event: D.L. Hughley LIVE at the Stardome (January 16 - 18)
DESCRIPTION:Original King of Comedy and political voice D.L. Hughley headlines a StarDome weekend.
URL:https://urbanham.com/event/special-event-d-l-hughley/
LOCATION:Hoover\, Alabama
CATEGORIES:Comedy,Featured Events,Food & Drinks,Special Event / Comedy Show,Things to do,Upcoming Events
ATTACH;FMTTYPE=image/png:https://urbanham.com/wp-content/uploads/2025/11/DLHughley.png
END:VEVENT
BEGIN:VEVENT
DTSTART;TZID=UTC:20260220T190000
DTEND;TZID=UTC:20260221T230000
DTSTAMP:20260420T074844
CREATED:20251129T065614Z
LAST-MODIFIED:20251130T004022Z
UID:5218-1771614000-1771714800@urbanham.com
SUMMARY:Special Event: Corey Holcomb LIVE at the Stardome (February 20 - 21)
DESCRIPTION:Unapologetically raw relationship comedy from Corey Holcomb. \nGoing from hanging in the hood to performing comedy on Jay Leno’s “Tonight Show\,” Corey Holcomb’s comedy genius transcends class and racial divides. People all over the world can relate to the drama of trying to make a relationship work. According to Corey\, a “hunter” (man) being captured by his “prey” (woman) makes for the best comedy ever.
URL:https://urbanham.com/event/special-event-corey-holcomb/
LOCATION:Hoover\, Alabama
CATEGORIES:Comedy,Featured Events,Food & Drinks,Special Event / Comedy Show,Things to do,Upcoming Events
ATTACH;FMTTYPE=image/png:https://urbanham.com/wp-content/uploads/2025/11/CoreyHolcomb.png
ORGANIZER;CN="Stardome Comedy Club":MAILTO:info@stardome.com
END:VEVENT
BEGIN:VEVENT
DTSTART;TZID=UTC:20260321T200000
DTEND;TZID=UTC:20260321T230000
DTSTAMP:20260420T074844
CREATED:20260228T031821Z
LAST-MODIFIED:20260228T032438Z
UID:6226-1774123200-1774134000@urbanham.com
SUMMARY:Mike Epps Brings “We Them Ones” Comedy Tour to Birmingham’s Legacy Arena (March 21)
DESCRIPTION:Birmingham\, get ready to laugh out loud. \nBMN Entertainment & Mike Epps present the “We Them Ones” Comedy Tour on Saturday\, March 21 at Legacy Arena. \nHeadlined by comedy heavyweight Mike Epps\, the tour features an all-star lineup including: \n\nKarlous Miller\nDC Young Fly\nChico Bean\nMojo Brookzz\nTony Roberts\nJust Nesh\nNavv Greene\n\nKnown for his sharp wit\, unfiltered humor\, and decades-long presence in stand-up and film\, Mike Epps continues to deliver high-energy performances that pack arenas across the country. With a lineup stacked with some of today’s most recognizable comedy voices\, this show promises a night of nonstop laughs. \n📍 Legacy Arena – Birmingham\, Alabama📅 Saturday\, March 21🎟 Tickets available at: BMNShows.com \nIf you love live comedy and big-stage energy\, this is one show you don’t want to miss.
URL:https://urbanham.com/event/mike-epps-brings-we-them-ones-comedy-tour-to-birminghams-legacy-arena-march-21/
LOCATION:Birmingham\, AL\, Birmingham\, AL\, 35203\, United States
CATEGORIES:Comedy,Things to do,Upcoming Events
ATTACH;FMTTYPE=image/jpeg:https://urbanham.com/wp-content/uploads/2026/02/597377364_33901406706125268_6299462368793557611_n.jpg
END:VEVENT
BEGIN:VEVENT
DTSTART;TZID=UTC:20260612T190000
DTEND;TZID=UTC:20260613T230000
DTSTAMP:20260420T074844
CREATED:20251129T065817Z
LAST-MODIFIED:20251129T223638Z
UID:5225-1781290800-1781391600@urbanham.com
SUMMARY:Special Event: Akaash Singh LIVE at the Stardome (June 12 - 13)
DESCRIPTION:Flagrant co-host and standout stand-up Akaash Singh headlines a StarDome weekend. \nAkaash Singh is a nationally touring stand up comedian\, podcaster\, and actor. His career took off with many television shows including MTV’s “Guy Code” and “Wild’n Out\,” Netflix’s “Brown Nation\,” and HBO’s “The Leftovers” After finding success in TV\, he pivoted his focus toward growing the now hugely successful podcast “Flagrant\,” co-created with fellow comedian and good friend\, Andrew Schulz\, along with touring and pop his stand up career. Akaash self-produced and directed his first stand up special\, “Bring Back Apu” in February\, amassing over a million views in its first week alone. Just one month later\, he released “The Crowdwork Special\,” putting him in rarified air of comedians who produced two specials in back to back months. Aside from stand up\, look for Akaash as the lead in the Netflix Animated Series “Conquest” as well as a Hulu series created by Ramy Youssef.
URL:https://urbanham.com/event/special-event-akaash-singh/
LOCATION:Hoover\, Alabama
CATEGORIES:Comedy,Food & Drinks,Special Event / Comedy Show,Things to do,Upcoming Events
ATTACH;FMTTYPE=image/png:https://urbanham.com/wp-content/uploads/2025/11/AkaashSingh.png
ORGANIZER;CN="Stardome Comedy Club":MAILTO:info@stardome.com
END:VEVENT
END:VCALENDAR