BEGIN:VCALENDAR
VERSION:2.0
PRODID:-//Urbanham.com - ECPv6.15.20//NONSGML v1.0//EN
CALSCALE:GREGORIAN
METHOD:PUBLISH
X-ORIGINAL-URL:https://urbanham.com
X-WR-CALDESC:Events for Urbanham.com
REFRESH-INTERVAL;VALUE=DURATION:PT1H
X-Robots-Tag:noindex
X-PUBLISHED-TTL:PT1H
BEGIN:VTIMEZONE
TZID:UTC
BEGIN:STANDARD
TZOFFSETFROM:+0000
TZOFFSETTO:+0000
TZNAME:UTC
DTSTART:20240101T000000
END:STANDARD
END:VTIMEZONE
BEGIN:VEVENT
DTSTART;TZID=UTC:20251103T173000
DTEND;TZID=UTC:20251103T200000
DTSTAMP:20260423T205225
CREATED:20251101T124812Z
LAST-MODIFIED:20251101T124812Z
UID:4910-1762191000-1762200000@urbanham.com
SUMMARY:A Salute to Alpha Excellence (November 3)
DESCRIPTION:A Salute to Alpha Excellence: A Reception Honoring Mayor Randall Woodin and Police Chief Michael Pickett.  This event is open to the public and other Divine 9 Organizations.
URL:https://urbanham.com/event/a-salute-to-alpha-excellence-november-3/
LOCATION:Birmingham\, AL\, Birmingham\, AL\, 35203\, United States
CATEGORIES:Community,Featured Events,Upcoming Events
ATTACH;FMTTYPE=image/png:https://urbanham.com/wp-content/uploads/2025/11/AlphaExcellencex300.png
END:VEVENT
BEGIN:VEVENT
DTSTART;TZID=UTC:20251113T100000
DTEND;TZID=UTC:20251113T130000
DTSTAMP:20260423T205225
CREATED:20251105T150240Z
LAST-MODIFIED:20251105T150240Z
UID:4976-1763028000-1763038800@urbanham.com
SUMMARY:West Jefferson Second Chance Hiring Fair (November 13)
DESCRIPTION:Whether you’re looking for a new start\, new staff\, or new ways to support workforce development\, the West Jefferson Second Chance Hiring Fair is the place to be. \nParticipants can scan the event QR code to register in advance. For more information\, contact the Jefferson County District Attorney’s Office\, Bessemer Division\, at 205-497-8610.
URL:https://urbanham.com/event/west-jefferson-second-chance-hiring-fair-november-13/
LOCATION:Bessemer\, Alabama\, AL\, United States
CATEGORIES:Community,Featured Events,Upcoming Events
ATTACH;FMTTYPE=image/png:https://urbanham.com/wp-content/uploads/2025/11/2ndchancex300.png
END:VEVENT
END:VCALENDAR