BEGIN:VCALENDAR
VERSION:2.0
PRODID:-//Urbanham.com - ECPv6.15.20//NONSGML v1.0//EN
CALSCALE:GREGORIAN
METHOD:PUBLISH
X-ORIGINAL-URL:https://urbanham.com
X-WR-CALDESC:Events for Urbanham.com
REFRESH-INTERVAL;VALUE=DURATION:PT1H
X-Robots-Tag:noindex
X-PUBLISHED-TTL:PT1H
BEGIN:VTIMEZONE
TZID:UTC
BEGIN:STANDARD
TZOFFSETFROM:+0000
TZOFFSETTO:+0000
TZNAME:UTC
DTSTART:20250101T000000
END:STANDARD
END:VTIMEZONE
BEGIN:VEVENT
DTSTART;TZID=UTC:20260519T070000
DTEND;TZID=UTC:20260519T190000
DTSTAMP:20260425T113302
CREATED:20260408T214853Z
LAST-MODIFIED:20260408T215049Z
UID:6856-1779174000-1779217200@urbanham.com
SUMMARY:VOTE - Midterm Election Day Reminder (May 19)
DESCRIPTION:Don’t forget—Midterm Election Day is here. This is your opportunity to make your voice heard on key local\, state\, and national issues that directly impact our communities. \nPolls are open throughout the day. Be sure to check your polling location\, bring a valid ID if required\, and plan your time to vote. \nEvery vote counts—show up and make it matter.
URL:https://urbanham.com/event/vote-midterm-election-day-reminder-may-19/
LOCATION:AL
CATEGORIES:Community,Featured Events,Things to do,Upcoming Events
ATTACH;FMTTYPE=image/png:https://urbanham.com/wp-content/uploads/2026/04/VotingMidTermElections-1.png
END:VEVENT
END:VCALENDAR