BEGIN:VCALENDAR
VERSION:2.0
PRODID:-//Urbanham.com - ECPv6.15.20//NONSGML v1.0//EN
CALSCALE:GREGORIAN
METHOD:PUBLISH
X-WR-CALNAME:Urbanham.com
X-ORIGINAL-URL:https://urbanham.com
X-WR-CALDESC:Events for Urbanham.com
REFRESH-INTERVAL;VALUE=DURATION:PT1H
X-Robots-Tag:noindex
X-PUBLISHED-TTL:PT1H
BEGIN:VTIMEZONE
TZID:UTC
BEGIN:STANDARD
TZOFFSETFROM:+0000
TZOFFSETTO:+0000
TZNAME:UTC
DTSTART:20230101T000000
END:STANDARD
END:VTIMEZONE
BEGIN:VEVENT
DTSTART;TZID=UTC:20241208T160000
DTEND;TZID=UTC:20241208T200000
DTSTAMP:20260425T151102
CREATED:20241128T145024Z
LAST-MODIFIED:20241128T145024Z
UID:3496-1733673600-1733688000@urbanham.com
SUMMARY:City of Birmingham Holiday Block Party (December 8)
DESCRIPTION:Bring you lawn chairs and enjoy an evening of holiday lights\, food trucks and fun in front of City Hall!  Starts at 4pm\, tree lighting at 5:30pm.  For more information visit www.BirminghamAL.gov/TreeLighting
URL:https://urbanham.com/event/city-of-birmingham-holiday-block-party-december-8/
LOCATION:Birmingham City Hall\, 710 20th St N\,\, Birmingham\, AL\, 35203\, United States
CATEGORIES:Community,Education,Featured Events,Food Trucks,Shopping,Things to do,Upcoming Events
ATTACH;FMTTYPE=image/png:https://urbanham.com/wp-content/uploads/2024/11/BlockParty.png
END:VEVENT
END:VCALENDAR