BEGIN:VCALENDAR
VERSION:2.0
PRODID:-//Urbanham.com - ECPv6.15.20//NONSGML v1.0//EN
CALSCALE:GREGORIAN
METHOD:PUBLISH
X-WR-CALNAME:Urbanham.com
X-ORIGINAL-URL:https://urbanham.com
X-WR-CALDESC:Events for Urbanham.com
REFRESH-INTERVAL;VALUE=DURATION:PT1H
X-Robots-Tag:noindex
X-PUBLISHED-TTL:PT1H
BEGIN:VTIMEZONE
TZID:UTC
BEGIN:STANDARD
TZOFFSETFROM:+0000
TZOFFSETTO:+0000
TZNAME:UTC
DTSTART:20250101T000000
END:STANDARD
END:VTIMEZONE
BEGIN:VEVENT
DTSTART;TZID=UTC:20260510T170000
DTEND;TZID=UTC:20260510T200000
DTSTAMP:20260422T225852
CREATED:20260412T023143Z
LAST-MODIFIED:20260414T044049Z
UID:6934-1778432400-1778443200@urbanham.com
SUMMARY:Love\, Laughter & Legacy: Alvin Garrett Brings a Soulful Mother’s Day Experience to Birmingham (May 10)
DESCRIPTION:BIRMINGHAM\, AL — If you’re looking for the perfect way to celebrate Mother’s Day this year\, Alvin Garrett is bringing something special to the Magic City. \nOn Sunday\, May 10\, the historic Carver Theatre will set the stage for “Laughter\, Love & Legacy: A Mother’s Day Celebration”—a one-of-a-kind experience blending live music\, comedy\, and heartfelt moments designed to honor the women who raised us. \nFor Garrett\, this isn’t just another show—it’s personal. \nA Homecoming with Purpose \n“I’m currently promoting a new album entitled Talk To Her Like This\, and this event is the perfect homecoming for my promotional tour\,” Garrett shared. \nThe project centers around love and uplifting women\, making Mother’s Day the ideal backdrop. \n“Why not bring it home on the holiday that we celebrate our mothers and talk to ‘them’ like this…or shall I say sing to them.” \n \nMore Than a Concert — It’s an Experience \nGarrett is intentional about the energy he brings to the stage\, and this show will be no different. \n“When I perform\, I always infuse love and laughter into my shows\,” he said. \nThat balance is key—especially on a day that can carry a range of emotions. \n“Mother’s Day may be a heavy emotional day for some; and I want this experience to be one that puts a smile on everyone’s face as we give flowers to the mothers that are with us and to those that are watching over us.” \n The Carver Theatre Connection \nReturning to the Carver Theatre adds another layer of meaning. \n“About 10 years ago\, I promoted ‘Christmas with The Cats’ at The Carver and it was one of my favorite venues\,” Garrett reflected. \nHe describes the venue as the perfect mix of intimacy and production value—ideal for the type of connection he wants with the audience. \n“I’m hoping this can be the start of a new tradition in Birmingham.” \nBeyond the nostalgia\, the Carver Theatre is experiencing a fresh wave of energy thanks to its recent renovations—earning praise from patrons\, promoters\, and even national touring artists. The upgraded auditorium now features a state-of-the-art audio/visual system\, delivering an immersive experience through enhanced sound\, projection\, and media control capabilities. The redesigned foyer offers a welcoming reception and bar area perfect for pre-show vibes and post-show conversations. Add in the jazz museum on the second floor\, and the Carver has reestablished itself as more than just a historic landmark—it’s a modern\, multi-experience venue built for everything from intimate concerts to full-scale productions. \nA Curated Lineup with Rising Talent \nJoining Garrett on stage are Yoshihanaa and DJ Wright\, both artists he’s actively working with behind the scenes. \n“I wanted to present artists that I am currently producing original music with as well\,” he said. \nFans can even expect to hear brand-new music\, including “Fall In Love Again\,” a record Garrett co-wrote and produced. \n \nHonoring Legacy Through Music \nThe heart of the show is right there in the title—Legacy. \n“Legacy has a soundtrack\,” Garrett explained\, pointing to the timeless influence of artists like Al Green. \nHe’s also planning a special tribute during the show\, including a performance of his song “Flowers\,” designed to honor both present and past mothers. \n“Love and laughter is the key to gracefully embracing the legacy of our mothers.” \nA Message Rooted in Joy \nGarrett credits much of his outlook—and his music—to his own mother. \n“She always taught me to approach life with joy and laughter\,” he said. \nThat message is something he carries into every performance. \n“I try to spread joy and inspiration with my music and my life…even during difficult times.” \n \nWhy You Don’t Want to Miss This \nIf you’ve never experienced Alvin Garrett live\, this is the show to start with. \n“I’ve built a legacy in Birmingham of presenting shows with a high level of professionalism and production quality\,” he said. \nBut this one hits different. \n“I just want to show my gratitude with a performance that everyone can be proud of…especially our mothers.” \nWhat’s Next \nThis Mother’s Day concert is just the beginning. \n“This will be the kickoff show for my ‘Talk To Her Like This’ tour\,” Garrett revealed. \nThe tour will include full-band performances\, media appearances\, and stops across multiple cities as he continues to push his latest album. \n Event Details \nLaughter\, Love & Legacy: A Mother’s Day Celebration\n📅 Sunday\, May 10\n🕔 Doors: 5PM | Show: 6PM\n📍 Carver Theatre – Birmingham\, AL\n🎟️ Tickets: JazzHall.com \n \nStay Connected \nFollow Alvin Garrett for updates: \n\nInstagram / Facebook / TikTok: @thealvingarrett\nWebsite: AlvinGarrett.com
URL:https://urbanham.com/event/love-laughter-legacy-alvin-garrett-brings-a-soulful-mothers-day-experience-to-birmingham-may-10/
LOCATION:The Carver Theatre\, 1631 4th Ave N\, Birmingham\, AL\, 35203\, United States
CATEGORIES:Date Night,Featured Events,Live Music,Things to do,Upcoming Events
ATTACH;FMTTYPE=image/png:https://urbanham.com/wp-content/uploads/2026/04/LLL-AG-1080x1080-1.png
END:VEVENT
BEGIN:VEVENT
DTSTART;TZID=UTC:20260519T070000
DTEND;TZID=UTC:20260519T190000
DTSTAMP:20260422T225852
CREATED:20260408T214853Z
LAST-MODIFIED:20260408T215049Z
UID:6856-1779174000-1779217200@urbanham.com
SUMMARY:VOTE - Midterm Election Day Reminder (May 19)
DESCRIPTION:Don’t forget—Midterm Election Day is here. This is your opportunity to make your voice heard on key local\, state\, and national issues that directly impact our communities. \nPolls are open throughout the day. Be sure to check your polling location\, bring a valid ID if required\, and plan your time to vote. \nEvery vote counts—show up and make it matter.
URL:https://urbanham.com/event/vote-midterm-election-day-reminder-may-19/
LOCATION:AL
CATEGORIES:Community,Featured Events,Things to do,Upcoming Events
ATTACH;FMTTYPE=image/png:https://urbanham.com/wp-content/uploads/2026/04/VotingMidTermElections-1.png
END:VEVENT
BEGIN:VEVENT
DTSTART;TZID=UTC:20260529T170000
DTEND;TZID=UTC:20260530T200000
DTSTAMP:20260422T225852
CREATED:20260421T151535Z
LAST-MODIFIED:20260422T002800Z
UID:7107-1780074000-1780171200@urbanham.com
SUMMARY:Maysa\, Najee and more to be featured in the 2026 Montgomery Smooth Jazz Festival (May 29 - 30)
DESCRIPTION:The smooth sounds of jazz return to the riverfront as the 4th Annual Montgomery Smooth Jazz Festival takes over Riverwalk Amphitheater for a two-day celebration of live music\, culture\, and community. \nSet against the scenic backdrop of downtown Montgomery\, this year’s festival lineup brings together some of the biggest names in smooth jazz\, including Maysa\, Najee\, Jeff Kashiwa\, Steve Oliver\, Jessy J\, Kim Waters\, Jackiem Joyner\, Eric Essix\, Julian Vaughn\, Kyle Turner\, and Viereck Johann. With a mix of national talent and fan favorites\, attendees can expect a weekend filled with soulful performances and unforgettable moments. \n🎷 Two Days of Music on the River \nThe Montgomery Smooth Jazz Festival delivers more than just great music—it’s a full festival experience. Guests can enjoy food trucks\, vendors\, and a vibrant atmosphere that makes it perfect for a weekend getaway or a day trip from Birmingham and surrounding areas. \nWhether you’re a longtime jazz fan or just looking for a relaxing\, high-quality outdoor experience\, this event offers the perfect blend of live entertainment and laid-back vibes along the riverfront. \n📅 Event Details \nLocation: Riverwalk Amphitheater \nFriday\, May 29\, 2026\nGates open at 5:00 PM \nSaturday\, May 30\, 2026\nGates open at 1:00 PM \n🎟️ Tickets & Information \nFor tickets and additional details\, visit:\n👉 montgomerysmoothjazzfestival.org \n🎶 A Weekend Worth the Trip \nWith two days of live music\, a stacked lineup\, and one of the most scenic venues in the state\, the Montgomery Smooth Jazz Festival continues to grow as one of Alabama’s premier music experiences. \nPack your lawn chairs\, bring your friends\, and get ready to enjoy a weekend of smooth jazz\, great food\, and unforgettable energy on the river.
URL:https://urbanham.com/event/maysa-najee-and-more-to-be-featured-in-the-2026-montgomery-smooth-jazz-festival-may-29-30/
LOCATION:Montomery Riverwalk Amphitheater\, 355 Coosa St.\, Montgomery\, AL\, 36104\, United States
CATEGORIES:Featured Events,Food Trucks,Live Music,Things to do,Upcoming Events
ATTACH;FMTTYPE=image/png:https://urbanham.com/wp-content/uploads/2026/04/MontgomerySmoothJazzFestivalx1080-Post.png
END:VEVENT
BEGIN:VEVENT
DTSTART;TZID=UTC:20260619T190000
DTEND;TZID=UTC:20260619T213000
DTSTAMP:20260422T225852
CREATED:20260406T003527Z
LAST-MODIFIED:20260406T004225Z
UID:6761-1781895600-1781904600@urbanham.com
SUMMARY:Pour Minds “Still Sippin’ Tour” Heads to Birmingham for a Night of Unfiltered Conversation (June 19)
DESCRIPTION:Birmingham’s live event calendar continues to heat up this summer as the popular Pour Minds Podcast brings its “Still Sippin’ Tour” to the city for a night of conversation\, storytelling\, and real-life perspectives. \nSet for Friday\, June 19\, 2026 at 7:00 PM\, the tour will take place at Iron City—one of the city’s go-to venues for live experiences and cultural events. \nA Podcast That Keeps It Real \nKnown for its candid and unfiltered discussions\, Pour Minds has built a strong following by tackling topics that resonate—relationships\, life experiences\, personal growth\, and everything in between. \nThe “Still Sippin’ Tour” brings that same energy off the mic and into a live setting\, giving fans a chance to experience the podcast in real time. Expect a mix of storytelling\, humor\, audience interaction\, and the kind of honest dialogue that has made the show a standout. \n \nA Live Experience in the Magic City \nHosted inside Iron City\, the event offers an intimate yet energetic atmosphere where attendees can engage with the hosts and connect with others who follow the platform. \nDoors open for an evening centered around: \n\nLive podcast-style conversation\nAudience engagement and reactions\nA shared experience built on culture\, connection\, and authenticity\n\nWith demand already building\, attendees are encouraged to secure tickets early. \nEvent Details \n📅 Date: Friday\, June 19\, 2026\n⏰ Time: 7:00 PM\n📍 Location: Iron City – Birmingham\, AL\n🎟️ Tickets: Available via Ticketmaster (on sale April 3) \nAbout the Pour Minds Podcast:Hosted by best friends Lex P and Drea Nicole\, the Pour Minds Podcast delivers unfiltered conversations on dating\, relationships\, personal growth\, and pop culture. Known for its bold humor and raw honesty\, the show blends real-life experiences with entertaining storytelling\, creating a space that feels like a candid night out with friends—drinks included. \nTap In \n \nWhether you’re a long-time listener or new to the Pour Minds platform\, this stop in Birmingham is set to deliver a night of real conversation and live energy. \nFor tickets and more information\, visit:\nGet Tickets on Ticketmaster \nWebsite: https://www.pourminds.com/
URL:https://urbanham.com/event/pour-minds-still-sippin-tour-heads-to-birmingham-for-a-night-of-unfiltered-conversation-june-19/
LOCATION:Iron City\, 513 22nd St S\, Birmingham\, AL\, AL\, 35233\, United States
CATEGORIES:Featured Events,Podcast,Things to do,Upcoming Events
ATTACH;FMTTYPE=image/png:https://urbanham.com/wp-content/uploads/2026/04/stillsippinx1024b.png
END:VEVENT
BEGIN:VEVENT
DTSTART;TZID=UTC:20260728T080000
DTEND;TZID=UTC:20260728T170000
DTSTAMP:20260422T225852
CREATED:20260414T165835Z
LAST-MODIFIED:20260414T171758Z
UID:6978-1785225600-1785258000@urbanham.com
SUMMARY:Birmingham Gets Its Wish: Raymond & Brown Bring The R&B Tour to Protective Stadium (July 28)
DESCRIPTION:With decades of chart-topping hits\, cultural influence\, and undeniable stage presence between them\, both Chris Brown and Usher have helped define and evolve modern R&B. From Usher’s era-defining classics like Confessions and must see Vegas residency to Chris Brown’s ability to consistently reinvent the sound and energy of the genre\, each has built a legacy that spans generations of fans. Now\, the name of the tour itself—R&B (Raymond & Brown)—feels like a full-circle moment\, paying homage not only to their last names\, but to the very genre they’ve helped shape\, elevate\, and keep at the forefront of music culture. \nAs soon as the tour was announced\, social media lit up with fans across the city asking the same question—“Is Birmingham getting a date?” The chatter quickly turned into anticipation as locals hoped the Magic City would land on the tour schedule. That excitement was confirmed on Tuesday\, April 14\, when the Birmingham-Jefferson Convention Complex (home of Protective Stadium) officially announced that the Raymond & Brown tour would indeed make a stop in Birmingham. Even Mayor Randall Woodfin joined the conversation with a social media post\, making sure the city—and the internet—knew Birmingham secured its spot on one of the biggest R&B tours of the year. \n \nThe newly announced “R&B Tour” is a co-headlining stadium experience bringing together Chris Brown and Usher—marking a major moment in R&B and a reunion fans didn’t see coming. \n👉 Full tour dates are still being released\, so if Birmingham doesn’t work for you\, don’t stress—this tour is expected to hit major cities across the country with many already being announced. \nSign up now for the artist presale at RAYMONDANDBROWNTOUR.COM
URL:https://urbanham.com/event/birmingham-gets-its-wish-raymond-brown-bring-the-rb-tour-to-protective-stadium-july-28/
LOCATION:Protective Stadium\, 1001 22nd St N\,\, Birmingham\, AL\, 35203\, United States
CATEGORIES:Concerts,Featured Events,Things to do,Upcoming Events
ATTACH;FMTTYPE=image/png:https://urbanham.com/wp-content/uploads/2026/04/ChrisBrownandUsher.png
END:VEVENT
BEGIN:VEVENT
DTSTART;TZID=UTC:20260904T170000
DTEND;TZID=UTC:20260904T220000
DTSTAMP:20260422T225852
CREATED:20260401T015334Z
LAST-MODIFIED:20260401T015825Z
UID:6594-1788541200-1788559200@urbanham.com
SUMMARY:Port City Classic Weekend in Mobile Expands with Star-Studded Tailgate Concert (September 4)
DESCRIPTION:There’s a certain energy that comes with HBCU football weekends — the bands\, the tailgates\, the culture. But in Mobile\, the Port City Classic is quickly becoming something bigger than just a game. \n\n\n\nThis year’s lineup makes that clear. \n\n\n\nSet against the backdrop of Labor Day weekend\, the Port City Classic is building into a full experience\, anchored not only by football but by a growing slate of entertainment\, including a major \nTailgate Concert presented by American Entertainment Group (AEG).  \n \n\n\n\nA Concert That Feels Like Its Own Headliner Event \n\n\n\nTaking place Friday\, September 4th at Ladd-Peebles Stadium\, the Tailgate Concert is shaping up to be one of the weekend’s biggest draws. \n\n\n\nThe lineup leans heavily into Southern soul and crowd favorites\, featuring: \n\n\n\n\nBig Pokey\n\n\n\nCupid\n\n\n\n69 Boyz\n\n\n\nUrban Mystic\n\n\n\nNathaniel Kimble\n\n\n\nFat Daddy\n\n\n\nKai\n\n\n\nIda Lee\n\n\n\nDavid J\n\n\n\n\n…and more acts still to be announced. \n\n\n\nWith gates opening at 5:00 PM and showtime set for 7:30 PM\, the concert sets the tone for the entire weekend — blending nostalgia\, live performance energy\, and the kind of crowd engagement that keeps people coming back year after year. \n\n\n\nFor many\, this won’t just be a pre-game event. It’ll be a destination all on its own. \n\n\n\nMore Than Football — A Full Weekend Experience \n\n\n\nWhile the concert adds major star power\, the Port City Classic continues to build its identity around a full lineup of events that extend beyond the stadium. \n\n\n\nThroughout the weekend\, Mobile becomes a hub for activity\, including: \n\n\n\n\nCommunity events and networking opportunities\n\n\n\nTailgates and fan experiences\n\n\n\nEducational programming like the HBCU Summit\n\n\n\nLive music and cultural activations across the city\n\n\n\n\nIt’s the kind of setup that turns a single game into a weekend people plan trips around. \n\n\n\nWhy It’s Growing \n\n\n\nWhat’s happening with the Port City Classic isn’t by accident. It reflects a larger shift in how events are being built — especially in the South. \n\n\n\nPeople aren’t just looking for a game anymore. They’re looking for an experience. \n\n\n\nAnd Mobile is leaning into that. \n\n\n\nBy combining football\, live entertainment\, and community-driven programming\, the Port City Classic is creating something that: \n\n\n\n\nAttracts visitors from across the region\n\n\n\nDrives hotel stays and local business traffic\n\n\n\nShowcases the cultural impact of HBCUs\n\n\n\nPositions Mobile as a destination city for major events\n\n\n\n\nThe Bigger Picture \n\n\n\nFrom the outside looking in\, this is what successful regional events are starting to look like — layered\, intentional\, and built to serve multiple audiences at once. \n\n\n\nYou’ve got: \n\n\n\n\nFootball fans\n\n\n\nMusic lovers\n\n\n\nAlumni and organizations\n\n\n\nYoung professionals and creatives\n\n\n\n\nAll finding a reason to show up. \n\n\n\nAnd when that happens\, the impact goes beyond entertainment. It becomes economic. \n\n\n\nFinal Thought \n\n\n\nThe Port City Classic is still growing\, but weekends like this show exactly where it’s headed. \n\n\n\nIt’s not just about who’s playing on the field. It’s about what’s happening around it. \n\n\n\nAnd with additions like the AEG Tailgate Concert\, Mobile is making it clear — this isn’t just a game anymore. \n\n\n\nIt’s a full weekend experience. \n\n\n\nTo find out more visit https://www.mobileportcityclassic.com or visit https://www.americanentgroup.com
URL:https://urbanham.com/event/port-city-classic-weekend-in-mobile-expands-with-star-studded-tailgate-concert-september-4/
LOCATION:Mobile\, AL\, 48 Park Lane\, London\, AL\, 36604\, United States
CATEGORIES:Concerts,Featured Events,HBCU,Things to do,Upcoming Events
ATTACH;FMTTYPE=image/png:https://urbanham.com/wp-content/uploads/2026/04/Tailgaetx300.png
END:VEVENT
BEGIN:VEVENT
DTSTART;TZID=UTC:20260926T150000
DTEND;TZID=UTC:20260926T220000
DTSTAMP:20260422T225852
CREATED:20260401T024851Z
LAST-MODIFIED:20260401T025434Z
UID:6607-1790434800-1790460000@urbanham.com
SUMMARY:Wiregrass Heritage Festival Returns to Dothan with Southern Soul Lineup and Outdoor Festival Experience (September 26)
DESCRIPTION:As fall approaches in South Alabama\, one of the region’s most anticipated music events is gearing up for another big year. The Wiregrass Heritage Festival returns to Dothan on Saturday\, September 26\, 2026\, bringing a full evening of Southern Soul\, live entertainment\, and community energy to the National Peanut Festival Fairgrounds. \nIf last year is any indication\, this isn’t just a concert — it’s an experience. \nA Lineup Built for the Culture \nThe 2026 edition of the festival features a strong lineup of Southern Soul artists and performers who know how to connect with a crowd. \nThis year’s performers include: \n\nMarcellus The Singer\nWest Love\nTonio Armani\nYoung Guy\nCupid\nMr. Campbell\nAnthony Q\nBreeze MrDo2Much\nDJ Trucker\n\nHosting duties will be handled by comedian MC Lightfoot\, adding another layer of entertainment throughout the evening. \nWith gates opening at 3:00 PM and the show kicking off at 4:30 PM\, attendees can expect hours of music\, dancing\, and high-energy performances that carry into the night. \n \nAn Outdoor Festival Feel \nSet at the National Peanut Festival Fairgrounds\, the event embraces a laid-back\, outdoor vibe that has become part of its identity. \nGuests are encouraged to bring: \n\nLawn chairs\nSoft or collapsible coolers\nUmbrellas\n\nIt’s a setup that feels more like a community gathering than a traditional concert — where people can settle in\, enjoy the music\, and make a full day out of the experience. \nOrganizers have also made it clear: \n\nNo glass containers\nNo grills or RVs\nNo re-entry once inside\n\nAnd like many outdoor festivals\, the event will take place rain or shine. \nTicket Options and Planning Ahead \nTickets are available now\, with pricing that increases as the event gets closer: \n\n$45 Early Bird (through August 2\, 2026)\n$55 General Admission (August 3 – September 20)\n$65 Week of Show\n$80 Day of Show\n\nFor those looking for a more premium experience\, VIP tickets ($85) offer: \n\nExclusive entrance\nFront-of-stage access\nProvided seating (no chair required)\n\nGiven the festival’s growing popularity\, early purchase is strongly encouraged — especially for those planning to travel in. \nA Growing Regional Draw \nEvents like the Wiregrass Heritage Festival continue to highlight the strength of Alabama’s live entertainment scene beyond its major metro areas. \nDothan\, often considered the heart of the Wiregrass region\, becomes a destination for visitors traveling from across Alabama\, Georgia\, and Florida. That kind of draw brings: \n\nHotel bookings\nRestaurant traffic\nIncreased visibility for local businesses\n\nMore importantly\, it reinforces how music and culture can serve as a unifying force across communities. \nMore Than Just a Festival \nWhat makes the Wiregrass Heritage Festival stand out is its consistency. Year after year\, it delivers an experience that feels familiar but continues to grow. \nIt’s where: \n\nSouthern Soul fans show up in full force\nFriends and families gather\nMusic\, laughter\, and culture all meet in one space\n\nFinal Word \nFor those looking to close out September with good music and good energy\, Dothan will once again be the place to be. \nThe Wiregrass Heritage Festival isn’t trying to be anything complicated — and that’s exactly why it works. \nIt’s simple:\n👉 Good music.\n👉 Good people.\n👉 A good time. \n🎟️ Tickets and event details:\nwww.WiregrassHeritageFestival.com
URL:https://urbanham.com/event/wiregrass-heritage-festival-returns-to-dothan-with-southern-soul-lineup-and-outdoor-festival-experience-september-26/
LOCATION:Dothan\, Alabama
CATEGORIES:Featured Events,Festival,Live Music,Things to do,Upcoming Events
ATTACH;FMTTYPE=image/png:https://urbanham.com/wp-content/uploads/2026/04/wiregrassx300.png
END:VEVENT
BEGIN:VEVENT
DTSTART;TZID=UTC:20260926T190000
DTEND;TZID=UTC:20260926T230000
DTSTAMP:20260422T225852
CREATED:20260327T023713Z
LAST-MODIFIED:20260422T032912Z
UID:6419-1790449200-1790463600@urbanham.com
SUMMARY:We Are One: All White Celebration Honoring Frankie Beverly (September 26)
DESCRIPTION:We Are One: All-White Celebration \nHonoring the Legacy of Frankie Beverly \n📍 Location: Boutwell Auditorium\n1930 Rev. Abraham Woods Jr. Blvd\, Birmingham\, AL \n🎶 Presented by: Black Contractors Association – Alabama Chapter \nStep into an evening of elegance\, culture\, and community at We Are One: All-White Celebration\, a signature Birmingham experience honoring the timeless legacy of legendary artist Frankie Beverly. Featuring Yung Vokalz with Jubu Smith (Maze featuring Frankie Beverly Tour Musician) and DJ Chocolate. \nThis upscale all-white affair brings together music lovers\, professionals\, and community leaders for a night centered around unity\, soulful sounds\, and celebration. Guests can expect live performances\, high-energy entertainment\, and a vibrant atmosphere that blends purpose with unforgettable vibes. \n \n🎤 What to Expect \n\nLive performances featuring talented artists\nDJ sets to keep the energy going all night\nFood stations and premium beverage options\nVIP seating and elevated experiences\nA stylish\, all-white crowd celebrating culture and community\n\n👔 Attire \nAll-white attire required — come dressed to impress. \n🎟️ Tickets \nGeneral Admission and VIP experiences available \n👉 For tickets and more information:\nhttps://weareonebham.com/ \n Vibe \nElegant • Cultural • Community-Driven • Soulful
URL:https://urbanham.com/event/we-are-one-all-white-celebration-honoring-frankie-beverly-september-26/
LOCATION:Birmingham\, AL\, Birmingham\, AL\, 35203\, United States
CATEGORIES:Concerts,Featured Events,Things to do,Upcoming Events
ATTACH;FMTTYPE=image/png:https://urbanham.com/wp-content/uploads/2026/03/Jubux300.png
END:VEVENT
END:VCALENDAR