BEGIN:VCALENDAR
VERSION:2.0
PRODID:-//Urbanham.com - ECPv6.15.20//NONSGML v1.0//EN
CALSCALE:GREGORIAN
METHOD:PUBLISH
X-ORIGINAL-URL:https://urbanham.com
X-WR-CALDESC:Events for Urbanham.com
REFRESH-INTERVAL;VALUE=DURATION:PT1H
X-Robots-Tag:noindex
X-PUBLISHED-TTL:PT1H
BEGIN:VTIMEZONE
TZID:UTC
BEGIN:STANDARD
TZOFFSETFROM:+0000
TZOFFSETTO:+0000
TZNAME:UTC
DTSTART:20250101T000000
END:STANDARD
END:VTIMEZONE
BEGIN:VEVENT
DTSTART;TZID=UTC:20260424T200000
DTEND;TZID=UTC:20260424T220000
DTSTAMP:20260422T083539
CREATED:20260422T013624Z
LAST-MODIFIED:20260422T014040Z
UID:7127-1777060800-1777068000@urbanham.com
SUMMARY:Nephew Jones and Kai Set to Bring Southern Soul Energy to Birmingham April 24
DESCRIPTION:Birmingham’s nightlife scene continues to heat up as the R&B & Southern Soul Party Monthly Series returns with a high-energy night featuring live performances from Southern Soul favorites Nephew Jones and Kai\, The Southern Soul Princess. \nTaking place at 12 Twenty 5 Lounge\, this event promises a full night of music\, culture\, and grown-folks vibes\, with hosting duties handled by Big Ro. \n \n🎤 A Night of Southern Soul & R&B \nKnown as the “Geechie Prince of Southern Soul\,” Nephew Jones brings a signature sound that blends classic soul with modern Southern energy. Paired with Kai’s dynamic presence and rising influence in the Southern Soul scene\, attendees can expect a show packed with crowd favorites and high-energy performances. \nWhether you’re a longtime fan of Southern Soul or just looking for a lively night out in Birmingham\, this event delivers the perfect mix of live music and party atmosphere. \nThe Experience \nBeyond the performances\, guests can enjoy a full nightlife experience including: \n\nDrinks available all night\nHookah service\nAccess to a cigar room\nVIP sections and table options\n\nThis is a grown and sexy vibe\, perfect for those looking to unwind\, celebrate\, and enjoy live entertainment in an upscale lounge setting. \n \nEvent Details \nLocation: 12 Twenty 5 Lounge \nDate: Friday\, April 24\nDoors Open: 8:00 PM\nShowtime: 10:00 PM \n🎟️ Tickets & Information \nAdvance tickets\, VIP sections\, and table reservations are available now via Eventbrite. \n \nA Night Built for the Culture \nWith live Southern Soul performances\, a strong host\, and a full nightlife setup\, this event continues to build momentum for Birmingham’s growing R&B and Southern Soul scene. \nMake plans to pull up\, grab your crew\, and experience a night of live music\, good energy\, and unforgettable vibes.
URL:https://urbanham.com/event/nephew-jones-and-kai-set-to-bring-southern-soul-energy-to-birmingham-april-24/
CATEGORIES:Food & Drinks,Live Music,Things to do,Upcoming Events
ATTACH;FMTTYPE=image/png:https://urbanham.com/wp-content/uploads/2026/04/NephewJonesFlyerx1080.png
END:VEVENT
BEGIN:VEVENT
DTSTART;TZID=UTC:20260502T210000
DTEND;TZID=UTC:20260503T010000
DTSTAMP:20260422T083539
CREATED:20260404T195235Z
LAST-MODIFIED:20260422T031658Z
UID:6674-1777755600-1777770000@urbanham.com
SUMMARY:💗 Pink Skies Set to Take Over Birmingham Rooftop as the AKA South Eastern Regional Conference Winds Down (May 2)
DESCRIPTION:Thousands of women from Alpha Kappa Alpha Sorority\, Inc. will gather in Birmingham for the 94th South Eastern Regional Conference\, scheduled for April 29 through May 2\, 2026. The conference will welcome members from across AKA’s South Eastern Region—Alabama\, Mississippi\, and Tennessee—with attendance expected to reach into the thousands as sorority sisters from across the three-state region arrive in the Magic City for several days of sisterhood\, service\, and celebration. \nAs conferences like this one visit the area attendees are often looking for ways to unwind after full days of programming. Pink Skies\, hosted by Phaith “DJ Chocolate” Frazier\, is one of those experiences. \nPositioned as an unofficial nightcap for conference attendees\, Pink Skies is open not only to sorority members but to anyone seeking a night filled with good music and elevated energy at one of the city’s signature rooftop atmospheres. DJ Chocolate\, a member of Alpha Kappa Alpha Sorority\, Inc.\, will also be in the mix throughout the weekend\, performing at several official regional conference events. \nScreenshotA Soundtrack for the Moment \nAt the heart of the night is Nadia Tellis\, a talented vocalist known for her soulful sound and dynamic live performances across Alabama. Her ability to blend R&B\, soul\, and contemporary hits makes her the perfect complement to the evening’s aesthetic. \nWhile Nadia delivers the live entertainment\, DJ Chocolate will do what she does best—set the tone. Known for her ability to read a room and build an experience\, she’s curating a musical journey that moves seamlessly from smooth grooves to high-energy favorites. \n \nPowered by Women of AKA \nOne of the most unique elements of Pink Skies is the foundation behind it. \nThe event is powered by a collective of women—all members of Alpha Kappa Alpha Sorority\, Inc.—bringing their talents together to create something intentional and elevated: \n\nPhaith “DJ Chocolate” Frazier – Founder of Grown and Greek® and the Grown and Greek Podcast\, DJ Chocolate is the architect of the event and will set the vibe for the night.\nDJ Blaze – First responder and vibe provider will kick the night off\nNadia Tellis – A multi-talented creative working across the entertainment and fashion industries as a makeup artist and live performer\, Nadia—along with her band—will deliver the perfect show for a nightcap experience.\nBernadine Birdsong – Owner of Michael’s Restaurant and Bar Sebastian\, adds exceptional hospitality rooted in Birmingham excellence.\nMarika N. Johnson – Award-winning photojournalist and creator of Musically Speaking\, a popular event-based photography platform\, Marika will be on site capturing the night through still imagery.\n\nIn addition\, a strong host committee made up of sorority members is helping bring the vision to life\, ensuring the event reflects both the culture and the moment. \nDivine Nine Energy on the Rooftop \nPink Skies will also bring together members from across the Divine Nine\, with local fraternity members expected to be in attendance. It’s a cross-organizational celebration—one rooted in connection\, culture\, and community. \n \nAdding to the night’s energy\, B’Ham Men’s Fashion Week visionary Mr. Perry Varner is also expected to be in attendance\, along with models\, patrons\, and special invited guests\, following his Saturday night fashion event at WorkPlay. Their presence will bring an additional layer of style and cultural influence to the Pink Skies experience. Mr. Varner is a member of Alpha Phi Alpha Fraternity\, Inc. \n \nPlus Pink Inspired Cocktails \nAdding to the elevated experience\, guests can enjoy a selection of pink-inspired signature cocktails curated by Mr. Greg Freeman\, who is also member of a Divine Nine Organization (Kappa Alpha Psi Fraternity\, Inc.). The specialty cocktails will feature Corazón Tequila with creations like the Pink Skies Paloma\, Velvet Sky Margarita\, and Runway Rosé Spritz. The cocktail lineup not only complements the rooftop aesthetic but also adds a refined\, celebratory touch to the evening’s overall vibe. \nPrelude to Vegas \nPink Skies also carries a bigger energy. \nThe event is being billed as a “Prelude to Vegas\,” as many regional attendees prepare to travel to Las Vegas later this summer for the Alpha Kappa Alpha Sorority\, Inc. Boule—the organization’s international conference. That forward-looking energy adds another layer to the night. \n“This isn’t just the end of a weekend—it’s the beginning of what’s next\,” says DJ Chocolate. “As we look ahead to Las Vegas\, I wanted to create something here that not only caters to my sorority sisters but also embraces the community at large. I believe Pink Skies will be the perfect send-off as we prepare for Boule later this summer.” \nDJ Chocolate will carry that same energy west\, performing in Las Vegas as she teams up with sorority members from Houston and Las Vegas for another signature event. \nThe Welcome to Fabulous Las Vegas Day Party is set for Sunday\, July 19\, 2026\, from 4 PM to 10 PM at Medusa Nightclub\, located at 3355 S. Procyon Avenue in Las Vegas. Hosted by Las Vegas resident and AKA member Nik@Nite\, with music by DJ Chocolate\, the event is powered by Pinkwater Promotions—also owned by a sorority sister out of Houston\, Texas. The event promises a vibrant daytime Vegas experience\, with complimentary entry for ladies and free admission for men before 6 PM. VIP sections will also be available for reservation. This 21-and-up event adds another exciting highlight to the weekend lineup in Las Vegas.  Tickets for the Vegas event can be purchased at https://tinyurl.com/welcome-to-fabulous-las-vegas \n \nThe Vibe in Birmingham (Bar Sebastian) \nThink: \n\nRooftop views\nLive vocals meeting curated DJ sets\nPink inspired but not required (Dress code is open to your comfort\, style and rules of the venue.) \nA grown\, polished\, and culturally rooted crowd\n\nThis is Birmingham at its best—elevated\, connected\, and intentional.  Anyone interested in supporting the event as a vendor/sponsor please call (205) 563-4273 \nEvent Details & Tickets \nPink Skies is a 21+ event\, and early arrival is strongly encouraged. \n🎟️ For tickets and additional information\, visit:\n👉 https://pinkskies.eventbrite.com/
URL:https://urbanham.com/event/%f0%9f%92%97-pink-skies-set-to-take-over-birmingham-rooftop-as-aka-weekend-winds-down-may-2/
LOCATION:Bar Sebastian\, 1525 1st Avenue South\, Birmingham\, 35223\, United States
CATEGORIES:DJ,Featured Events,Food & Drinks,Live Music,Things to do,Upcoming Events
ATTACH;FMTTYPE=image/png:https://urbanham.com/wp-content/uploads/2026/04/pinkx1350.png
END:VEVENT
BEGIN:VEVENT
DTSTART;TZID=UTC:20260509T100000
DTEND;TZID=UTC:20260509T130000
DTSTAMP:20260422T083539
CREATED:20260408T151752Z
LAST-MODIFIED:20260408T151912Z
UID:6848-1778320800-1778331600@urbanham.com
SUMMARY:Girl\, Speak Up & Speak Out Brunch (May 9)
DESCRIPTION:Join Councilor Crystal Smitherman for an empowering morning designed to uplift\, inspire\, and amplify the voices of women in Birmingham. Girl\, Speak Up & Speak Out brings together dynamic speakers and community leaders for a powerful conversation centered on confidence\, leadership\, and personal growth. \nThe event will feature a panel discussion moderated by Lady Woo\, with featured guests including Tiffeny White (Miss Freshman\, Miles College)\, Abra Barnes (President\, Barnes & Associates Realtors)\, and Camisha Rivers (Hairstylist and Founder of Blosm by Natural Remedies). Guests can also enjoy a live musical performance\, brunch\, giveaways\, and more. \nAttendees are encouraged to wear pink and come ready to engage in meaningful dialogue while connecting with other women making an impact across the city. \n📅 Event Details \nDate: Friday\, May 9\nTime: 11:00 AM – 1:30 PM\nLocation: City Club Birmingham\nPresented by: Councilor Crystal Smitherman (District 6) \nAttire: Pink
URL:https://urbanham.com/event/girl-speak-up-speak-out-brunch-april-9/
LOCATION:City Club Birmingham\, 1901 6th Ave N\, Suite 3100\, Birmingham\, Alabama\, 35203
CATEGORIES:Community,Featured Events,Food & Drinks,Things to do,Upcoming Events
ATTACH;FMTTYPE=image/jpeg:https://urbanham.com/wp-content/uploads/2026/04/659683808_1510181454440250_6620467424124155122_n-1.jpg
END:VEVENT
BEGIN:VEVENT
DTSTART;TZID=UTC:20260509T110000
DTEND;TZID=UTC:20260509T150000
DTSTAMP:20260422T083539
CREATED:20260408T220506Z
LAST-MODIFIED:20260408T221205Z
UID:6864-1778324400-1778338800@urbanham.com
SUMMARY:Pre-Mother’s Day Brunch at Carver Theatre (May 9)
DESCRIPTION:Celebrate Mom early with a special Pre-Mother’s Day Brunch at Carver Theatre in downtown Birmingham. Enjoy an afternoon filled with live music\, great food\, and good vibes. \nThe event will feature performances by II Da Maxx\, Yer-B\, and Sherry Reeves\, alongside an amazing brunch menu and a full cash bar. \n📅 Date: Saturday\, May 9🕚 Time: 11:00 AM – 3:00 PM📍 Location: Carver Theatre1631 4th Avenue North\, Birmingham\, AL 35203 \n🎶 Live Music | 🍽️ Brunch Menu | 🍹 Cash Bar \nFor more information\, call (205) 400-4970🎟️ Tickets: MothersDayAtTheCarver.eventbrite.com
URL:https://urbanham.com/event/pre-mothers-day-brunch-at-carver-theatre-may-9/
LOCATION:The Carver Theatre\, 1631 4th Ave N\, Birmingham\, AL\, 35203\, United States
CATEGORIES:Brunch / Day Party,Featured Events,Food & Drinks,Things to do,Upcoming Events
ATTACH;FMTTYPE=image/png:https://urbanham.com/wp-content/uploads/2026/04/PreMothersDayBrunch.png
END:VEVENT
BEGIN:VEVENT
DTSTART;TZID=UTC:20260509T120000
DTEND;TZID=UTC:20260509T160000
DTSTAMP:20260422T083539
CREATED:20260409T040640Z
LAST-MODIFIED:20260409T040856Z
UID:6908-1778328000-1778342400@urbanham.com
SUMMARY:Mimosas & Gentlemen: Mother’s Day Brunch Experience (May 9)
DESCRIPTION:Celebrate Mother’s Day in style at Mimosas & Gentlemen\, a brunch experience combining fashion\, entertainment\, and great vibes. This unique event will feature male models from Birmingham’s Fashion Week\, adding a stylish twist to your brunch outing. \nGuests can enjoy a full brunch buffet\, complimentary mimosas\, raffles\, and a lively atmosphere\, all while dressed in Purple & Pink Attire. The event will be hosted by comedian Felicia\, bringing energy and entertainment throughout the afternoon. \n📅 Date: Saturday\, May 9⏰ Time: 12:00 PM – 4:00 PM📍 Location: 7001 Crestwood Blvd SE\, Suite 810\, Birmingham\, AL \n🍽️ Brunch Buffet | 🍾 Complimentary Mimosas | 🎟️ Raffles | 👔 Fashion Experience \n🎟️ Tickets:Early Bird – $35General Admission – $45 \nVIP Experience: $300 (includes reserved seating for 6 guests) \nTickets available on Eventbrite📞 For more info: (205) 370-3326
URL:https://urbanham.com/event/mimosas-gentlemen-mothers-day-brunch-experience-may-9/
CATEGORIES:Brunch / Day Party,Featured Events,Food & Drinks,Things to do,Upcoming Events
ATTACH;FMTTYPE=image/jpeg:https://urbanham.com/wp-content/uploads/2026/04/image000000.jpeg
END:VEVENT
BEGIN:VEVENT
DTSTART;TZID=UTC:20260509T160000
DTEND;TZID=UTC:20260509T200000
DTSTAMP:20260422T083539
CREATED:20260409T033317Z
LAST-MODIFIED:20260409T033822Z
UID:6887-1778342400-1778356800@urbanham.com
SUMMARY:Good Vibes & Pour Decisions: R&B Mimosa Rooftop Experience (May 9)
DESCRIPTION:The ultimate rooftop day party for the grown & vibey. We’re pouring bottomless mimosas\, spinning the best 90s\, 2000s\, and current R&B. \n\n\nWelcome to Good Vibes\, Pour Decisions Powered by: Faith & Integrity Financial and Family Services- The rooftop day party where the mimosas stay bottomless and the R&B stays on repeat. Hosted by Urban Renaissance Alliance\, this is more than just a day party—it’s a full vibe. Think grown energy\, timeless music\, and a rooftop full of people who came to sip\, connect\, and move to the rhythm of the city. Join us on Saturday\, May 9th from 4–8PM at Bar Sebastian\, one of Birmingham’s dopest rooftop spaces\, for a curated experience featuring: Complimentary Bottomless Mimosas Live R&B DJ playing everything from 90s classics to today’s heat. A stylish\, social crowd Rooftop views + unforgettable energy + Bottomless Mimosas Whether you’re catching up with friends\, making it a soft date night\, or just outside for the vibes—you’ll feel right at home here. \n\nThere will be a cash bar for any non mimosa drinker\nThere will be a Hookah & Cigar vendor on site\n\nRefund Policy • No refunds. All ticket sales are final. • Event is rain or shine. • If the event is rescheduled\, your ticket will roll over to the new date. \n\n\n📍 Location: Michael’s Restaurant1525 1st Avenue South\, Birmingham\, AL \n🍾 Mimosas | 🎶 R&B Vibes | 🌇 Rooftop Experience \nStay tuned for event time and ticket details. \n 
URL:https://urbanham.com/event/good-vibes-pour-decisions-rb-mimosa-rooftop-experience-may-9/
LOCATION:Bar Sebastian\, 1525 1st Avenue South\, Birmingham\, 35223\, United States
CATEGORIES:Day Party,Food & Drinks,Things to do,Upcoming Events
ATTACH;FMTTYPE=image/png:https://urbanham.com/wp-content/uploads/2026/04/GoodVibes.png
END:VEVENT
BEGIN:VEVENT
DTSTART;TZID=UTC:20260612T190000
DTEND;TZID=UTC:20260613T230000
DTSTAMP:20260422T083539
CREATED:20251129T065817Z
LAST-MODIFIED:20251129T223638Z
UID:5225-1781290800-1781391600@urbanham.com
SUMMARY:Special Event: Akaash Singh LIVE at the Stardome (June 12 - 13)
DESCRIPTION:Flagrant co-host and standout stand-up Akaash Singh headlines a StarDome weekend. \nAkaash Singh is a nationally touring stand up comedian\, podcaster\, and actor. His career took off with many television shows including MTV’s “Guy Code” and “Wild’n Out\,” Netflix’s “Brown Nation\,” and HBO’s “The Leftovers” After finding success in TV\, he pivoted his focus toward growing the now hugely successful podcast “Flagrant\,” co-created with fellow comedian and good friend\, Andrew Schulz\, along with touring and pop his stand up career. Akaash self-produced and directed his first stand up special\, “Bring Back Apu” in February\, amassing over a million views in its first week alone. Just one month later\, he released “The Crowdwork Special\,” putting him in rarified air of comedians who produced two specials in back to back months. Aside from stand up\, look for Akaash as the lead in the Netflix Animated Series “Conquest” as well as a Hulu series created by Ramy Youssef.
URL:https://urbanham.com/event/special-event-akaash-singh/
LOCATION:Hoover\, Alabama
CATEGORIES:Comedy,Food & Drinks,Special Event / Comedy Show,Things to do,Upcoming Events
ATTACH;FMTTYPE=image/png:https://urbanham.com/wp-content/uploads/2025/11/AkaashSingh.png
ORGANIZER;CN="Stardome Comedy Club":MAILTO:info@stardome.com
END:VEVENT
END:VCALENDAR