BEGIN:VCALENDAR
VERSION:2.0
PRODID:-//Urbanham.com - ECPv6.15.20//NONSGML v1.0//EN
CALSCALE:GREGORIAN
METHOD:PUBLISH
X-WR-CALNAME:Urbanham.com
X-ORIGINAL-URL:https://urbanham.com
X-WR-CALDESC:Events for Urbanham.com
REFRESH-INTERVAL;VALUE=DURATION:PT1H
X-Robots-Tag:noindex
X-PUBLISHED-TTL:PT1H
BEGIN:VTIMEZONE
TZID:UTC
BEGIN:STANDARD
TZOFFSETFROM:+0000
TZOFFSETTO:+0000
TZNAME:UTC
DTSTART:20240101T000000
END:STANDARD
END:VTIMEZONE
BEGIN:VEVENT
DTSTART;TZID=UTC:20250131T180000
DTEND;TZID=UTC:20250131T220000
DTSTAMP:20260420T162441
CREATED:20250126T185439Z
LAST-MODIFIED:20250126T185439Z
UID:3762-1738346400-1738360800@urbanham.com
SUMMARY:Pynk Beard Performing Live "Sugar and Salt" (January 31)
DESCRIPTION:Performing LIVE at Regions Field (Pearl Room) 1401 1st Avenue South Birmingham\, AL 35233 \nPynk Beard Performing Live “Sugar and Salt” \nCome join us for a night of country music with Pynk Beard as he performs his latest album “Sugar and Salt” live! Get ready to dance\, sing along\, and have a great time with friends. This event is in person\, so make sure to grab your tickets early before they sell out. Let’s make this a night to remember! \nFor tickets visit https://www.eventbrite.com/e/pynk-beard-performing-live-sugar-and-salt-tickets-1145409985099
URL:https://urbanham.com/event/pynk-beard-performing-live-sugar-and-salt-january-31/
LOCATION:Birmingham\, AL\, Birmingham\, AL\, 35203\, United States
CATEGORIES:DJ,Featured Events,Live Music,Shopping,Things to do,Upcoming Events
ATTACH;FMTTYPE=image/png:https://urbanham.com/wp-content/uploads/2025/01/pynkbeardx300.png
END:VEVENT
END:VCALENDAR