BEGIN:VCALENDAR
VERSION:2.0
PRODID:-//Urbanham.com - ECPv6.15.20//NONSGML v1.0//EN
CALSCALE:GREGORIAN
METHOD:PUBLISH
X-WR-CALNAME:Urbanham.com
X-ORIGINAL-URL:https://urbanham.com
X-WR-CALDESC:Events for Urbanham.com
REFRESH-INTERVAL;VALUE=DURATION:PT1H
X-Robots-Tag:noindex
X-PUBLISHED-TTL:PT1H
BEGIN:VTIMEZONE
TZID:UTC
BEGIN:STANDARD
TZOFFSETFROM:+0000
TZOFFSETTO:+0000
TZNAME:UTC
DTSTART:20240101T000000
END:STANDARD
END:VTIMEZONE
BEGIN:VEVENT
DTSTART;TZID=UTC:20250510T190000
DTEND;TZID=UTC:20250510T230000
DTSTAMP:20260424T202448
CREATED:20250406T125318Z
LAST-MODIFIED:20250406T133905Z
UID:3932-1746903600-1746918000@urbanham.com
SUMMARY:Mother's Day Mayhem featuring Toia Jones and more at BB Kings (May 10)
DESCRIPTION:
URL:https://urbanham.com/event/mothers-day-mayhem-featuring-toia-jones-and-more-at-bb-kings-may-10/
LOCATION:Montgomery\, AL\, Montgomery\, AL\, United States
CATEGORIES:Food & Drinks,Live Music,Things to do,Upcoming Events
ATTACH;FMTTYPE=image/jpeg:https://urbanham.com/wp-content/uploads/2025/04/mothersdayx300.jpg
END:VEVENT
BEGIN:VEVENT
DTSTART;TZID=UTC:20250517T200000
DTEND;TZID=UTC:20250517T230000
DTSTAMP:20260424T202448
CREATED:20250324T012321Z
LAST-MODIFIED:20250324T012322Z
UID:3892-1747512000-1747522800@urbanham.com
SUMMARY:The Queens: 4 Legends 1 Stage at Legacy Arena (May 17)
DESCRIPTION:The Queens! 4 Legends. 1 Stage.\nFeaturing: Chaka Khan\, Patti LaBelle\, Gladys Knight\, Stephanie Mills \nMusic history will be made as four of the most legendary voices in R&B\, soul\, and pop come together for an unforgettable tour! Chaka Khan\, Patti LaBelle\, Gladys Knight\, and Stephanie Mills—each a powerhouse in their own right—will share the stage for the “4 Legends\, One Stage” tour\, celebrating decades of iconic music and timeless hits.
URL:https://urbanham.com/event/the-queens-4-legends-1-stage-at-legacy-arena-may-17/
LOCATION:Birmingham\, AL\, Birmingham\, AL\, 35203\, United States
CATEGORIES:Featured Events,Live Music,Things to do,Upcoming Events
ATTACH;FMTTYPE=image/png:https://urbanham.com/wp-content/uploads/2025/03/TheQueensx300.png
END:VEVENT
BEGIN:VEVENT
DTSTART;TZID=UTC:20250525T180000
DTEND;TZID=UTC:20250525T210000
DTSTAMP:20260424T202448
CREATED:20250516T014140Z
LAST-MODIFIED:20250516T014418Z
UID:4054-1748196000-1748206800@urbanham.com
SUMMARY:Guitars & Good Times (May 25)
DESCRIPTION:LoveShooter Lounge presents Guitars & Good Times hosted by Glennwood & Tmbuktu at Bar Sebastian
URL:https://urbanham.com/event/guitars-good-times-may-25/
LOCATION:Birmingham\, AL\, Birmingham\, AL\, 35203\, United States
CATEGORIES:Featured Events,Food & Drinks,Live Music,Things to do,Upcoming Events
ATTACH;FMTTYPE=image/png:https://urbanham.com/wp-content/uploads/2025/05/guitarx300.png
END:VEVENT
END:VCALENDAR