BEGIN:VCALENDAR
VERSION:2.0
PRODID:-//Urbanham.com - ECPv6.15.20//NONSGML v1.0//EN
CALSCALE:GREGORIAN
METHOD:PUBLISH
X-WR-CALNAME:Urbanham.com
X-ORIGINAL-URL:https://urbanham.com
X-WR-CALDESC:Events for Urbanham.com
REFRESH-INTERVAL;VALUE=DURATION:PT1H
X-Robots-Tag:noindex
X-PUBLISHED-TTL:PT1H
BEGIN:VTIMEZONE
TZID:UTC
BEGIN:STANDARD
TZOFFSETFROM:+0000
TZOFFSETTO:+0000
TZNAME:UTC
DTSTART:20240101T000000
END:STANDARD
END:VTIMEZONE
BEGIN:VEVENT
DTSTART;TZID=UTC:20250605T160000
DTEND;TZID=UTC:20250608T170000
DTSTAMP:20260424T043215
CREATED:20241128T153354Z
LAST-MODIFIED:20250608T145821Z
UID:3518-1749139200-1749402000@urbanham.com
SUMMARY:TODAY: Marvin Sapp wraps up the Steel City Smooth Jazz Festival (June 8)
DESCRIPTION:The Annual Steel City Smooth Jazz Festival will be June 5th – June 8th at the historic Linn Park featuring 4 days of live Jazz\, R&B and Gospel from some of the worlds best performers!  For tickets visit https://www.steelcityjazzfest.org/
URL:https://urbanham.com/event/eric-benet-and-more-live-at-the-steel-city-smooth-jazz-festival-june-5-8/
LOCATION:Birmingham\, AL\, Birmingham\, AL\, 35203\, United States
CATEGORIES:Art & Culture,Destination Event,Featured Events,Food Trucks,Live Music,Shopping,Things to do,Upcoming Events
ATTACH;FMTTYPE=image/png:https://urbanham.com/wp-content/uploads/2024/11/MarvinSappx300.png
END:VEVENT
BEGIN:VEVENT
DTSTART;TZID=UTC:20250608T170000
DTEND;TZID=UTC:20250608T200000
DTSTAMP:20260424T043215
CREATED:20250607T132349Z
LAST-MODIFIED:20250608T150437Z
UID:4101-1749402000-1749412800@urbanham.com
SUMMARY:POSTPONED: Safe Summer Series with Sherri Brown is THIS SUNDAY (June 8)
DESCRIPTION:POSTPONED \nBring you lawn chairs to Brother Bryan park THIS SUNDAY at 5:00pm and have fun in the park with Councilor Crystal Smitherman\, District 6 and B Grace Media!  Wear a splash of orange to support fun violence awareness!
URL:https://urbanham.com/event/safe-summer-series-with-sherri-brown-is-this-sunday-june-8/
LOCATION:Birmingham\, AL\, Birmingham\, AL\, 35203\, United States
CATEGORIES:Food & Drinks,Live Music,Things to do,Upcoming Events
ATTACH;FMTTYPE=image/png:https://urbanham.com/wp-content/uploads/2025/06/SherriBrownx300.png
END:VEVENT
BEGIN:VEVENT
DTSTART;TZID=UTC:20250619T080000
DTEND;TZID=UTC:20250623T233000
DTSTAMP:20260424T043215
CREATED:20250126T173840Z
LAST-MODIFIED:20250608T165038Z
UID:3733-1750320000-1750721400@urbanham.com
SUMMARY:Recess Vegas Juneteenth Weekend (June 19 - 23)
DESCRIPTION:Recess Getaways is headed back to Las Vegas for a special Juneteenth Weekend Celebration like no other!  Theme parties\, concerts\, pool parties and more will be in the forefront as Las Vegas serves as the backdrop! \n\nWeekend pass for all events is only $249 (This does not include the special brunch event\nHost hotel is Planet Hollywood\n\nGet the complete list of events and register today at RecessGetaways.com
URL:https://urbanham.com/event/recess-vegas-juneteenth-weekend-june-19-23/
LOCATION:AL
CATEGORIES:Adult,Art & Culture,DJ,Food & Drinks,Live Music,Things to do,Travel,Upcoming Events
ATTACH;FMTTYPE=image/png:https://urbanham.com/wp-content/uploads/2025/01/recessx300.png
END:VEVENT
BEGIN:VEVENT
DTSTART;TZID=UTC:20250620T190000
DTEND;TZID=UTC:20250620T230000
DTSTAMP:20260424T043215
CREATED:20250324T013735Z
LAST-MODIFIED:20250608T014258Z
UID:3897-1750446000-1750460400@urbanham.com
SUMMARY:Coco Jones LIVE in Birmingham (June 20)
DESCRIPTION:Don’t miss Coco Jones in Birmingham with special guest: Lady London!! Get your tickets now for June 20\, 2025 at Iron City. Doors at 7\, music at 8! \n \n \n \n 
URL:https://urbanham.com/event/coco-jones-live-in-birmingham-june-20/
LOCATION:Birmingham\, AL\, Birmingham\, AL\, 35203\, United States
CATEGORIES:Featured Events,Live Music,Things to do,Upcoming Events
ATTACH;FMTTYPE=image/png:https://urbanham.com/wp-content/uploads/2025/03/CocaJonesx300.png
END:VEVENT
END:VCALENDAR