BEGIN:VCALENDAR
VERSION:2.0
PRODID:-//Urbanham.com - ECPv6.15.20//NONSGML v1.0//EN
CALSCALE:GREGORIAN
METHOD:PUBLISH
X-WR-CALNAME:Urbanham.com
X-ORIGINAL-URL:https://urbanham.com
X-WR-CALDESC:Events for Urbanham.com
REFRESH-INTERVAL;VALUE=DURATION:PT1H
X-Robots-Tag:noindex
X-PUBLISHED-TTL:PT1H
BEGIN:VTIMEZONE
TZID:UTC
BEGIN:STANDARD
TZOFFSETFROM:+0000
TZOFFSETTO:+0000
TZNAME:UTC
DTSTART:20240101T000000
END:STANDARD
END:VTIMEZONE
BEGIN:VEVENT
DTSTART;TZID=UTC:20250712T190000
DTEND;TZID=UTC:20250712T220000
DTSTAMP:20260425T005122
CREATED:20250608T025801Z
LAST-MODIFIED:20250608T030908Z
UID:4151-1752346800-1752357600@urbanham.com
SUMMARY:Joe with special guests Donell Jones & Changing Faces (July 12)
DESCRIPTION:Get ready to relive the golden era of R&B when Joe\, Donell Jones\, and Changing Faces bring their timeless hits to the BJCC Concert Hall this summer! This show promises an unforgettable night of smooth vocals\, soulful grooves\, and nostalgic vibes you won’t want to miss. \nJoe is a Grammy-nominated R&B artist recognized for his velvety voice and unforgettable songs like I Wanna Know and All the Things (Your Man Won’t Do). With a career spanning decades\, he’s praised for his emotional resonance\, versatile sound\, and collaborations with some of the biggest names in music. \nDonell Jones is a renowned R&B singer-songwriter admired for his expressive voice and relatable storytelling\, with hits such as Where I Wanna Be and U Know What’s Up. His music weaves together themes of love\, reflection\, and authenticity\, cementing his legacy in contemporary R&B. \nChanging Faces is a celebrated R&B duo known for their captivating harmonies and iconic tracks like Stroke You Up and G.H.E.T.T.O.U.T. Their unique mix of vocal chemistry and sensual lyrics helped shape the sound of ’90s R&B.
URL:https://urbanham.com/event/joe-with-special-guests-donell-jones-changing-faces-july-12/
LOCATION:Birmingham\, AL\, Birmingham\, AL\, 35203\, United States
CATEGORIES:Featured Events,Live Music,Things to do,Upcoming Events
ATTACH;FMTTYPE=image/png:https://urbanham.com/wp-content/uploads/2025/06/Joex300.png
END:VEVENT
BEGIN:VEVENT
DTSTART;TZID=UTC:20250717T190000
DTEND;TZID=UTC:20250717T220000
DTSTAMP:20260425T005122
CREATED:20250608T030648Z
LAST-MODIFIED:20250608T030758Z
UID:4156-1752778800-1752789600@urbanham.com
SUMMARY:Keyshia Cole The Way It Is 20th Anniversary Tour (July 17)
DESCRIPTION:Keyshia Cole\, the Grammy-nominated R&B powerhouse\, celebrates the 20th anniversary of her groundbreaking debut album\, The Way It Is. Released in 2005\, the album introduced the world to Cole’s raw emotion\, soulful voice\, and unfiltered storytelling\, earning platinum status and spawning hits like “Love” and “I Should Have Cheated.” Over two decades\, she has remained a defining voice in R&B\, blending vulnerability with strength in chart-topping singles and six more studio albums. \nBeyond music\, Cole’s impact extends to television\, fashion\, and philanthropy\, making her a cultural icon. As she marks this milestone\, fans reflect on the timeless influence of The Way It Is—an album that resonated with a generation and solidified her place in music history. With new projects on the horizon\, Keyshia Cole continues to evolve\, proving that her legacy is far from ove \n 
URL:https://urbanham.com/event/keyshia-cole-the-way-it-is-20th-anniversary-tour-july-17/
LOCATION:Birmingham\, AL\, Birmingham\, AL\, 35203\, United States
CATEGORIES:Featured Events,Live Music,Things to do,Upcoming Events
ATTACH;FMTTYPE=image/png:https://urbanham.com/wp-content/uploads/2025/06/KColex300.png
END:VEVENT
BEGIN:VEVENT
DTSTART;TZID=UTC:20250718T200000
DTEND;TZID=UTC:20250718T223000
DTSTAMP:20260425T005122
CREATED:20250718T184351Z
LAST-MODIFIED:20250718T184427Z
UID:4296-1752868800-1752877800@urbanham.com
SUMMARY:Jeezy Presents TM:101 Live with Color of Noize Orchestra (July 18)
DESCRIPTION:
URL:https://urbanham.com/event/jeezy/
LOCATION:Birmingham\, AL\, Birmingham\, AL\, 35203\, United States
CATEGORIES:Featured Events,Live Music,Upcoming Events
ATTACH;FMTTYPE=image/png:https://urbanham.com/wp-content/uploads/2025/07/Jezzyx300.png
END:VEVENT
BEGIN:VEVENT
DTSTART;TZID=UTC:20250724T190000
DTEND;TZID=UTC:20250724T214500
DTSTAMP:20260425T005122
CREATED:20250718T185248Z
LAST-MODIFIED:20250720T151453Z
UID:4302-1753383600-1753393500@urbanham.com
SUMMARY:Dear Silas - I Ain't Stressing Today (July 24)
DESCRIPTION:🎤 Spotlight: Dear Silas Hits Birmingham This Week! \nGet ready\, Birmingham – Artist Dear Silas\, the multi-talented rapper–singer–trumpeter from Jackson\, Mississippi\, lands at The Carver Theatre this Thursday\, July 24\, 2025 as part of his vibrant and viral hit I Ain’t Stressin’ Today. \n🔥 Why You Can’t Miss This \n\nUnique sound & style: Blending soulful vocals\, confident rap\, and live trumpet\, Dear Silas stands out in today’s music scene\nViral hits & critical acclaim**: Known for tracks like *“I Ain’t Stressin’ Today\, Gullah Gullah Island\, and “Skrr Skrr”\, he has captured national attention—including major viral TikTok moments and Spotify hits.\nFestival-level energy: This Birmingham show is part of the FLY V T-Shirt Concert Series\, Part II\, hosted at the Alabama Jazz Hall of Fame\n\n \n🎵 What to Expect \n\nDate & Time: Thursday\, July 24 @ 7:00 PM – 9:45 PM\nVenue: The historic Carver Theatre\, perfect for an up-close\, soulful evening of music\nVibe: High-energy yet intimate—packed with live trumpet solos\, catchy hooks\, and crowd interaction\n\n🎫 How to Be There \nTickets are still available—grab yours early through the official event page to secure the best seat and support a rising star’s Southern tour.  Tickets can be purcahsed at https://brushfire.com/alabamajazzhalloffameinc/thevillage-tshirtconcert/608280/details \n🌟 Final Word \nDear Silas isn’t just performing—he’s sharing a musical experience that blends heart\, talent\, and authenticity. Don’t miss this rare chance to see a rising artist—and real live trumpet—under one roof. \n \nFor more on Dear Silas check out: \nYouTube: https://www.youtube.com/channel/UCE8n1ySNUKphrICvFNTHLdA\nInstagram: https://www.instagram.com/dearsilas\nFacebook: https://www.facebook.com/dearsilas\nWebsite: https://www.dear-silas.com/
URL:https://urbanham.com/event/dear-silas-i-aint-stressing-today-july-24/
LOCATION:Birmingham\, AL\, Birmingham\, AL\, 35203\, United States
CATEGORIES:Featured Events,Live Music,Theater,Things to do,Upcoming Events
ATTACH;FMTTYPE=image/png:https://urbanham.com/wp-content/uploads/2025/07/DearSilasx300.png
END:VEVENT
BEGIN:VEVENT
DTSTART;TZID=UTC:20250726T190000
DTEND;TZID=UTC:20250726T230000
DTSTAMP:20260425T005122
CREATED:20250324T015541Z
LAST-MODIFIED:20250324T015541Z
UID:3907-1753556400-1753570800@urbanham.com
SUMMARY:Alabama Shakes (July 26)
DESCRIPTION:
URL:https://urbanham.com/event/alabama-shakes-july-26/
LOCATION:Birmingham\, AL\, Birmingham\, AL\, 35203\, United States
CATEGORIES:Featured Events,Live Music,Things to do,Upcoming Events
ATTACH;FMTTYPE=image/png:https://urbanham.com/wp-content/uploads/2025/03/ALabamaShakesx300.png
END:VEVENT
BEGIN:VEVENT
DTSTART;TZID=UTC:20250727T140000
DTEND;TZID=UTC:20250727T220000
DTSTAMP:20260425T005122
CREATED:20250126T174609Z
LAST-MODIFIED:20250126T174908Z
UID:3738-1753624800-1753653600@urbanham.com
SUMMARY:11th Annual Alabama Music Awards (July 27)
DESCRIPTION:11th Anniversary Alabama Music Awards is Sunday July 27\, 2025 \nBessemer Civic Center\n1130 9th Avenue SW Bessemer\, Al. 35022 \nFor more information call (205) 503-8461
URL:https://urbanham.com/event/11th-annual-alabama-music-awards-july-27/
LOCATION:Bessemer\, Alabama\, AL\, United States
CATEGORIES:DJ,Food & Drinks,Live Music,Things to do,Upcoming Events
ATTACH;FMTTYPE=image/png:https://urbanham.com/wp-content/uploads/2025/01/alamusicawards.png
END:VEVENT
BEGIN:VEVENT
DTSTART;TZID=UTC:20250727T180000
DTEND;TZID=UTC:20250727T210000
DTSTAMP:20260425T005122
CREATED:20250727T140846Z
LAST-MODIFIED:20250727T144751Z
UID:4411-1753639200-1753650000@urbanham.com
SUMMARY:Love Shooters Lounge presents Guitars and Good Times (TODAY)
DESCRIPTION:The popular spoken word and live music set Guitars & Good Times is TODAY at Bar Sebastian. $20 in advance/$25 at the door. \nPoetry\, song\, art\, lyrics\, music and more!
URL:https://urbanham.com/event/love-shooters-lounge-presents-guitars-and-good-times-today/
LOCATION:Birmingham City Hall\, 710 20th St N\,\, Birmingham\, AL\, 35203\, United States
CATEGORIES:Comedy,Featured Events,Live Music,Things to do,Upcoming Events
ATTACH;FMTTYPE=image/png:https://urbanham.com/wp-content/uploads/2025/07/loveshootersx300.png
END:VEVENT
END:VCALENDAR