BEGIN:VCALENDAR
VERSION:2.0
PRODID:-//Urbanham.com - ECPv6.15.20//NONSGML v1.0//EN
CALSCALE:GREGORIAN
METHOD:PUBLISH
X-WR-CALNAME:Urbanham.com
X-ORIGINAL-URL:https://urbanham.com
X-WR-CALDESC:Events for Urbanham.com
REFRESH-INTERVAL;VALUE=DURATION:PT1H
X-Robots-Tag:noindex
X-PUBLISHED-TTL:PT1H
BEGIN:VTIMEZONE
TZID:UTC
BEGIN:STANDARD
TZOFFSETFROM:+0000
TZOFFSETTO:+0000
TZNAME:UTC
DTSTART:20240101T000000
END:STANDARD
END:VTIMEZONE
BEGIN:VEVENT
DTSTART;TZID=UTC:20250808T190000
DTEND;TZID=UTC:20250808T210000
DTSTAMP:20260425T005057
CREATED:20250608T152842Z
LAST-MODIFIED:20250608T153003Z
UID:4208-1754679600-1754686800@urbanham.com
SUMMARY:Gorilla Zoe LIVE at Iron City (August 8)
DESCRIPTION:Doors open at 7:00pm\, showtime at 8:00pm
URL:https://urbanham.com/event/gorilla-zoe-live-at-iron-city-august-8/
LOCATION:Birmingham\, AL\, Birmingham\, AL\, 35203\, United States
CATEGORIES:Live Music,Things to do,Upcoming Events
ATTACH;FMTTYPE=image/png:https://urbanham.com/wp-content/uploads/2025/06/GorillaZoex300.png
END:VEVENT
BEGIN:VEVENT
DTSTART;TZID=UTC:20250817T170000
DTEND;TZID=UTC:20250817T200000
DTSTAMP:20260425T005057
CREATED:20250718T192751Z
LAST-MODIFIED:20250718T192835Z
UID:4325-1755450000-1755460800@urbanham.com
SUMMARY:Taste of West End (August 17)
DESCRIPTION:A FREE Community event at the Arlington Historic House & Gardens featuring Logan the Entertainer\, Pedro Moore & Ascension Band plus Aretta Woodruff. \nSunday\, August 17\, 2025 from 5pm – 8pm \n331 Cotton Avenue SW\nBirmingham\, AL 35211
URL:https://urbanham.com/event/taste-of-west-end-august-17/
LOCATION:Birmingham\, AL\, Birmingham\, AL\, 35203\, United States
CATEGORIES:Featured Events,Food & Drinks,Live Music,Things to do,Upcoming Events
ATTACH;FMTTYPE=image/png:https://urbanham.com/wp-content/uploads/2025/07/LoganTheEntertainerx300.png
END:VEVENT
BEGIN:VEVENT
DTSTART;TZID=UTC:20250830T200000
DTEND;TZID=UTC:20250830T230000
DTSTAMP:20260425T005057
CREATED:20250718T232954Z
LAST-MODIFIED:20250718T233039Z
UID:4338-1756584000-1756594800@urbanham.com
SUMMARY:Rewind Tour featuring Tyrese\, Tank\, Lyfe Jennings and H-Town (August 30)
DESCRIPTION:R&B icon Tyrese takes the stage for a night of smooth grooves and powerful vocals\, joined by an unforgettable lineup of special guests. Tank brings his sultry ballads and chart-topping hits like ?When We? to set the mood. Lyfe Jennings delivers his signature blend of raw lyrics and soulful storytelling\, sharing fan favorites like ?Must Be Nice.? And H-Town brings the throwback vibes with their classic ?90s slow jam ?Knockin? Da Boots.? It?s a night of pure R&B magic\, filled with passion\, nostalgia\, and powerhouse performances you won?t want to miss. \n 
URL:https://urbanham.com/event/rewind-tour-featuring-tyrese-tank-lyfe-jennings-and-h-town-august-30/
LOCATION:AL
CATEGORIES:Featured Events,Live Music,Things to do,Upcoming Events
ATTACH;FMTTYPE=image/png:https://urbanham.com/wp-content/uploads/2025/07/tyresex300.png
END:VEVENT
BEGIN:VEVENT
DTSTART;TZID=UTC:20250831T180000
DTEND;TZID=UTC:20250831T210000
DTSTAMP:20260425T005057
CREATED:20250824T083408Z
LAST-MODIFIED:20250824T083907Z
UID:4713-1756663200-1756674000@urbanham.com
SUMMARY:Guitars & Good Times (August 31)
DESCRIPTION:Guitars and Goodtimes is Sunday\, August 31st at Bar Sebastian.  Featuring poetry\, song\, art\, lyrics and music hosted by Glennwood and Timbuktu. Tickets are $20\, $25 at the door. For tickets and information call (205) 757-1638.
URL:https://urbanham.com/event/guitars-good-times-august-31/
LOCATION:Birmingham\, AL\, Birmingham\, AL\, 35203\, United States
CATEGORIES:Art & Culture,Featured Events,Live Music,Things to do,Upcoming Events
ATTACH;FMTTYPE=image/png:https://urbanham.com/wp-content/uploads/2025/08/ggc300.png
END:VEVENT
END:VCALENDAR