BEGIN:VCALENDAR
VERSION:2.0
PRODID:-//Urbanham.com - ECPv6.15.20//NONSGML v1.0//EN
CALSCALE:GREGORIAN
METHOD:PUBLISH
X-ORIGINAL-URL:https://urbanham.com
X-WR-CALDESC:Events for Urbanham.com
REFRESH-INTERVAL;VALUE=DURATION:PT1H
X-Robots-Tag:noindex
X-PUBLISHED-TTL:PT1H
BEGIN:VTIMEZONE
TZID:UTC
BEGIN:STANDARD
TZOFFSETFROM:+0000
TZOFFSETTO:+0000
TZNAME:UTC
DTSTART:20240101T000000
END:STANDARD
END:VTIMEZONE
BEGIN:VEVENT
DTSTART;TZID=UTC:20250904T190000
DTEND;TZID=UTC:20250904T220000
DTSTAMP:20260425T225240
CREATED:20250608T013237Z
LAST-MODIFIED:20250608T013811Z
UID:4128-1757012400-1757023200@urbanham.com
SUMMARY:Durand Bernarr LIVE at Saturn (September 4)
DESCRIPTION:You Still Gon’ Grow\, Too! Tour \nSaturn\, Saturn\nBirmingham\, AL\nDoors: 7:00PM | Show: 8:00PM
URL:https://urbanham.com/event/durand-bernarr-live-at-saturn-september-4/
LOCATION:Birmingham\, AL\, Birmingham\, AL\, 35203\, United States
CATEGORIES:Live Music,Things to do,Upcoming Events
ATTACH;FMTTYPE=image/png:https://urbanham.com/wp-content/uploads/2025/06/Bernarr.png
END:VEVENT
BEGIN:VEVENT
DTSTART;TZID=UTC:20250913T200000
DTEND;TZID=UTC:20250913T223000
DTSTAMP:20260425T225240
CREATED:20250608T022619Z
LAST-MODIFIED:20250608T023802Z
UID:4140-1757793600-1757802600@urbanham.com
SUMMARY:Christone "Kingfish" Ingram - The Hard Road World Tour (September 13)
DESCRIPTION:Christone “Kingfish” Ingram – The Hard Road World Tour is coming to Birmingham! Don’t miss seeing this Blues sensation up close at Iron City on September 13th!\nAll Sales Final. No Refunds.. Standing Room Only. \nSaturday\, Sep 13\, 2025 \n8:00pm\nVenue\nIron City\nBirmingham\, AL \n \n \n 
URL:https://urbanham.com/event/christone-kingfish-ingram-the-hard-road-world-tour-september-13/
LOCATION:Birmingham\, AL\, Birmingham\, AL\, 35203\, United States
CATEGORIES:Featured Events,Live Music,Things to do,Upcoming Events
ATTACH;FMTTYPE=image/png:https://urbanham.com/wp-content/uploads/2025/06/KingFishx300.png
END:VEVENT
BEGIN:VEVENT
DTSTART;TZID=UTC:20250918T200000
DTEND;TZID=UTC:20250918T230000
DTSTAMP:20260425T225240
CREATED:20250324T020445Z
LAST-MODIFIED:20250324T020657Z
UID:3913-1758225600-1758236400@urbanham.com
SUMMARY:Nelly and the St. Lunatics with Eve\, Fabulous and Special Guests: Where The Party At Tour (September 18)
DESCRIPTION:Nelly and the St. Lunatics with Eve\, Fabulous and Special Guests: Where The Party At Tour
URL:https://urbanham.com/event/nelly-and-the-st-lunatics-with-eve-fabulous-and-special-guests-where-the-party-at-tour-september-18/
LOCATION:Birmingham\, AL\, Birmingham\, AL\, 35203\, United States
CATEGORIES:Art & Culture,Featured Events,Live Music,Things to do,Upcoming Events
ATTACH;FMTTYPE=image/png:https://urbanham.com/wp-content/uploads/2025/03/WhereThePartyAtx300.png
END:VEVENT
BEGIN:VEVENT
DTSTART;TZID=UTC:20250928T130000
DTEND;TZID=UTC:20250928T170000
DTSTAMP:20260425T225240
CREATED:20250925T004804Z
LAST-MODIFIED:20250925T004804Z
UID:4837-1759064400-1759078800@urbanham.com
SUMMARY:Picnic at Railroad Park with PYNK Beard (September 28)
DESCRIPTION:Picnic at Railroad Park with headliner PYNK Beard. FREE entry.
URL:https://urbanham.com/event/picnic-at-railroad-park-with-pynk-beard-september-28/
LOCATION:Birmingham\, AL\, Birmingham\, AL\, 35203\, United States
CATEGORIES:Community,Featured Events,Food Trucks,Live Music,Upcoming Events
ATTACH;FMTTYPE=image/png:https://urbanham.com/wp-content/uploads/2025/09/pynkbeardx300.png
END:VEVENT
END:VCALENDAR