BEGIN:VCALENDAR
VERSION:2.0
PRODID:-//Urbanham.com - ECPv6.15.20//NONSGML v1.0//EN
CALSCALE:GREGORIAN
METHOD:PUBLISH
X-ORIGINAL-URL:https://urbanham.com
X-WR-CALDESC:Events for Urbanham.com
REFRESH-INTERVAL;VALUE=DURATION:PT1H
X-Robots-Tag:noindex
X-PUBLISHED-TTL:PT1H
BEGIN:VTIMEZONE
TZID:UTC
BEGIN:STANDARD
TZOFFSETFROM:+0000
TZOFFSETTO:+0000
TZNAME:UTC
DTSTART:20240101T000000
END:STANDARD
END:VTIMEZONE
BEGIN:VEVENT
DTSTART;TZID=UTC:20251212T180000
DTEND;TZID=UTC:20251212T233000
DTSTAMP:20260422T004640
CREATED:20250824T090136Z
LAST-MODIFIED:20250825T153250Z
UID:4726-1765562400-1765582200@urbanham.com
SUMMARY:Home for the Holidays with Ruben Studdard (December 12)
DESCRIPTION:Home for the Holidays with Ruben Studdard\, December 12th at WorkPlay Theatre Birmingham! Two shows 6pm & 9:30pm. For tickets and information visit https://workplay.com/
URL:https://urbanham.com/event/ruben-studdard/
LOCATION:Birmingham\, AL\, Birmingham\, AL\, 35203\, United States
CATEGORIES:Featured Events,Live Music,Things to do,Upcoming Events
ATTACH;FMTTYPE=image/png:https://urbanham.com/wp-content/uploads/2025/08/RubenStuddardx300-1.png
END:VEVENT
BEGIN:VEVENT
DTSTART;TZID=UTC:20251213T180000
DTEND;TZID=UTC:20251213T220000
DTSTAMP:20260422T004640
CREATED:20251004T004907Z
LAST-MODIFIED:20251117T041356Z
UID:4862-1765648800-1765663200@urbanham.com
SUMMARY:Mike Phillips LIVE at the Carver Theatre (December 13)
DESCRIPTION:Mike Phillips returns to Birmingham for a spectacular show at the Alabama Jazz Hall of Fame Carver Theatre on Saturday\, December 13\, 2025.  Featuring a special performance from Alvin Garrett and hosted by Jazz and Flow Radio host Mike Riley with DJ Chocolate in the Throwback Mix. \nTickets go on sale soon at https://jazzhall.com/events/ \nComplimentary Food (6:00pm – 7:30pm)\nCash Bar\nLimited VIP Tickets with VIP Lounge and upfront seating\nDoors open at 6pm / Showtime at 7pm\nCall (205) 400-4970 for VIP options.
URL:https://urbanham.com/event/mike-phillips-live-featuring-dominique-hammons-december-13/
LOCATION:Birmingham\, AL\, Birmingham\, AL\, 35203\, United States
CATEGORIES:Art & Culture,Featured Events,Food & Drinks,Live Music,Things to do,Upcoming Events
ATTACH;FMTTYPE=image/png:https://urbanham.com/wp-content/uploads/2025/10/MikePhillipsx300-1.png
END:VEVENT
BEGIN:VEVENT
DTSTART;TZID=UTC:20251214T180000
DTEND;TZID=UTC:20251214T220000
DTSTAMP:20260422T004640
CREATED:20251205T213041Z
LAST-MODIFIED:20251205T213041Z
UID:5499-1765735200-1765749600@urbanham.com
SUMMARY:Eggnog & R&B at WorkPlay (December 14)
DESCRIPTION:🎶 Eggnog & R&B — Sunday\, December 14 at WORKPLAY! 🎄 \nGet ready for a cozy\, soulful night with Logan The Entertainer\, D Smooth\, Sharron Sings\, and DJ Gorgeous — bringing rhythm\, good vibes\, and holiday energy to the stage. 🎤✨ \n📅 Date: Sunday\, Dec 14\, 2025🕔 Doors: 5:00 PM / Show: 6:00 PM📍 Venue: WORKPLAY Theatre\, 500 23rd Street South\, Birmingham\, AL \n🎟️ Tickets: General Admission — $20 (plus fees)👉 Grab them before they’re gone! \nWhether you’re into smooth R&B\, a holiday night out\, or a Birmingham music vibe — this is the place to be. Invite your friends\, bring love\, and get ready to groove. 🎵🧡 \n#EggnogAndRNB #WORKPLAY #BirminghamAL #RnB #LiveMusic #HolidayVibes #SupportLocalMusic
URL:https://urbanham.com/event/eggnog-rb-at-workplay-december-14/
LOCATION:Birmingham\, AL\, Birmingham\, AL\, 35203\, United States
CATEGORIES:Featured Events,Live Music,Things to do,Upcoming Events
ATTACH;FMTTYPE=image/png:https://urbanham.com/wp-content/uploads/2025/12/EggNog.png
END:VEVENT
END:VCALENDAR