BEGIN:VCALENDAR
VERSION:2.0
PRODID:-//Urbanham.com - ECPv6.15.20//NONSGML v1.0//EN
CALSCALE:GREGORIAN
METHOD:PUBLISH
X-ORIGINAL-URL:https://urbanham.com
X-WR-CALDESC:Events for Urbanham.com
REFRESH-INTERVAL;VALUE=DURATION:PT1H
X-Robots-Tag:noindex
X-PUBLISHED-TTL:PT1H
BEGIN:VTIMEZONE
TZID:UTC
BEGIN:STANDARD
TZOFFSETFROM:+0000
TZOFFSETTO:+0000
TZNAME:UTC
DTSTART:20240101T000000
END:STANDARD
END:VTIMEZONE
BEGIN:VEVENT
DTSTART;TZID=UTC:20250214T080000
DTEND;TZID=UTC:20250216T170000
DTSTAMP:20260421T000717
CREATED:20250205T153640Z
LAST-MODIFIED:20250205T153640Z
UID:3798-1739520000-1739725200@urbanham.com
SUMMARY:Rickey Smiley LIVE: Celebration 35 Years of Comedy (February 14 - 16)
DESCRIPTION:Join Rickey as he celebrates 35 years of stand up comedy.\n\nComedy legend and entertainment mogul Rickey Smiley is a television host\, actor and top rated nationally syndicated radio personality\, and has become one of the entertainment industry’s most celebrated performers.
URL:https://urbanham.com/event/rickey-smiley-live-celebration-35-years-of-comedy-february-14-16/
LOCATION:Hoover\, Alabama
CATEGORIES:Comedy,Featured Events,Food & Drinks,Live Music,Magic City Classic,Shopping,Things to do,Upcoming Events
ATTACH;FMTTYPE=image/png:https://urbanham.com/wp-content/uploads/2025/02/rickeysmileyx300.png
ORGANIZER;CN="Stardome Comedy Club":MAILTO:info@stardome.com
END:VEVENT
BEGIN:VEVENT
DTSTART;TZID=UTC:20250215T190000
DTEND;TZID=UTC:20250215T230000
DTSTAMP:20260421T000717
CREATED:20241213T150253Z
LAST-MODIFIED:20241213T150351Z
UID:3570-1739646000-1739660400@urbanham.com
SUMMARY:Mary J. Blige The For My Fans Tour (February 15)
DESCRIPTION:Mary J. Blige with Ne-Yo and Mario on Saturday\, February 15th at the Legacy Arena at the BJCC.
URL:https://urbanham.com/event/mary-j-blige-the-for-my-fans-tour-february-15/
LOCATION:Birmingham\, AL\, Birmingham\, AL\, 35203\, United States
CATEGORIES:Live Music,Things to do,Upcoming Events
ATTACH;FMTTYPE=image/png:https://urbanham.com/wp-content/uploads/2024/12/MaryJBligex300.png
END:VEVENT
BEGIN:VEVENT
DTSTART;TZID=UTC:20250215T200000
DTEND;TZID=UTC:20250215T230000
DTSTAMP:20260421T000717
CREATED:20241029T015521Z
LAST-MODIFIED:20250125T021717Z
UID:3423-1739649600-1739660400@urbanham.com
SUMMARY:Luv & Laughter Valentine's Concert (February 15)
DESCRIPTION:The Luv & Laughter Valentine’s Concert featuring LIVE MUSIC from Stokley and Raheem Devaughn plus comedy by DC Young Fly\, JJ Williamson and more is Saturday\, February 15\, 2025 at the Boutwell Auditorium.  Hosted by M.C. Lightfoot. \nTickets available at Etix.com 
URL:https://urbanham.com/event/luv-laughter-valentines-concert-february-15/
LOCATION:Birmingham\, AL\, Birmingham\, AL\, 35203\, United States
CATEGORIES:Comedy,Featured Events,Live Music,Things to do,Upcoming Events
ATTACH;FMTTYPE=image/png:https://urbanham.com/wp-content/uploads/2024/10/NewFlyer-GroupFlyerx300.png
END:VEVENT
END:VCALENDAR