BEGIN:VCALENDAR
VERSION:2.0
PRODID:-//Urbanham.com - ECPv6.15.20//NONSGML v1.0//EN
CALSCALE:GREGORIAN
METHOD:PUBLISH
X-WR-CALNAME:Urbanham.com
X-ORIGINAL-URL:https://urbanham.com
X-WR-CALDESC:Events for Urbanham.com
REFRESH-INTERVAL;VALUE=DURATION:PT1H
X-Robots-Tag:noindex
X-PUBLISHED-TTL:PT1H
BEGIN:VTIMEZONE
TZID:UTC
BEGIN:STANDARD
TZOFFSETFROM:+0000
TZOFFSETTO:+0000
TZNAME:UTC
DTSTART:20240101T000000
END:STANDARD
END:VTIMEZONE
BEGIN:VEVENT
DTSTART;TZID=UTC:20250307T190000
DTEND;TZID=UTC:20250307T220000
DTSTAMP:20260421T000405
CREATED:20250210T165036Z
LAST-MODIFIED:20250210T165114Z
UID:3808-1741374000-1741384800@urbanham.com
SUMMARY:Lil Wayne LIVE in Concert at the BJCC (March 7)
DESCRIPTION:Lil Wayne – LIVE IN CONCERT\n\nwith special guests Quavo and Anella \nLil Wayne\, a trailblazing hip-hop icon and multi-platinum artist\, has redefined the music industry with his unparalleled lyricism\, dynamic flow\, and groundbreaking artistry. Renowned for his innovative mixtapes and chart-topping albums\, Wayne has solidified his legacy as one of the most influential figures in modern rap. His ability to seamlessly evolve while staying true to his roots has earned him countless accolades and an enduring fanbase. \nJoining him is Quavo\, a versatile rapper\, singer\, and cultural tastemaker who rose to fame as part of the groundbreaking trio Migos. Known for his melodic hooks and charismatic stage presence\, Quavo has expanded his influence with successful solo projects and collaborations across genres. Together\, these two powerhouse artists deliver an unforgettable experience\, blending Lil Wayne’s lyrical mastery with Quavo’s melodic finesse to create a performance that transcends boundaries and electrifies audiences worldwide.
URL:https://urbanham.com/event/lil-wayne-live-in-concert-at-the-bjcc-march-7/
LOCATION:Birmingham\, AL\, Birmingham\, AL\, 35203\, United States
CATEGORIES:Featured Events,Live Music,Shopping,Things to do,Upcoming Events
ATTACH;FMTTYPE=image/png:https://urbanham.com/wp-content/uploads/2025/02/lilwaynex300.png
END:VEVENT
END:VCALENDAR