BEGIN:VCALENDAR
VERSION:2.0
PRODID:-//Urbanham.com - ECPv6.15.20//NONSGML v1.0//EN
CALSCALE:GREGORIAN
METHOD:PUBLISH
X-WR-CALNAME:Urbanham.com
X-ORIGINAL-URL:https://urbanham.com
X-WR-CALDESC:Events for Urbanham.com
REFRESH-INTERVAL;VALUE=DURATION:PT1H
X-Robots-Tag:noindex
X-PUBLISHED-TTL:PT1H
BEGIN:VTIMEZONE
TZID:UTC
BEGIN:STANDARD
TZOFFSETFROM:+0000
TZOFFSETTO:+0000
TZNAME:UTC
DTSTART:20240101T000000
END:STANDARD
END:VTIMEZONE
BEGIN:VEVENT
DTSTART;TZID=UTC:20250727T140000
DTEND;TZID=UTC:20250727T220000
DTSTAMP:20260426T031955
CREATED:20250126T174609Z
LAST-MODIFIED:20250126T174908Z
UID:3738-1753624800-1753653600@urbanham.com
SUMMARY:11th Annual Alabama Music Awards (July 27)
DESCRIPTION:11th Anniversary Alabama Music Awards is Sunday July 27\, 2025 \nBessemer Civic Center\n1130 9th Avenue SW Bessemer\, Al. 35022 \nFor more information call (205) 503-8461
URL:https://urbanham.com/event/11th-annual-alabama-music-awards-july-27/
LOCATION:Bessemer\, Alabama\, AL\, United States
CATEGORIES:DJ,Food & Drinks,Live Music,Things to do,Upcoming Events
ATTACH;FMTTYPE=image/png:https://urbanham.com/wp-content/uploads/2025/01/alamusicawards.png
END:VEVENT
BEGIN:VEVENT
DTSTART;TZID=UTC:20250727T180000
DTEND;TZID=UTC:20250727T210000
DTSTAMP:20260426T031955
CREATED:20250727T140846Z
LAST-MODIFIED:20250727T144751Z
UID:4411-1753639200-1753650000@urbanham.com
SUMMARY:Love Shooters Lounge presents Guitars and Good Times (TODAY)
DESCRIPTION:The popular spoken word and live music set Guitars & Good Times is TODAY at Bar Sebastian. $20 in advance/$25 at the door. \nPoetry\, song\, art\, lyrics\, music and more!
URL:https://urbanham.com/event/love-shooters-lounge-presents-guitars-and-good-times-today/
LOCATION:Birmingham City Hall\, 710 20th St N\,\, Birmingham\, AL\, 35203\, United States
CATEGORIES:Comedy,Featured Events,Live Music,Things to do,Upcoming Events
ATTACH;FMTTYPE=image/png:https://urbanham.com/wp-content/uploads/2025/07/loveshootersx300.png
END:VEVENT
END:VCALENDAR