BEGIN:VCALENDAR
VERSION:2.0
PRODID:-//Urbanham.com - ECPv6.15.20//NONSGML v1.0//EN
CALSCALE:GREGORIAN
METHOD:PUBLISH
X-ORIGINAL-URL:https://urbanham.com
X-WR-CALDESC:Events for Urbanham.com
REFRESH-INTERVAL;VALUE=DURATION:PT1H
X-Robots-Tag:noindex
X-PUBLISHED-TTL:PT1H
BEGIN:VTIMEZONE
TZID:UTC
BEGIN:STANDARD
TZOFFSETFROM:+0000
TZOFFSETTO:+0000
TZNAME:UTC
DTSTART:20240101T000000
END:STANDARD
END:VTIMEZONE
BEGIN:VEVENT
DTSTART;TZID=UTC:20250817T170000
DTEND;TZID=UTC:20250817T200000
DTSTAMP:20260425T142211
CREATED:20250718T192751Z
LAST-MODIFIED:20250718T192835Z
UID:4325-1755450000-1755460800@urbanham.com
SUMMARY:Taste of West End (August 17)
DESCRIPTION:A FREE Community event at the Arlington Historic House & Gardens featuring Logan the Entertainer\, Pedro Moore & Ascension Band plus Aretta Woodruff. \nSunday\, August 17\, 2025 from 5pm – 8pm \n331 Cotton Avenue SW\nBirmingham\, AL 35211
URL:https://urbanham.com/event/taste-of-west-end-august-17/
LOCATION:Birmingham\, AL\, Birmingham\, AL\, 35203\, United States
CATEGORIES:Featured Events,Food & Drinks,Live Music,Things to do,Upcoming Events
ATTACH;FMTTYPE=image/png:https://urbanham.com/wp-content/uploads/2025/07/LoganTheEntertainerx300.png
END:VEVENT
END:VCALENDAR