BEGIN:VCALENDAR
VERSION:2.0
PRODID:-//Urbanham.com - ECPv6.15.20//NONSGML v1.0//EN
CALSCALE:GREGORIAN
METHOD:PUBLISH
X-ORIGINAL-URL:https://urbanham.com
X-WR-CALDESC:Events for Urbanham.com
REFRESH-INTERVAL;VALUE=DURATION:PT1H
X-Robots-Tag:noindex
X-PUBLISHED-TTL:PT1H
BEGIN:VTIMEZONE
TZID:UTC
BEGIN:STANDARD
TZOFFSETFROM:+0000
TZOFFSETTO:+0000
TZNAME:UTC
DTSTART:20240101T000000
END:STANDARD
END:VTIMEZONE
BEGIN:VEVENT
DTSTART;TZID=UTC:20251212T180000
DTEND;TZID=UTC:20251212T233000
DTSTAMP:20260422T021359
CREATED:20250824T090136Z
LAST-MODIFIED:20250825T153250Z
UID:4726-1765562400-1765582200@urbanham.com
SUMMARY:Home for the Holidays with Ruben Studdard (December 12)
DESCRIPTION:Home for the Holidays with Ruben Studdard\, December 12th at WorkPlay Theatre Birmingham! Two shows 6pm & 9:30pm. For tickets and information visit https://workplay.com/
URL:https://urbanham.com/event/ruben-studdard/
LOCATION:Birmingham\, AL\, Birmingham\, AL\, 35203\, United States
CATEGORIES:Featured Events,Live Music,Things to do,Upcoming Events
ATTACH;FMTTYPE=image/png:https://urbanham.com/wp-content/uploads/2025/08/RubenStuddardx300-1.png
END:VEVENT
END:VCALENDAR