BEGIN:VCALENDAR
VERSION:2.0
PRODID:-//Urbanham.com - ECPv6.15.20//NONSGML v1.0//EN
CALSCALE:GREGORIAN
METHOD:PUBLISH
X-ORIGINAL-URL:https://urbanham.com
X-WR-CALDESC:Events for Urbanham.com
REFRESH-INTERVAL;VALUE=DURATION:PT1H
X-Robots-Tag:noindex
X-PUBLISHED-TTL:PT1H
BEGIN:VTIMEZONE
TZID:UTC
BEGIN:STANDARD
TZOFFSETFROM:+0000
TZOFFSETTO:+0000
TZNAME:UTC
DTSTART:20250101T000000
END:STANDARD
END:VTIMEZONE
BEGIN:VEVENT
DTSTART;TZID=UTC:20260304T193000
DTEND;TZID=UTC:20260304T233000
DTSTAMP:20260419T143913
CREATED:20260228T013946Z
LAST-MODIFIED:20260228T014658Z
UID:6192-1772652600-1772667000@urbanham.com
SUMMARY:Trombone Shorty & Orleans Avenue: Shorty Gras Tour 2026 (March 4)
DESCRIPTION:Birmingham\, get ready for a high-energy night of New Orleans brass\, funk\, and soul as Trombone Shorty & Orleans Avenue bring the Shorty Gras Tour 2026 to the Magic City! \n📅 March 4\, 2026📍 Birmingham\, Alabama \nJoining the show as special guests: New Breed Brass Band — delivering that authentic\, second-line energy straight from the streets of New Orleans. \nKnown for electrifying live performances that blend jazz\, funk\, R&B\, and rock\, Trombone Shorty turns every show into a celebration. Expect bold brass\, infectious rhythms\, and a Mardi Gras-style atmosphere right here in Birmingham. \nIf you love live music\, horns\, and that unmistakable New Orleans vibe\, this is one concert you don’t want to miss. \n🎟️ Tickets are expected to move fast — secure yours early and experience Shorty Gras live!
URL:https://urbanham.com/event/trombone-shorty-orleans-avenue-shorty-gras-tour-2026-march-4/
LOCATION:Birmingham\, AL\, Birmingham\, AL\, 35203\, United States
CATEGORIES:Live Music,Things to do,Upcoming Events
ATTACH;FMTTYPE=image/png:https://urbanham.com/wp-content/uploads/2026/02/TromboneShortyx300.png
END:VEVENT
END:VCALENDAR