BEGIN:VCALENDAR
VERSION:2.0
PRODID:-//Urbanham.com - ECPv6.15.20//NONSGML v1.0//EN
CALSCALE:GREGORIAN
METHOD:PUBLISH
X-ORIGINAL-URL:https://urbanham.com
X-WR-CALDESC:Events for Urbanham.com
REFRESH-INTERVAL;VALUE=DURATION:PT1H
X-Robots-Tag:noindex
X-PUBLISHED-TTL:PT1H
BEGIN:VTIMEZONE
TZID:UTC
BEGIN:STANDARD
TZOFFSETFROM:+0000
TZOFFSETTO:+0000
TZNAME:UTC
DTSTART:20230101T000000
END:STANDARD
END:VTIMEZONE
BEGIN:VEVENT
DTSTART;TZID=UTC:20240824T183000
DTEND;TZID=UTC:20240824T223000
DTSTAMP:20260424T043955
CREATED:20240818T154505Z
LAST-MODIFIED:20240818T154817Z
UID:2611-1724524200-1724538600@urbanham.com
SUMMARY:Barons Baseball (In My Barons Era)
DESCRIPTION:FREE Barons Friendship Bracelets to the first 1\,000 fans.  Lavender haze drinks with the BIGGEST Fireworks show of the year\, in game fan song selection and eras photo wall PLUS T-shirt giveaway!
URL:https://urbanham.com/event/barons-baseball-in-my-barons-era/
LOCATION:Birmingham\, AL\, Birmingham\, AL\, 35203\, United States
CATEGORIES:Sports,Things to do,Upcoming Events
ATTACH;FMTTYPE=image/png:https://urbanham.com/wp-content/uploads/2024/08/BirminghamBaronsx300.png
END:VEVENT
BEGIN:VEVENT
DTSTART;TZID=UTC:20240816T190000
DTEND;TZID=UTC:20240816T210000
DTSTAMP:20260424T043955
CREATED:20240310T162721Z
LAST-MODIFIED:20240310T162902Z
UID:1784-1723834800-1723842000@urbanham.com
SUMMARY:Birmingham Legion vs Detroit City Football Club
DESCRIPTION:Friday\, August 16th \nvs Detroit City Football Club \n7:00pm | Protective Stadium
URL:https://urbanham.com/event/birmingham-legion-vs-detroit-city-football-club/
LOCATION:Birmingham\, AL\, Birmingham\, AL\, 35203\, United States
CATEGORIES:Family Event,Sports,Upcoming Events
ATTACH;FMTTYPE=image/png:https://urbanham.com/wp-content/uploads/2024/03/birminghamlegionx300.png
END:VEVENT
BEGIN:VEVENT
DTSTART;TZID=UTC:20240803T183000
DTEND;TZID=UTC:20240803T203000
DTSTAMP:20260424T043955
CREATED:20240310T163203Z
LAST-MODIFIED:20240310T163526Z
UID:1787-1722709800-1722717000@urbanham.com
SUMMARY:Birmingham Legion vs Hartford Athletic
DESCRIPTION:Saturday\, August 3rd \nvs Hartford Athletic \n6:30pm | Protective Stadium
URL:https://urbanham.com/event/birmingham-legion-vs-hartford-athletic/
LOCATION:Birmingham\, AL\, Birmingham\, AL\, 35203\, United States
CATEGORIES:Family Event,Sports,Upcoming Events
ATTACH;FMTTYPE=image/png:https://urbanham.com/wp-content/uploads/2024/03/birminghamlegionx300.png
END:VEVENT
BEGIN:VEVENT
DTSTART;TZID=UTC:20240727T183000
DTEND;TZID=UTC:20240727T203000
DTSTAMP:20260424T043955
CREATED:20240310T163842Z
LAST-MODIFIED:20240310T163842Z
UID:1790-1722105000-1722112200@urbanham.com
SUMMARY:Birmingham Legion vs Orange County SC
DESCRIPTION:Saturday\, July 27th \nvs Orange County SC \n6:30pm | Protective Stadium
URL:https://urbanham.com/event/birmingham-legion-vs-orange-county-sc/
LOCATION:Birmingham\, AL\, Birmingham\, AL\, 35203\, United States
CATEGORIES:Family Event,Sports,Upcoming Events
ATTACH;FMTTYPE=image/png:https://urbanham.com/wp-content/uploads/2024/03/birminghamlegionx300.png
END:VEVENT
BEGIN:VEVENT
DTSTART;TZID=UTC:20240717T190000
DTEND;TZID=UTC:20240717T210000
DTSTAMP:20260424T043955
CREATED:20240310T164215Z
LAST-MODIFIED:20240310T164215Z
UID:1793-1721242800-1721250000@urbanham.com
SUMMARY:Birmingham Legion vs Rhode Island FC
DESCRIPTION:Wednesday\, July 17th \nvs Rhode Island FC \n7:00pm | Protective Stadium
URL:https://urbanham.com/event/birmingham-legion-vs-rhode-island-fc/
LOCATION:Birmingham\, AL\, Birmingham\, AL\, 35203\, United States
CATEGORIES:Family Event,Sports,Upcoming Events
ATTACH;FMTTYPE=image/png:https://urbanham.com/wp-content/uploads/2024/03/birminghamlegionx300.png
END:VEVENT
BEGIN:VEVENT
DTSTART;TZID=UTC:20240713T183000
DTEND;TZID=UTC:20240713T203000
DTSTAMP:20260424T043955
CREATED:20240310T164528Z
LAST-MODIFIED:20240310T164528Z
UID:1796-1720895400-1720902600@urbanham.com
SUMMARY:Birmingham Legion vs Colorado Springs Switchbacks
DESCRIPTION:Saturday\, July 13th \nvs Colorado Springs Switchbacks \n6:30pm | Protective Stadium
URL:https://urbanham.com/event/birmingham-legion-vs-colorado-springs-switchbacks/
LOCATION:Birmingham\, AL\, Birmingham\, AL\, 35203\, United States
CATEGORIES:Family Event,Sports,Upcoming Events
ATTACH;FMTTYPE=image/png:https://urbanham.com/wp-content/uploads/2024/03/birminghamlegionx300.png
END:VEVENT
BEGIN:VEVENT
DTSTART;TZID=UTC:20240629T183000
DTEND;TZID=UTC:20240629T203000
DTSTAMP:20260424T043955
CREATED:20240310T164722Z
LAST-MODIFIED:20240310T164722Z
UID:1799-1719685800-1719693000@urbanham.com
SUMMARY:Birmingham Legion vs Louisville City FC
DESCRIPTION:Saturday\, June 29th \nBirmingham Legion vs Louisville City FC \n6:30pm | Protective Stadium
URL:https://urbanham.com/event/birmingham-legion-vs-louisville-city-fc/
LOCATION:Birmingham\, AL\, Birmingham\, AL\, 35203\, United States
CATEGORIES:Family Event,Sports,Upcoming Events
ATTACH;FMTTYPE=image/png:https://urbanham.com/wp-content/uploads/2024/03/birminghamlegionx300.png
END:VEVENT
BEGIN:VEVENT
DTSTART;TZID=UTC:20240626T190000
DTEND;TZID=UTC:20240626T220000
DTSTAMP:20260424T043955
CREATED:20240625T122221Z
LAST-MODIFIED:20240625T123346Z
UID:2386-1719428400-1719439200@urbanham.com
SUMMARY:Summer Slam: Birmingham Squadron NBA Draft Party
DESCRIPTION:Don’t miss out on the annual NBA Summer Slam Draft Party hosted by the Birmingham Squadron at Avondale Brewing Company. This event is free for all ages and open to the public! \nWednesday\, June 26\, 2024\n7:00 PM 10:00 PM\nAvondale Brewing Company\n201 41st Street South\nBirmingham\, AL 35222
URL:https://urbanham.com/event/summer-slam-birmingham-squadron-nba-draft-party/
CATEGORIES:DJ,Featured Events,Food & Drinks,Food Trucks,Sports,Upcoming Events
ATTACH;FMTTYPE=image/png:https://urbanham.com/wp-content/uploads/2024/06/summerslamx300.png
END:VEVENT
BEGIN:VEVENT
DTSTART;TZID=UTC:20240620T080000
DTEND;TZID=UTC:20240620T170000
DTSTAMP:20260424T043955
CREATED:20240312T155624Z
LAST-MODIFIED:20240312T160123Z
UID:1852-1718870400-1718902800@urbanham.com
SUMMARY:MLB at Rickwood Field: A Tribute to the Negro Leagues
DESCRIPTION:Major League Baseball has announced that Rickwood Field\, the oldest professional ballpark in the United States and former home of the Birmingham Black Barons of the Negro Leagues\, will be the site of a special Regular Season game between the St. Louis Cardinals and San Francisco Giants on June 20\, 2024. Please check back soon for additional information regarding this event.
URL:https://urbanham.com/event/mlb-at-rickwood-field/
LOCATION:Birmingham\, AL\, Birmingham\, AL\, 35203\, United States
CATEGORIES:Sports,Things to do,Upcoming Events
ATTACH;FMTTYPE=image/png:https://urbanham.com/wp-content/uploads/2024/03/mlbx300.png
END:VEVENT
BEGIN:VEVENT
DTSTART;TZID=UTC:20240609T180000
DTEND;TZID=UTC:20240609T200000
DTSTAMP:20260424T043955
CREATED:20240310T152618Z
LAST-MODIFIED:20240310T152618Z
UID:1766-1717956000-1717963200@urbanham.com
SUMMARY:Birmingham Legion vs Indy Eleven
DESCRIPTION:Sunday\, June 9th \nvs Indy Eleven \n6:00pm | Protective Stadium
URL:https://urbanham.com/event/birmingham-legion-vs-indy-eleven/
LOCATION:Birmingham\, AL\, Birmingham\, AL\, 35203\, United States
CATEGORIES:Family Event,Food & Drinks,Sports,Upcoming Events
ATTACH;FMTTYPE=image/png:https://urbanham.com/wp-content/uploads/2024/03/birminghamlegionx300.png
END:VEVENT
BEGIN:VEVENT
DTSTART;TZID=UTC:20240608T140000
DTEND;TZID=UTC:20240608T180000
DTSTAMP:20260424T043955
CREATED:20240604T025016Z
LAST-MODIFIED:20240604T025149Z
UID:2346-1717855200-1717869600@urbanham.com
SUMMARY:USFL Conference Championship Game: Panthers vs Stallions (June 8)
DESCRIPTION:The road to the championship begins here! Catch all the action at the USFL Conference game. Secure your seats now! \n\nUSFL Conference Championship\nSat • Jun 08 • 2:00 PM\nProtective Stadium\, Birmingham\, AL
URL:https://urbanham.com/event/usfl-conference-championship-game-panthers-vs-stallions-june-8/
LOCATION:Birmingham\, AL\, Birmingham\, AL\, 35203\, United States
CATEGORIES:Family Event,Featured Events,Food & Drinks,Sports,Upcoming Events
ATTACH;FMTTYPE=image/png:https://urbanham.com/wp-content/uploads/2024/03/StallionsFootballx300.png
END:VEVENT
BEGIN:VEVENT
DTSTART;TZID=UTC:20240608T080000
DTEND;TZID=UTC:20240608T170000
DTSTAMP:20260424T043955
CREATED:20240403T234117Z
LAST-MODIFIED:20240403T234117Z
UID:2076-1717833600-1717866000@urbanham.com
SUMMARY:Marcell Dareus Football and Cheer Camp
DESCRIPTION:Marcell Dareus Football and Cheer Camp is Saturday\, June 8th at Huffman High School. \nFree Admission with Lunch and T-Shirt Provided! For boys and girls ages 8 – 17. Registration starts 8AM \n950 Springville Road\, Birmingham\, AL 35215
URL:https://urbanham.com/event/footballandcheercamp/
LOCATION:Birmingham\, AL\, Birmingham\, AL\, 35203\, United States
CATEGORIES:Family Event,Sports,Things to do,Upcoming Events
ATTACH;FMTTYPE=image/jpeg:https://urbanham.com/wp-content/uploads/2024/04/marcellx300.jpg
END:VEVENT
BEGIN:VEVENT
DTSTART;TZID=UTC:20240601T110000
DTEND;TZID=UTC:20240601T133000
DTSTAMP:20260424T043955
CREATED:20240309T225028Z
LAST-MODIFIED:20240309T230759Z
UID:1721-1717239600-1717248600@urbanham.com
SUMMARY:Birmingham Stallions vs. Michigan Panthers
DESCRIPTION:Birmingham Stallions vs. Michigan Panthers
URL:https://urbanham.com/event/birmingham-stallions-vs-michigan-panthers/
LOCATION:Birmingham\, AL\, Birmingham\, AL\, 35203\, United States
CATEGORIES:Family Event,Sports,Things to do,Upcoming Events
ATTACH;FMTTYPE=image/png:https://urbanham.com/wp-content/uploads/2024/03/StallionsFootballx300.png
END:VEVENT
BEGIN:VEVENT
DTSTART;TZID=UTC:20240518T190000
DTEND;TZID=UTC:20240518T213000
DTSTAMP:20260424T043955
CREATED:20240309T230346Z
LAST-MODIFIED:20240309T230715Z
UID:1732-1716058800-1716067800@urbanham.com
SUMMARY:Birmingham Stallions vs. Houston Roughnecks
DESCRIPTION:Birmingham Stallions vs. Houston Roughnecks
URL:https://urbanham.com/event/birmingham-stallions-vs-houston-roughnecks-2/
LOCATION:Birmingham\, AL\, Birmingham\, AL\, 35203\, United States
CATEGORIES:Family Event,Sports,Upcoming Events
ATTACH;FMTTYPE=image/png:https://urbanham.com/wp-content/uploads/2024/03/StallionsFootballx300.png
END:VEVENT
BEGIN:VEVENT
DTSTART;TZID=UTC:20240515T190000
DTEND;TZID=UTC:20240515T210000
DTSTAMP:20260424T043955
CREATED:20240310T151958Z
LAST-MODIFIED:20240310T152057Z
UID:1759-1715799600-1715806800@urbanham.com
SUMMARY:Birmingham Legion vs Charleston Battery
DESCRIPTION:Wednesday\, May 15th \nvs Charleston Battery \n7:00pm | Protective Stadium
URL:https://urbanham.com/event/birmingham-legion-vs-charleston-battery/
LOCATION:Birmingham\, AL\, Birmingham\, AL\, 35203\, United States
CATEGORIES:Family Event,Sports,Things to do,Upcoming Events
ATTACH;FMTTYPE=image/png:https://urbanham.com/wp-content/uploads/2024/03/birminghamlegionx300.png
END:VEVENT
BEGIN:VEVENT
DTSTART;TZID=UTC:20240511T080000
DTEND;TZID=UTC:20240511T170000
DTSTAMP:20260424T043955
CREATED:20240309T225933Z
LAST-MODIFIED:20240309T230825Z
UID:1729-1715414400-1715446800@urbanham.com
SUMMARY:Birmingham Stallions vs. St. Louis Battlehawks
DESCRIPTION:Birmingham Stallions vs. St. Louis Battlehawks
URL:https://urbanham.com/event/birmingham-stallions-vs-st-louis-battlehawks/
LOCATION:Birmingham\, AL\, Birmingham\, AL\, 35203\, United States
CATEGORIES:Family Event,Sports,Things to do,Upcoming Events
ATTACH;FMTTYPE=image/png:https://urbanham.com/wp-content/uploads/2024/03/StallionsFootballx300.png
END:VEVENT
BEGIN:VEVENT
DTSTART;TZID=UTC:20240504T183000
DTEND;TZID=UTC:20240504T203000
DTSTAMP:20260424T043955
CREATED:20240310T151229Z
LAST-MODIFIED:20240310T152128Z
UID:1756-1714847400-1714854600@urbanham.com
SUMMARY:Birmingham Legion vs FC Tulsa
DESCRIPTION:Saturday\, May 4th \nvs FC Tulsa \n6:30pm | Protective Stadium
URL:https://urbanham.com/event/birmingham-legion-vs-fc-tulsa/
LOCATION:Birmingham\, AL\, Birmingham\, AL\, 35203\, United States
CATEGORIES:Family Event,Food & Drinks,Sports,Upcoming Events
ATTACH;FMTTYPE=image/png:https://urbanham.com/wp-content/uploads/2024/03/birminghamlegionx300.png
END:VEVENT
BEGIN:VEVENT
DTSTART;TZID=UTC:20240430T180000
DTEND;TZID=UTC:20240430T210000
DTSTAMP:20260424T043955
CREATED:20240310T191627Z
LAST-MODIFIED:20240310T191710Z
UID:1816-1714500000-1714510800@urbanham.com
SUMMARY:Birmingham Barons vs Rocket City
DESCRIPTION:Tue\nApr 30\n\n\n\n\n\nvs.\n\n\nRocket City\n\n\n\n6:00 pm CDT
URL:https://urbanham.com/event/birmingham-barons-vs-rocket-city/
LOCATION:Birmingham\, AL\, Birmingham\, AL\, 35203\, United States
CATEGORIES:Family Event,Sports,Upcoming Events
ATTACH;FMTTYPE=image/png:https://urbanham.com/wp-content/uploads/2024/03/birminghambaronsx300.png
END:VEVENT
BEGIN:VEVENT
DTSTART;TZID=UTC:20240427T183000
DTEND;TZID=UTC:20240427T203000
DTSTAMP:20260424T043955
CREATED:20240310T150900Z
LAST-MODIFIED:20240310T152303Z
UID:1753-1714242600-1714249800@urbanham.com
SUMMARY:Birmingham Legion vs Memphis 901 FC
DESCRIPTION:Saturday April 27th \nvs Memphis 901 FC \n6:30pm | Protective Stadium
URL:https://urbanham.com/event/birmingham-legion-vs-memphis-901-fc/
LOCATION:Birmingham\, AL\, Birmingham\, AL\, 35203\, United States
CATEGORIES:Family Event,Food & Drinks,Sports,Upcoming Events
ATTACH;FMTTYPE=image/png:https://urbanham.com/wp-content/uploads/2024/03/birminghamlegionx300.png
END:VEVENT
BEGIN:VEVENT
DTSTART;TZID=UTC:20240420T180000
DTEND;TZID=UTC:20240420T220000
DTSTAMP:20260424T043955
CREATED:20240309T224337Z
LAST-MODIFIED:20240309T230841Z
UID:1718-1713636000-1713650400@urbanham.com
SUMMARY:Birmingham Stallions vs DC Defenders
DESCRIPTION:Birmingham Stallions vs DC Defenders at Protective Stadium
URL:https://urbanham.com/event/birmingham-stallions-vs-dc-defenders/
LOCATION:Birmingham\, AL\, Birmingham\, AL\, 35203\, United States
CATEGORIES:Family Event,Sports,Things to do,Upcoming Events
ATTACH;FMTTYPE=image/png:https://urbanham.com/wp-content/uploads/2024/03/StallionsFootballx300.png
END:VEVENT
BEGIN:VEVENT
DTSTART;TZID=UTC:20240420T080000
DTEND;TZID=UTC:20240421T170000
DTSTAMP:20260424T043955
CREATED:20240309T182440Z
LAST-MODIFIED:20240309T182625Z
UID:1692-1713600000-1713718800@urbanham.com
SUMMARY:Race Weekend in Alabama: Talladega Speedway Spring Race
DESCRIPTION:Spring Race Weekend is April at Talladega Speedway.  For more information visit https://www.talladegasuperspeedway.com/
URL:https://urbanham.com/event/race-weekend-in-alabama-talladega-speedway-spring-race/
LOCATION:Talladega\, Alabama\, 627 West Battle Street\, Talladega\, AL\, 35160\, United States
CATEGORIES:Family Event,Food & Drinks,Sports,Things to do,Upcoming Events
ATTACH;FMTTYPE=image/png:https://urbanham.com/wp-content/uploads/2024/03/raceweekendx300.png
END:VEVENT
BEGIN:VEVENT
DTSTART;TZID=UTC:20240416T190000
DTEND;TZID=UTC:20240421T160000
DTSTAMP:20260424T043955
CREATED:20240310T191237Z
LAST-MODIFIED:20240310T191257Z
UID:1812-1713294000-1713715200@urbanham.com
SUMMARY:Birmingham Barons vs Mississippi (April 16 - 21)
DESCRIPTION:Tue\nApr 16\n\n\n\n\n\nvs.\n\n\nMississippi\n\n\n\n\n7:00 pm CDT \n\n\n\n\n\n\n\n\n\n\n\n\n\n\n\n\n\n\n\n\n\n\n\n\n\nWed\nApr 17\n\n\n\n\n\nvs.\n\n\nMississippi\n\n\n\n\n7:00 pm CDT \n\n\n\n\n\n\n\n\n\n\n\n\n\n\n\n\n\n\n\n\n\n\n\n\n\nThu\nApr 18\n\n\n\n\n\nvs.\n\n\nMississippi\n\n\n\n\n7:00 pm CDT \n\n\n\n\n\n\n\n\n\n\n\n\n\n\n\n\n\n\n\n\n\n\n\n\n\nFri\nApr 19\n\n\n\n\n\nvs.\n\n\nMississippi\n\n\n\n\n7:00 pm CDT \n\n\n\n\n\n\n\n\n\n\n\n\n\n\n\n\n\n\n\n\n\n\n\n\n\nSat\nApr 20\n\n\n\n\n\nvs.\n\n\nMississippi\n\n\n\n\n6:30 pm CDT \n\n\n\n\n\n\n\n\n\n\n\n\n\n\n\n\n\n\n\n\n\n\n\n\n\nSun\nApr 21\n\n\n\n\n\nvs.\n\n\nMississippi\n\n\n\n4:00 pm CDT
URL:https://urbanham.com/event/birmingham-barons-vs-mississippi-april-16-21/
LOCATION:Birmingham\, AL\, Birmingham\, AL\, 35203\, United States
CATEGORIES:Family Event,Sports,Upcoming Events
ATTACH;FMTTYPE=image/png:https://urbanham.com/wp-content/uploads/2024/03/birminghambaronsx300.png
END:VEVENT
BEGIN:VEVENT
DTSTART;TZID=UTC:20240413T180000
DTEND;TZID=UTC:20240413T203000
DTSTAMP:20260424T043955
CREATED:20240304T172833Z
LAST-MODIFIED:20240312T152306Z
UID:1351-1713031200-1713040200@urbanham.com
SUMMARY:Birmingham Stallions vs Memphis Showboats (Champions Night)
DESCRIPTION:Birmingham Stallions Football is back as a part of the merged UFL. \n\nIntroducing Champions Night \n\n\ncheer on the champs April 13th with an exclusive ticket & t-shirt package!\n\n\ngrab yours here \nfevo.me/usflchamp\n\nTickets available at TicketMaster.com
URL:https://urbanham.com/event/birmingham-stallions-vs-memphis-showboats/
LOCATION:Birmingham\, AL\, Birmingham\, AL\, 35203\, United States
CATEGORIES:Family Event,Sports,Things to do,Upcoming Events
ATTACH;FMTTYPE=image/png:https://urbanham.com/wp-content/uploads/2024/03/StallionsFootballx300.png
END:VEVENT
BEGIN:VEVENT
DTSTART;TZID=UTC:20240407T160000
DTEND;TZID=UTC:20240407T190000
DTSTAMP:20260424T043955
CREATED:20240310T150557Z
LAST-MODIFIED:20240310T150557Z
UID:1749-1712505600-1712516400@urbanham.com
SUMMARY:Birmingham Legion vs Loudoun United FC
DESCRIPTION:Sunday\, April 7th \nvs Loudoun United FC \n4:00pm | Protective Stadium
URL:https://urbanham.com/event/birmingham-legion-vs-loudoun-united-fc/
LOCATION:Birmingham\, AL\, Birmingham\, AL\, 35203\, United States
CATEGORIES:Food & Drinks,Sports,Upcoming Events
ATTACH;FMTTYPE=image/png:https://urbanham.com/wp-content/uploads/2024/03/birminghamlegionx300.png
END:VEVENT
BEGIN:VEVENT
DTSTART;TZID=UTC:20240406T193000
DTEND;TZID=UTC:20240406T223000
DTSTAMP:20260424T043955
CREATED:20240404T003043Z
LAST-MODIFIED:20240404T003043Z
UID:2081-1712431800-1712442600@urbanham.com
SUMMARY:Alabama Men's Basketball vs UConn (Final 4)
DESCRIPTION:#RollTide
URL:https://urbanham.com/event/alabama-mens-basketball-vs-uconn-final-4/
CATEGORIES:Sports
ATTACH;FMTTYPE=image/png:https://urbanham.com/wp-content/uploads/2024/04/almbbx300.png
END:VEVENT
BEGIN:VEVENT
DTSTART;TZID=UTC:20240405T190000
DTEND;TZID=UTC:20240407T163000
DTSTAMP:20260424T043955
CREATED:20240310T190534Z
LAST-MODIFIED:20240310T190717Z
UID:1805-1712343600-1712507400@urbanham.com
SUMMARY:Birmingham Barons vs Chattanooga (April 5 - 7)
DESCRIPTION:Fri\nApr 5\n\n\n\n\n\nvs.\n\n\nChattanooga\n\n\n\n\n7:00 pm CDT \n\n\n\n\n\n\n\n\n\n\n\n\n\n\n\n\n\n\n\n\n\n\n\n\n\nSat\nApr 6\n\n\n\n\n\nvs.\n\n\nChattanooga\n\n\n\n\n6:30 pm CDT \n\n\n\n\n\n\n\n\n\n\n\n\n\n\n\n\n\n\n\n\n\n\n\n\n\nSun\nApr 7\n\n\n\n\n\nvs.\n\n\nChattanooga\n\n\n\n4:00 pm CDT
URL:https://urbanham.com/event/birmingham-barons-vs-chattanooga/
LOCATION:Birmingham\, AL\, Birmingham\, AL\, 35203\, United States
CATEGORIES:Family Event,Sports,Upcoming Events
ATTACH;FMTTYPE=image/png:https://urbanham.com/wp-content/uploads/2024/03/birminghambaronsx300.png
END:VEVENT
BEGIN:VEVENT
DTSTART;TZID=UTC:20240321T190000
DTEND;TZID=UTC:20240321T190000
DTSTAMP:20260424T043955
CREATED:20240304T040725Z
LAST-MODIFIED:20240321T115709Z
UID:1305-1711047600-1711047600@urbanham.com
SUMMARY:Birmingham Squadron Basketball: Women's Empowerment Night
DESCRIPTION:The Birmingham Squadron will host its Women’s Empowerment Night on March 21\, 2024. \nWomen’s Empowerment Night\nThursday\, March 21 • 7:00 PM\nvs. Osceola Magic \nIn celebration of Women’s History Month\, the Squadron will host Women’s Empowerment Night to recognize the achievements of women in our communities! \nGates open at 6pm with tickets available at TicketMaster.com
URL:https://urbanham.com/event/birmingham-squadron-basketball-womens-empowerment-night/
LOCATION:Birmingham\, AL\, Birmingham\, AL\, 35203\, United States
CATEGORIES:Family Event,Sports,Upcoming Events
ATTACH;FMTTYPE=image/jpeg:https://urbanham.com/wp-content/uploads/2024/03/womens-empowerment-night.jpg
END:VEVENT
BEGIN:VEVENT
DTSTART;TZID=UTC:20240319T190000
DTEND;TZID=UTC:20240319T213000
DTSTAMP:20260424T043955
CREATED:20240309T223926Z
LAST-MODIFIED:20240310T222021Z
UID:1714-1710874800-1710883800@urbanham.com
SUMMARY:Birmingham Squadron Basketball: Game Show Night
DESCRIPTION:Game Show Night\nTuesday\, March 19 • 7:00 PM\nvs. Osceola Magic \n‘What is…. Birmingham Squadron.  Join us at Legacy Arena tonight as we test the knowledge of some of your favorite game shows
URL:https://urbanham.com/event/birmingham-squadron-basketball-game-show-night/
LOCATION:Birmingham\, AL\, Birmingham\, AL\, 35203\, United States
CATEGORIES:Family Event,Sports,Things to do,Upcoming Events
ATTACH;FMTTYPE=image/png:https://urbanham.com/wp-content/uploads/2024/03/GameShowNightx300.png
END:VEVENT
BEGIN:VEVENT
DTSTART;TZID=UTC:20240313T110000
DTEND;TZID=UTC:20240316T163000
DTSTAMP:20260424T043955
CREATED:20240309T145100Z
LAST-MODIFIED:20240309T145351Z
UID:1658-1710327600-1710606600@urbanham.com
SUMMARY:SWAC Men's and Women's Basketball Tournament
DESCRIPTION:The 2024 Starry SWAC Men’s and Women’s Basketball Tournaments presented by Buick will be held at the Bartow Arena located in Downtown Birmingham\, Wednesday\, March 13\, through Saturday\, March 16. \nDates: March 13-16\, 2024\nSite: Bartow Arena – Birmingham\, AL\nTournament Brackets\nParking Instructions\nVendor Application\nPurchase Tickets
URL:https://urbanham.com/event/swac-tournament/
LOCATION:Birmingham\, AL\, Birmingham\, AL\, 35203\, United States
CATEGORIES:Family Event,Sports,Things to do,Upcoming Events
ATTACH;FMTTYPE=image/png:https://urbanham.com/wp-content/uploads/2024/03/SWACBasketballTournament.png
END:VEVENT
BEGIN:VEVENT
DTSTART;TZID=UTC:20240310T150000
DTEND;TZID=UTC:20240310T180000
DTSTAMP:20260424T043955
CREATED:20240309T215145Z
LAST-MODIFIED:20240309T231050Z
UID:1703-1710082800-1710093600@urbanham.com
SUMMARY:Birmingham Squadron Basketball: Youth Sports Night
DESCRIPTION:Youth Sports Night\nSunday\, March 10 • 3:00 PM\nvs. Long Island Nets \nThe best teams in the city from soccer\, football\, baseball\, and basketball will gather tonight to cheer on Birmingham’s favorite team! \nGiveaway: Kids will get a Commander Growth Chart
URL:https://urbanham.com/event/birmingham-squadron-basketball-youth-sports-night/
LOCATION:Birmingham\, AL\, Birmingham\, AL\, 35203\, United States
CATEGORIES:Festival,Sports,Things to do,Upcoming Events
ATTACH;FMTTYPE=image/png:https://urbanham.com/wp-content/uploads/2024/03/YouthSportsx300.png
END:VEVENT
END:VCALENDAR