BEGIN:VCALENDAR
VERSION:2.0
PRODID:-//Urbanham.com - ECPv6.15.20//NONSGML v1.0//EN
CALSCALE:GREGORIAN
METHOD:PUBLISH
X-ORIGINAL-URL:https://urbanham.com
X-WR-CALDESC:Events for Urbanham.com
REFRESH-INTERVAL;VALUE=DURATION:PT1H
X-Robots-Tag:noindex
X-PUBLISHED-TTL:PT1H
BEGIN:VTIMEZONE
TZID:UTC
BEGIN:STANDARD
TZOFFSETFROM:+0000
TZOFFSETTO:+0000
TZNAME:UTC
DTSTART:20240101T000000
END:STANDARD
END:VTIMEZONE
BEGIN:VEVENT
DTSTART;TZID=UTC:20251203T110000
DTEND;TZID=UTC:20251205T220000
DTSTAMP:20260426T020006
CREATED:20251129T230625Z
LAST-MODIFIED:20251129T232137Z
UID:5256-1764759600-1764972000@urbanham.com
SUMMARY:AHSAA Super 7 State Football Championships (December 3 - 5)
DESCRIPTION:THE ALABAMA HIGH SCHOOL ATHLETIC ASSOCIATION SUPER 7 STATE FOOTBALL CHAMPIONSHIPS are one of the most exciting and highly anticipated sporting events in the state. Each December\, over the course of three days\, the final two teams from each of Alabama’s seven classifications (1A through 7A) and 2 Flag Football classifications (1A-5A and 6A-7A) compete to be crowned as the new state champions. \n2025 Schedule: \n\nWednesday\, December 3 – Gates Open – 9:30AM\n\n1A-5A Girls’ Flag – Kickoff at 11:00AM\n6A&7A Girls’ Flag – Kickoff at 3:00PM\n7A – Kickoff at 7:00PM\n\n\nThursday\, December 4 – Gates Open – 9:00AM\n\n3A – Kickoff at 11:00AM\n1A – Kickoff at 3:00PM\n5A – Kickoff at 7:00PM\n\n\nFriday\, December 5 – Gates Open – 9:00AM\n\n4A – Kickoff at 11:00AM\n2A – Kickoff at 3:00PM\n6A – Kickoff at 7:00PM\n\n\n\n 
URL:https://urbanham.com/event/ahsaa-super-7-state-football-championships/
LOCATION:Birmingham\, AL\, Birmingham\, AL\, 35203\, United States
CATEGORIES:Featured Events,Sports,Things to do,Upcoming Events
ATTACH;FMTTYPE=image/png:https://urbanham.com/wp-content/uploads/2025/11/Super7.png
END:VEVENT
BEGIN:VEVENT
DTSTART;TZID=UTC:20251203T120000
DTEND;TZID=UTC:20260324T210000
DTSTAMP:20260426T020006
CREATED:20251129T230626Z
LAST-MODIFIED:20251130T010847Z
UID:5257-1764763200-1774386000@urbanham.com
SUMMARY:Birmingham Squadron 2025-2026 Home Games
DESCRIPTION:NBA G League Birmingham Squadron 2025–2026 home schedule at Legacy Arena. See website for full list of game dates and opponents. \nFriday\, November 7\, 2025 — 7:00 PM \nBirmingham Squadron vs Austin Spurs\nOpening Night at Legacy Arena. \nWednesday\, December 3\, 2025 — 11:00 AM \nBirmingham Squadron vs Memphis Hustle\nSTEM Fest Game (Catalyst by Southern Research). \nFriday\, December 5\, 2025 — 7:00 PM \nBirmingham Squadron vs Memphis Hustle\nFriday Night Fiesta. \nSunday\, December 7\, 2025 — 3:00 PM \nBirmingham Squadron vs Texas Legends\nHoops for Troops Night. \nTuesday\, December 9\, 2025 — 7:00 PM \nBirmingham Squadron vs Texas Legends \nSunday\, December 14\, 2025 — 3:00 PM \nBirmingham Squadron vs Rio Grande Valley Vipers \nTuesday\, December 16\, 2025 — 7:00 PM \nBirmingham Squadron vs Rio Grande Valley Vipers \nThursday\, January 8\, 2026 — 7:00 PM \nBirmingham Squadron vs Osceola Magic \nSaturday\, January 10\, 2026 — 6:00 PM \nBirmingham Squadron vs Osceola Magic \nSunday\, January 11\, 2026 — 5:00 PM \nBirmingham Squadron vs Raptors 905 \nTuesday\, January 13\, 2026 — 7:00 PM \nBirmingham Squadron vs Raptors 905 \nThursday\, January 15\, 2026 — 7:00 PM \nBirmingham Squadron vs Motor City Cruise \nSaturday\, January 17\, 2026 — 6:00 PM \nBirmingham Squadron vs Motor City Cruise \nMonday\, January 19\, 2026 — 1:00 PM \nBirmingham Squadron vs Greensboro Swarm\nMLK Celebration Game. \nThursday\, January 22\, 2026 — 7:00 PM \nBirmingham Squadron vs Cleveland Charge \nSaturday\, January 24\, 2026 — 6:00 PM \nBirmingham Squadron vs Cleveland Charge \nWednesday\, January 28\, 2026 — 7:00 PM \nBirmingham Squadron vs Sioux Falls Skyforce \nThursday\, February 12\, 2026 — 7:00 PM \nBirmingham Squadron vs Rip City Remix \nThursday\, February 19\, 2026 — 11:00 AM \nBirmingham Squadron vs Long Island Nets \nFriday\, February 20\, 2026 — 7:00 PM \nBirmingham Squadron vs Long Island Nets \n21. Monday\, March 16\, 2026 — 7:00 PM \nBirmingham Squadron vs Maine Celtics \nTuesday\, March 17\, 2026 — 7:00 PM \nBirmingham Squadron vs Maine Celtics \nSunday\, March 22\, 2026 — 3:00 PM \nBirmingham Squadron vs Windy City Bulls\nYouth Sports Night. \nTuesday\, March 24\, 2026 — 7:00 PM \n 
URL:https://urbanham.com/event/birmingham-squadron-2025-2026-home-season/
LOCATION:Birmingham\, AL\, Birmingham\, AL\, 35203\, United States
CATEGORIES:Sports,Things to do,Upcoming Events
ATTACH;FMTTYPE=image/png:https://urbanham.com/wp-content/uploads/2025/11/DecemberSquadron.png
END:VEVENT
BEGIN:VEVENT
DTSTART;TZID=UTC:20251203T193000
DTEND;TZID=UTC:20251203T213000
DTSTAMP:20260426T020006
CREATED:20251129T065326Z
LAST-MODIFIED:20251129T071430Z
UID:5198-1764790200-1764797400@urbanham.com
SUMMARY:Steve-O The Crash and Burn Tour (December 3)
DESCRIPTION:Steve-O brings his wild Crash & Burn Tour with outrageous stories and multimedia madness.
URL:https://urbanham.com/event/steve-o-the-crash-and-burn-tour/
LOCATION:Hoover\, Alabama
CATEGORIES:Comedy,Food & Drinks,Things to do,Upcoming Events
ATTACH;FMTTYPE=image/png:https://urbanham.com/wp-content/uploads/2025/11/steviex300.png
ORGANIZER;CN="Stardome Comedy Club":MAILTO:info@stardome.com
END:VEVENT
END:VCALENDAR