BEGIN:VCALENDAR
VERSION:2.0
PRODID:-//Urbanham.com - ECPv6.15.20//NONSGML v1.0//EN
CALSCALE:GREGORIAN
METHOD:PUBLISH
X-ORIGINAL-URL:https://urbanham.com
X-WR-CALDESC:Events for Urbanham.com
REFRESH-INTERVAL;VALUE=DURATION:PT1H
X-Robots-Tag:noindex
X-PUBLISHED-TTL:PT1H
BEGIN:VTIMEZONE
TZID:UTC
BEGIN:STANDARD
TZOFFSETFROM:+0000
TZOFFSETTO:+0000
TZNAME:UTC
DTSTART:20240101T000000
END:STANDARD
END:VTIMEZONE
BEGIN:VEVENT
DTSTART;TZID=UTC:20251203T120000
DTEND;TZID=UTC:20260324T210000
DTSTAMP:20260425T232710
CREATED:20251129T230626Z
LAST-MODIFIED:20251130T010847Z
UID:5257-1764763200-1774386000@urbanham.com
SUMMARY:Birmingham Squadron 2025-2026 Home Games
DESCRIPTION:NBA G League Birmingham Squadron 2025–2026 home schedule at Legacy Arena. See website for full list of game dates and opponents. \nFriday\, November 7\, 2025 — 7:00 PM \nBirmingham Squadron vs Austin Spurs\nOpening Night at Legacy Arena. \nWednesday\, December 3\, 2025 — 11:00 AM \nBirmingham Squadron vs Memphis Hustle\nSTEM Fest Game (Catalyst by Southern Research). \nFriday\, December 5\, 2025 — 7:00 PM \nBirmingham Squadron vs Memphis Hustle\nFriday Night Fiesta. \nSunday\, December 7\, 2025 — 3:00 PM \nBirmingham Squadron vs Texas Legends\nHoops for Troops Night. \nTuesday\, December 9\, 2025 — 7:00 PM \nBirmingham Squadron vs Texas Legends \nSunday\, December 14\, 2025 — 3:00 PM \nBirmingham Squadron vs Rio Grande Valley Vipers \nTuesday\, December 16\, 2025 — 7:00 PM \nBirmingham Squadron vs Rio Grande Valley Vipers \nThursday\, January 8\, 2026 — 7:00 PM \nBirmingham Squadron vs Osceola Magic \nSaturday\, January 10\, 2026 — 6:00 PM \nBirmingham Squadron vs Osceola Magic \nSunday\, January 11\, 2026 — 5:00 PM \nBirmingham Squadron vs Raptors 905 \nTuesday\, January 13\, 2026 — 7:00 PM \nBirmingham Squadron vs Raptors 905 \nThursday\, January 15\, 2026 — 7:00 PM \nBirmingham Squadron vs Motor City Cruise \nSaturday\, January 17\, 2026 — 6:00 PM \nBirmingham Squadron vs Motor City Cruise \nMonday\, January 19\, 2026 — 1:00 PM \nBirmingham Squadron vs Greensboro Swarm\nMLK Celebration Game. \nThursday\, January 22\, 2026 — 7:00 PM \nBirmingham Squadron vs Cleveland Charge \nSaturday\, January 24\, 2026 — 6:00 PM \nBirmingham Squadron vs Cleveland Charge \nWednesday\, January 28\, 2026 — 7:00 PM \nBirmingham Squadron vs Sioux Falls Skyforce \nThursday\, February 12\, 2026 — 7:00 PM \nBirmingham Squadron vs Rip City Remix \nThursday\, February 19\, 2026 — 11:00 AM \nBirmingham Squadron vs Long Island Nets \nFriday\, February 20\, 2026 — 7:00 PM \nBirmingham Squadron vs Long Island Nets \n21. Monday\, March 16\, 2026 — 7:00 PM \nBirmingham Squadron vs Maine Celtics \nTuesday\, March 17\, 2026 — 7:00 PM \nBirmingham Squadron vs Maine Celtics \nSunday\, March 22\, 2026 — 3:00 PM \nBirmingham Squadron vs Windy City Bulls\nYouth Sports Night. \nTuesday\, March 24\, 2026 — 7:00 PM \n 
URL:https://urbanham.com/event/birmingham-squadron-2025-2026-home-season/
LOCATION:Birmingham\, AL\, Birmingham\, AL\, 35203\, United States
CATEGORIES:Sports,Things to do,Upcoming Events
ATTACH;FMTTYPE=image/png:https://urbanham.com/wp-content/uploads/2025/11/DecemberSquadron.png
END:VEVENT
BEGIN:VEVENT
DTSTART;TZID=UTC:20251226T190000
DTEND;TZID=UTC:20251228T230000
DTSTAMP:20260425T232710
CREATED:20251129T065354Z
LAST-MODIFIED:20251129T231602Z
UID:5209-1766775600-1766962800@urbanham.com
SUMMARY:Mojo Brookzz LIVE at the Stardome (December 26 - 28)
DESCRIPTION:Viral comedian Mojo Brookzz headlines a full weekend after touring with Mike Epps and more. \nDyon “Mojo” Brooks is an actor\, writer\, producer\, and stand-up comedian. As a comic\, Brooks is nationally acclaimed and celebrated having toured with legends such as Mike Epps\, Martin Lawrence\, and Deon Cole to name a few. He recently wrapped his headlining nationwide “Unhand Me Now” Tour which sold out every single with multiple added shows in nearly every location. This tour also marks Brooks’ transition from fully sold-out club weekends into headlining theatres with sold out stops at Atlanta’s Center Stage\, Memphis’s Minglewood Hall\, and two sold-out Sunday night shows at Chicago’s historic Vic theatre. Additionally\, Dyon can be seen on the most recent Season [21] of Nick Cannon’s WILD N OUT\, having been hand selected by Cannon who is a fan of Brooks viral sketch comedy videos that can be found across his social media pages\, which have amassed millions of views and over 26.5 million likes. Brooks counts more than 1.1 million Instagram followers\, 1.5 million Facebook followers\, and over 1.3 million TikTok followers.
URL:https://urbanham.com/event/mojo-brookzz/
LOCATION:Hoover\, Alabama
CATEGORIES:Comedy,Featured Events,Food & Drinks,Things to do,Upcoming Events
ATTACH;FMTTYPE=image/png:https://urbanham.com/wp-content/uploads/2025/11/mojox300.png
ORGANIZER;CN="Stardome Comedy Club":MAILTO:info@stardome.com
END:VEVENT
END:VCALENDAR