BEGIN:VCALENDAR
VERSION:2.0
PRODID:-//Urbanham.com - ECPv6.15.20//NONSGML v1.0//EN
CALSCALE:GREGORIAN
METHOD:PUBLISH
X-ORIGINAL-URL:https://urbanham.com
X-WR-CALDESC:Events for Urbanham.com
REFRESH-INTERVAL;VALUE=DURATION:PT1H
X-Robots-Tag:noindex
X-PUBLISHED-TTL:PT1H
BEGIN:VTIMEZONE
TZID:UTC
BEGIN:STANDARD
TZOFFSETFROM:+0000
TZOFFSETTO:+0000
TZNAME:UTC
DTSTART:20230101T000000
END:STANDARD
END:VTIMEZONE
BEGIN:VEVENT
DTSTART;TZID=UTC:20240802T080000
DTEND;TZID=UTC:20240804T170000
DTSTAMP:20260422T214940
CREATED:20240728T201527Z
LAST-MODIFIED:20240728T201623Z
UID:2556-1722585600-1722790800@urbanham.com
SUMMARY:Steve Brown LIVE at the Stardome (August 2 - 4)
DESCRIPTION:Steve Brown was born in Detroit\, Michigan\, but was raised in Tuscaloosa\, Alabama where a lot of his comedic material was derived from. He enjoyed a spiritual upbringing as a result of being raised in the church by his grandparents. This rearing explains why some of his funniest comedic material is derived from the church\, and throughout the years he has continued to show his love for church congregations while on stage.
URL:https://urbanham.com/event/steve-brown-live-at-the-stardome-august-2-4/
LOCATION:Hoover\, Alabama
CATEGORIES:Comedy,Featured Events,Food & Drinks,Upcoming Events
ATTACH;FMTTYPE=image/png:https://urbanham.com/wp-content/uploads/2024/07/stevebrownx300.png
ORGANIZER;CN="Stardome Comedy Club":MAILTO:info@stardome.com
END:VEVENT
BEGIN:VEVENT
DTSTART;TZID=UTC:20240802T173000
DTEND;TZID=UTC:20240802T190000
DTSTAMP:20260422T214940
CREATED:20240712T125624Z
LAST-MODIFIED:20240712T125624Z
UID:2493-1722619800-1722625200@urbanham.com
SUMMARY:Freedom Friday In The Park (August 2)
DESCRIPTION:Don’t miss this LAST Freedom Friday in the Park – Giving Women Their Power Back Through Dance on August 2\, 2024 from 5:30pm – 7:00pm. \nAvondale Park 4101 5th Avenue South\, Birmingham\, AL 35222.
URL:https://urbanham.com/event/freedom-friday-in-the-park-august-2/
LOCATION:AL
CATEGORIES:Art & Culture,Community,Things to do,Upcoming Events
ATTACH;FMTTYPE=image/jpeg:https://urbanham.com/wp-content/uploads/2024/07/Freedomx300.jpg
END:VEVENT
BEGIN:VEVENT
DTSTART;TZID=UTC:20240803T183000
DTEND;TZID=UTC:20240803T203000
DTSTAMP:20260422T214940
CREATED:20240310T163203Z
LAST-MODIFIED:20240310T163526Z
UID:1787-1722709800-1722717000@urbanham.com
SUMMARY:Birmingham Legion vs Hartford Athletic
DESCRIPTION:Saturday\, August 3rd \nvs Hartford Athletic \n6:30pm | Protective Stadium
URL:https://urbanham.com/event/birmingham-legion-vs-hartford-athletic/
LOCATION:Birmingham\, AL\, Birmingham\, AL\, 35203\, United States
CATEGORIES:Family Event,Sports,Upcoming Events
ATTACH;FMTTYPE=image/png:https://urbanham.com/wp-content/uploads/2024/03/birminghamlegionx300.png
END:VEVENT
BEGIN:VEVENT
DTSTART;TZID=UTC:20240809T080000
DTEND;TZID=UTC:20240810T170000
DTSTAMP:20260422T214940
CREATED:20240728T205106Z
LAST-MODIFIED:20240728T222821Z
UID:2570-1723190400-1723309200@urbanham.com
SUMMARY:Eddie Griffin LIVE at the Stardome (August 9 - 10)
DESCRIPTION:As an actor\, Eddie Griffin has appeared in over 50 films such films as The Last Boy Scout (1991)\, Coneheads (1993)\, Armageddon (1998)\, Deuce Bigalow: Male Gigolo (1999)\, Norbit (2007)\, American Hero (2015) Mucho Dinero (2016)\, and A Star is Born (2018). His most notable film role was Anton Jackson in Undercover Brother (2002). Eddie was nominated (1996) and won (2000) the NAACP Image Award for Best Actor in his own hit comedy series Malcolm and Eddie (1996-2000). In 2019 Eddie began shooting the feature film The Comeback Trail alongside actors Robert De Niro\, Morgan Freeman and Tommy Lee Jones. Eddie Griffin is back for his third SHOWTIME comedy special\, Eddie Griffin: E-NIGGMA\, premiering on Friday\, December 6\, 2019. Currently\, Eddie can be found performing his weekly Las Vegas Residency\, The Eddie Griffin Experience at the Sahara Hotel and Casino.
URL:https://urbanham.com/event/eddie-griffin-live-at-the-stardome-august-9-10/
LOCATION:Hoover\, Alabama
CATEGORIES:Comedy,Featured Events,Food & Drinks,Upcoming Events
ATTACH;FMTTYPE=image/png:https://urbanham.com/wp-content/uploads/2024/07/EddieGriffinx300.png
ORGANIZER;CN="Stardome Comedy Club":MAILTO:info@stardome.com
END:VEVENT
BEGIN:VEVENT
DTSTART;TZID=UTC:20240810T140000
DTEND;TZID=UTC:20240810T180000
DTSTAMP:20260422T214940
CREATED:20240404T021329Z
LAST-MODIFIED:20240404T025115Z
UID:2091-1723298400-1723312800@urbanham.com
SUMMARY:Birmingham Pig Roast
DESCRIPTION:The ¡HICA! Junior Board presents the inaugural Birmingham Pig Roast—an event that brings together Alabama’s passion for good barbecue and the rich Latino communities in Birmingham.  \nIn Puerto Rico and other Latino cultures\, a pig roast happens whenever there is a big celebration. Now\, ¡HICA! is bringing that celebration to the Magic City. Join us for juicy\, tender pulled pork\, delicious sides\, family-friendly entertainment and more. Plus\, try the Lagerveza—a beer by Cahaba Brewing Company brewed just for the event. We’ll bring los lechones (those are the succulent pigs\, ready to slow roast for hours). You bring your appetite. Welcome to our familia. \nSaturday\, August 10\, 2024\n2:00 PM – 6:00 PM \nCahaba Brewing\n4500 5th Avenue South\nBirmingham\, AL\, 35222\nUnited States
URL:https://urbanham.com/event/birmingham-pig-roast/
LOCATION:Birmingham\, AL\, Birmingham\, AL\, 35203\, United States
CATEGORIES:Art & Culture,Food & Drinks,Things to do,Upcoming Events
ATTACH;FMTTYPE=image/png:https://urbanham.com/wp-content/uploads/2024/04/bhampigroastx300.png
END:VEVENT
BEGIN:VEVENT
DTSTART;TZID=UTC:20240814T200000
DTEND;TZID=UTC:20240814T230000
DTSTAMP:20260422T214940
CREATED:20240409T010733Z
LAST-MODIFIED:20240812T122027Z
UID:2111-1723665600-1723676400@urbanham.com
SUMMARY:Juvenile and the 400 Degreez Band LIVE at Iron City
DESCRIPTION:Doors open at 7pm\, showtime at 8pm.
URL:https://urbanham.com/event/juvenile-and-the-400-degreez-band-live-at-iron-city/
LOCATION:Birmingham\, AL\, Birmingham\, AL\, 35203\, United States
CATEGORIES:Featured Events,Live Music,Upcoming Events
ATTACH;FMTTYPE=image/jpeg:https://urbanham.com/wp-content/uploads/2024/04/juvenilex300.jpg
END:VEVENT
BEGIN:VEVENT
DTSTART;TZID=UTC:20240815T200000
DTEND;TZID=UTC:20240815T230000
DTSTAMP:20260422T214940
CREATED:20240812T121753Z
LAST-MODIFIED:20240812T121753Z
UID:2595-1723752000-1723762800@urbanham.com
SUMMARY:Lucky Daye - The Algorithm Tour (August 15)
DESCRIPTION:
URL:https://urbanham.com/event/lucky-daye-the-algorithm-tour-august-15/
LOCATION:Birmingham\, AL\, Birmingham\, AL\, 35203\, United States
CATEGORIES:Featured Events,Live Music,Upcoming Events
ATTACH;FMTTYPE=image/png:https://urbanham.com/wp-content/uploads/2024/08/LuckyDayex300.png
END:VEVENT
BEGIN:VEVENT
DTSTART;TZID=UTC:20240816T190000
DTEND;TZID=UTC:20240816T210000
DTSTAMP:20260422T214940
CREATED:20240310T162721Z
LAST-MODIFIED:20240310T162902Z
UID:1784-1723834800-1723842000@urbanham.com
SUMMARY:Birmingham Legion vs Detroit City Football Club
DESCRIPTION:Friday\, August 16th \nvs Detroit City Football Club \n7:00pm | Protective Stadium
URL:https://urbanham.com/event/birmingham-legion-vs-detroit-city-football-club/
LOCATION:Birmingham\, AL\, Birmingham\, AL\, 35203\, United States
CATEGORIES:Family Event,Sports,Upcoming Events
ATTACH;FMTTYPE=image/png:https://urbanham.com/wp-content/uploads/2024/03/birminghamlegionx300.png
END:VEVENT
BEGIN:VEVENT
DTSTART;TZID=UTC:20240824T183000
DTEND;TZID=UTC:20240824T223000
DTSTAMP:20260422T214940
CREATED:20240818T154505Z
LAST-MODIFIED:20240818T154817Z
UID:2611-1724524200-1724538600@urbanham.com
SUMMARY:Barons Baseball (In My Barons Era)
DESCRIPTION:FREE Barons Friendship Bracelets to the first 1\,000 fans.  Lavender haze drinks with the BIGGEST Fireworks show of the year\, in game fan song selection and eras photo wall PLUS T-shirt giveaway!
URL:https://urbanham.com/event/barons-baseball-in-my-barons-era/
LOCATION:Birmingham\, AL\, Birmingham\, AL\, 35203\, United States
CATEGORIES:Sports,Things to do,Upcoming Events
ATTACH;FMTTYPE=image/png:https://urbanham.com/wp-content/uploads/2024/08/BirminghamBaronsx300.png
END:VEVENT
BEGIN:VEVENT
DTSTART;TZID=UTC:20240824T193000
DTEND;TZID=UTC:20240824T223000
DTSTAMP:20260422T214940
CREATED:20240625T130537Z
LAST-MODIFIED:20240625T130537Z
UID:2396-1724527800-1724538600@urbanham.com
SUMMARY:Lalah Hathaway Vanta Black Tour with Anthony David and Jubu Smith
DESCRIPTION:Five-time Grammy Award winner Lalah Hathaway releases her seventh solo studio album\, VANTABLACK\, her most empowered and impressive effort to date\, June 14th via Hathaway Entertainment/SRG Records. Along with co-producers Phil Beaudreu\, Ariza\,  Warryn Campbell and  Eric Dawkins\, Hathaway has created a sixteen track sonic landscape filled with dynamic production and superhuman vocals and is joined by feature performances from WILLOW\, Rapsody\, Common\, Michael McDonald\, Phonte\, MC Lyte and Gerald Albright. In Hathaway’s words\, ‘VANTABLACK takes its name from a pigment\, the darkest shade of black ever created. It felt so right for me and this project right now because I set out to make the blackest record EVER! And I did. This album represents the multiplicity of what being black means to me. And I love it!’
URL:https://urbanham.com/event/lalah-hathaway-vanta-black-tour-with-anthony-david-and-jubu-smith/
LOCATION:AL
CATEGORIES:Featured Events,Live Music,Things to do,Upcoming Events
ATTACH;FMTTYPE=image/png:https://urbanham.com/wp-content/uploads/2024/06/lalahhathawayx300.png
END:VEVENT
BEGIN:VEVENT
DTSTART;TZID=UTC:20240829T190000
DTEND;TZID=UTC:20240829T220000
DTSTAMP:20260422T214940
CREATED:20240818T203559Z
LAST-MODIFIED:20240818T203559Z
UID:2635-1724958000-1724968800@urbanham.com
SUMMARY:Open Mic Thursdays with Eunice Elliott (August 29)
DESCRIPTION:Do you have what it takes to capture an audience?  Bring your funny to the Broadway Room Stage and see if you can make em’ laugh.  Email\nEunicecomedy@gmail.com to sign up.
URL:https://urbanham.com/event/open-mic-thursdays-with-eunice-elliott-august-29/
LOCATION:Hoover\, Alabama
CATEGORIES:Comedy,Featured Events,Food & Drinks,Things to do,Upcoming Events
ATTACH;FMTTYPE=image/png:https://urbanham.com/wp-content/uploads/2024/08/Eunicex300.png
ORGANIZER;CN="Stardome Comedy Club":MAILTO:info@stardome.com
END:VEVENT
BEGIN:VEVENT
DTSTART;TZID=UTC:20240830T190000
DTEND;TZID=UTC:20240901T213000
DTSTAMP:20260422T214940
CREATED:20240721T175824Z
LAST-MODIFIED:20240721T175915Z
UID:2517-1725044400-1725226200@urbanham.com
SUMMARY:Mike Epps LIVE at the Stardome (August 30 - September 1)
DESCRIPTION:Since 2000\, Epps steadily climbed his way up the stand-up comedy ranks when he was recognized by a national audience in 1995 for appearing on HBO’s Def Comedy Jam (which\, years later\, he would go on to host). During a performance at LA’s Comedy Store\, Epps caught the attention of Ice Cube. This led to the first of three feature films they would do together: the cult hits “Next Friday\,” “Friday after Next\,” and “All About the Benjamins.” Other features include the Hangover franchise\, “Girls Trip” “Faster\,” “Hancock\,” “Lottery Ticket\,” “Next Day Air\,” “Roll Bounce\,” “The Fighting Temptations”\, the Resident Evil franchise\, “Bait”\, “How High\,” “Dr.Dolittle 2”\, “Talk to Me”\, and “Guess Who?”\n\nEpps has been seen in over 40 cities and 3 continents live doing standup.
URL:https://urbanham.com/event/mike-epps-live-at-the-stardome-august-30-september-1/
LOCATION:Hoover\, Alabama
CATEGORIES:Comedy,Featured Events,Food & Drinks,Upcoming Events
ATTACH;FMTTYPE=image/png:https://urbanham.com/wp-content/uploads/2024/07/MikeEppsx300.png
ORGANIZER;CN="Stardome Comedy Club":MAILTO:info@stardome.com
END:VEVENT
END:VCALENDAR