BEGIN:VCALENDAR
VERSION:2.0
PRODID:-//Urbanham.com - ECPv6.15.20//NONSGML v1.0//EN
CALSCALE:GREGORIAN
METHOD:PUBLISH
X-WR-CALNAME:Urbanham.com
X-ORIGINAL-URL:https://urbanham.com
X-WR-CALDESC:Events for Urbanham.com
REFRESH-INTERVAL;VALUE=DURATION:PT1H
X-Robots-Tag:noindex
X-PUBLISHED-TTL:PT1H
BEGIN:VTIMEZONE
TZID:UTC
BEGIN:STANDARD
TZOFFSETFROM:+0000
TZOFFSETTO:+0000
TZNAME:UTC
DTSTART:20240101T000000
END:STANDARD
END:VTIMEZONE
BEGIN:VEVENT
DTSTART;TZID=UTC:20250830T080000
DTEND;TZID=UTC:20251127T170000
DTSTAMP:20260419T220147
CREATED:20250727T152451Z
LAST-MODIFIED:20250727T213611Z
UID:4428-1756540800-1764262800@urbanham.com
SUMMARY:Statewide HBCU Football Schedule (August - December)
DESCRIPTION:More Than a Game: How HBCU Football Season Fuels Campus and Community Economies \nWhen the drums start rolling\, the grills fire up\, and the marching bands take the field\, you know it’s football season at an HBCU. But beyond the touchdowns\, tailgates\, and halftime shows\, there’s something even bigger happening: money is moving—and it’s moving in a way that powers entire campuses and cities. \nLet’s break down why HBCU football season is not just a sport—it’s a full-blown economic engine. \nGame Day = Big Pay \nEvery home game is more than just a chance to cheer on your alma mater. It’s a revenue generator. Think ticket sales\, concessions\, parking\, merch tables\, and stadium vendors. For the bigger HBCUs\, a single game can bring in hundreds of thousands of dollars.\nThen you’ve got the classic games—like the Magic City Classic or the Bayou Classic—which aren’t just matchups\, they’re full-scale economic explosions. The 2023 Magic City Classic\, for instance\, dropped over $25 million into the Birmingham economy in one weekend. \n \nPrime Time\, Big Time \nHBCU games are increasingly showing up on major networks like ESPN\, CBS Sports\, Peacock\, and HBCU GO\, pulling in national sponsorships from big brands like Nissan\, Cricket Wireless\, Coca Cola and Pepsi. \nWhen your team is playing under the lights—and the bands are doing their thing at halftime—eyes are watching\, and dollars follow. That spotlight boosts not only athletic budgets\, but school pride and enrollment too. \nHomecoming = Hotel Heaven \nIt’s not just the schools winning during football season. Local businesses—from hotels and restaurants to barbershops and boutiques—see a major surge in revenue on game weekends.\nHomecoming? That’s a whole different level. Cities with HBCUs often prepare months in advance for the flood of alumni\, families\, and fans who roll into town. It’s a mini economic boom\, year after year. \nMore Than Athletics \nThink football only benefits the athletic department? Think again. Game day magic spills over to: \n\nScholarships and band programs\nNon-revenue sports like volleyball and tennis\nCampus facilities and tech upgrades\nAdmissions and student recruitment (nothing makes a student want to attend more than a packed stadium and a booming band)\n\n \nCulture\, Commerce & Community \nThe heartbeat of HBCU football lies in the culture—and the culture creates commerce: \n\nFood vendors serve soul food with long lines and fast hands.\nBlack-owned clothing brands set up shop near tailgates.\nDJs and step teams make every weekend feel like a block party with a purpose.\n\nIn short\, HBCU football supports a whole ecosystem of creators\, entrepreneurs\, and local businesses. \n \nFinal Whistle: It’s Bigger Than the Game \nFootball season at an HBCU isn’t just about the scoreboard—it’s about the dollars\, pride\, and power that come with it. From band battles to vendor villages\, game day brings life to campuses and dollars to the doorstep of entire communities.\nSo next time you’re at a game\, remember: you’re not just witnessing a sport—you’re part of an economic movement that’s helping HBCUs and their hometowns thrive. \nSo let’s show and up support our HBCUs and vendors during one of the most economical seasons of the year! Your support matters! \nIn State HBCU 2025 Schedule\n** Make sure you confirm kick-off and local broadcast times in your area. \n🏈 Special Mention: Week Zero Football Classic (August 30\, 2025)\n \nThe Week Zero Labor Day Classic double header\, taking place on Saturday\, August 30\, 2025\, at Legion Field\, will feature Clark Atlanta University football team in a thrilling matchup against Valdosta State University and Fort Valley State University vs University of West Alabama. This event is set to be a memorable day filled with football\, community\, and celebration\, accompanied by the largest BBQ festival in Alabama. \nGroup ticket packages are available\, and purchasing in bulk will ensure that students\, faculty\, alumni\, and supporters can come together and show their team support. \nPlease reach out for ticket packages and additional details. We hope to see you there! \n\nValdosta State University vs Clark Atlanta University – 12:15pm Kickoff\nFort Valley State University vs University of West Alabama – 4:15pm Kickoff\n\nFor additional information email info@weekzero.org or visit https://weekzero.org/ \n 🏈 Alabama State University Hornets (SWAC\, FCS) \n2025 schedule includes:* \n\nAug 28 (Thu) @ UAB – Protective Stadium\, Birmingham\, AL – 7:30 PM\nSep 6 (Sat) @ Southern University – 6:00 PM\nSep 13 (Sat) vs Miles College – 4:00 PM / White Out at ASU Stadium\nSep 27 (Sat) @ Florida A&M – TBD\nOct 4 (Sat) vs Bethune‑Cookman – 3:00 PM\nOct 11 (Sat) @ Jackson State – TBD\nOct 25 (Sat) @ Alabama A&M – 2:30 PM\nNov 1 (Sat) @ Prairie View A&M – TBD\n\nSWAC conference games still to release\, totaling 12 games including two non‑D1 matchups and one FCS non‑conference game \n🏈 Alabama A&M University Bulldogs (SWAC\, FCS) \n2025 schedule includes: \n\nAug 30 (Sat) @ Arkansas (FBS opponent) – 4:15 PM ET / 3:15 PM CT\nSep 6 (Sat) vs Alcorn State – 7:00 PM – White Out Louis Crews Stadium\, Huntsville\nSep 13 (Sat) @ Tennessee State – \~3:30 PM CT (Legacy Series in Nashville)\nSep 20 (Sat) vs Lane College – 6:00 PM – Boots & Buckles / Suicide Awareness Night\, Huntsville\nSep 27 (Sat) @ Bethune‑Cookman – 2:00 PM CT – SWAC matchup\nOct 4 (Sat) vs Jackson State – 4:00 PM – Gulf Coast Challenge at Ladd‑Peebles Stadium\, Mobile\nOct 11 (Sat) vs Mississippi Valley State – 2:00 PM – Homecoming\, Huntsville\nOct 25 (Sat) vs Alabama State – 2:30 PM – Magic City Classic at Legion Field\, Birmingham\nNov 1 (Sat) @ Grambling State – TBD\nNov 8 (Sat) vs Prairie View A&M – 3:00 PM\nNov 15 (Sat) vs Florida A&M – 2:00 PM\nNov 22 (Sat) @ Texas Southern – 2:00 PM\n\nA 12‑game slate highlighted by matchups against an SEC opponent\, three classic games\, and multiple SWAC rivals. \n🏈 Tuskegee University Golden Tigers (SIAC\, Division II) \n2025 schedule includes: \n\nAug 31 (Sun) vs Winston‑Salem State – Red Tail Classic\, Cramton Bowl\, Montgomery – 6:00 PM\nSep 6 (Sat) vs Central State (OH) – Cleve L. Abbott Stadium – 6:00 PM\nSep 13 (Sat) @ Jackson State – Mississippi Veterans Memorial Stadium – 2:00 PM\nSep 18 (Thu) @ Benedict College – 7:00 PM ET – Columbia\, SC\nSep 27 (Sat) vs Fort Valley State – 2:00 PM – Cleve L. Abbott Stadium\, Tuskegee\nOct 4 (Sat) vs Morehouse – Morehouse Classic at the Cramton Bowl\, Montgomery – 6:00 PM\nOct 18 (Sat) @ Albany State – 1:00 PM ET – Albany\, GA\nOct 25 (Sat) vs Allen University – 2:00 PM – Tuskegee\nNov 1 (Sat) vs Lane College – Homecoming Game\, 2:00 PM – Tuskegee\nNov 8 (Sat) @ Miles College – 3:00 PM – Sloan‑Alumni Stadium\, Fairfield\nNov 27 (Thu) @ Alabama State – TBD – Turkey Day Classic at ASU Stadium\n\nTuskegee total: at least 11 games\, mixing SIAC conference rivals and classic non‑conference matchups. \n🏈 Miles College Golden Bears (SIAC\, NCAA Division II) \n\nAug 31 (Sun) Virginia Union – Canton\, OH (Hall of Fame Stadium) – Black College Football Hall of Fame Classic – 3:00 PM\nSep 6 (Sat) @ Edward Waters – Jacksonville\, FL – SIAC road game – 4:00 PM\nSep 13 (Sat) @ Alabama State – Montgomery\, AL – FCS opponent\, ASU Stadium – 5:00 PM\nSep 20 (Sat) Savannah State – Fairfield\, AL (Sloan-Alumni Stadium) – Prince Hall Americanism Football Classic – 3:00 PM\nSep 27 (Sat) Morgan State – Indianapolis\, IN (Lucas Oil Stadium) – Circle City Classic\, neutral-site – 3:00 PM\nOct 4 (Sat) Kentucky State – Fairfield\, AL – SIAC home game at Sloan-Alumni Stadium – 3:00 PM\nOct 11 (Sat) @ Lane College – Jackson\, TN – Road SIAC contest – 2:00 PM\nOct 18 (Sat) Clark Atlanta – Fairfield\, AL – Homecoming game\, Sloan-Alumni Stadium – Time TBA\nOct 25 (Sat) @ Central State (OH) – Wilberforce\, OH – SIAC road match – 1:00 PM\nNov 1 (Sat) @ Fort Valley State – Fort Valley\, GA – SIAC road game – Time TBA\nNov 8 (Sat) Tuskegee University – Fairfield\, AL – Senior Day rivalry game – Time TBA
URL:https://urbanham.com/event/statewide-hbcu-football-schedule-august-december/
LOCATION:Alabama
CATEGORIES:Featured Events,HBCU,Sports,Things to do,Upcoming Events
ATTACH;FMTTYPE=image/png:https://urbanham.com/wp-content/uploads/2025/07/HBCUFootball-ALPower.png
END:VEVENT
BEGIN:VEVENT
DTSTART;TZID=UTC:20251001T080000
DTEND;TZID=UTC:20251001T170000
DTSTAMP:20260419T220147
CREATED:20250502T142946Z
LAST-MODIFIED:20250502T143009Z
UID:4004-1759305600-1759338000@urbanham.com
SUMMARY:Breezy Bowl XX: 20 Years of Chris Brown (October 1)
DESCRIPTION:Chris Brown is headed to Protective Stadium in Birmingham\, Alabama on Saturday\, October 11th!  Tickets on sale now at \nThis Event is Rain or Shine \nTwo-time Grammy winning global R&B superstar Chris Brown announces the addition of Birmingham’s Protective Stadium to his worldwide Breezy Bowl XX Tour. The Birmingham engagement will feature two R&B’s powerhouses: 3x Grammy nominated neo-soul singer Jhene Aiko and 3x Grammy nominated and multi-platinum selling artist\, Bryson Tiller. \nBreezy Bowl XX celebrates 20 years of Brown’s career and builds on the momentum of his highly successful 2024 11:11 Tour\, which supported his Billboard R&B Albums chart-topping studio release. The tour stop at Birmingham’s Legacy Arena sold out in record time\, reaffirming Brown?s global touring power and audience demand.
URL:https://urbanham.com/event/breezy-bowl-xx-20-years-of-chris-brown/
LOCATION:Birmingham City Hall\, 710 20th St N\,\, Birmingham\, AL\, 35203\, United States
CATEGORIES:Featured Events,Live Music,Upcoming Events
ATTACH;FMTTYPE=image/jpeg:https://urbanham.com/wp-content/uploads/2025/05/chris-brown-11-11-tour-tgj.jpg
END:VEVENT
BEGIN:VEVENT
DTSTART;TZID=UTC:20251010T190000
DTEND;TZID=UTC:20251010T230000
DTSTAMP:20260419T220147
CREATED:20250608T051631Z
LAST-MODIFIED:20250608T051730Z
UID:4182-1760122800-1760137200@urbanham.com
SUMMARY:Charlie Wilson\, Babyface\, K-Ci Hailey\, El Debarge LIVE at the Coca Cola Amphitheater (October 10)
DESCRIPTION:  \nON SALE NOW! Uncle Charlie’s R&B Cookout 2025 Tour with Charlie Wilson\, Babyface\, K-Ci Hailey\, El Debarge coming to Coca-Cola Amphitheater in Birmingham on Friday\, October 10!For tickets visit https://livemu.sc/3RXc0mc
URL:https://urbanham.com/event/charlie-wilson-babyface-k-ci-hailey-el-debarge-live-at-the-coca-cola-amphitheater-october-10/
LOCATION:AL
CATEGORIES:Featured Events,Live Music,Things to do,Upcoming Events
ATTACH;FMTTYPE=image/png:https://urbanham.com/wp-content/uploads/2025/06/UncleCharliex300.png
END:VEVENT
BEGIN:VEVENT
DTSTART;TZID=UTC:20251012T140000
DTEND;TZID=UTC:20251012T170000
DTSTAMP:20260419T220147
CREATED:20250926T145943Z
LAST-MODIFIED:20250926T145943Z
UID:4856-1760277600-1760288400@urbanham.com
SUMMARY:A Night of Mystery\, Music\, and Mayhem: The Soulful Murder Mystery Dinner Theater Experience Comes to Birmingham (October 12)
DESCRIPTION:Birmingham: Get ready for an unforgettable evening of interactive theater\, live music\, and thrilling suspense as Princeton James Productions brings its highly acclaimed Soulful Murder Mystery Dinner Theater Experience to Bessemer Civic Center on Sunday\, October 12th\, 2025 at 5pm. This immersive theatrical event will transport you into a world of secrets\, deception\, and soulful melodies that will have you at the edge of your seat all night long. \nFrom the Moment You Arrive\, You’re Part of the Mystery \nThe experience begins before the show even starts. As soon as you enter\, you’ll be greeted by characters from the story\, each with their own secrets to share. They’ll engage with you\, drop cryptic hints\, and make you wonder who’s hiding something and who can be trusted. The venue itself becomes the story’s setting\, creating an atmosphere of mystery and excitement before the first scene even begins. \nA Theater Experience Unlike Any Other\nDirected by award-winning producer Princeton James\, this unique production blends theater\, live music\, and audience interaction to create an engaging and exhilarating night of entertainment. From soulful musical performances to shocking plot twists\, this is not just a show—it’s an interactive journey into a world of suspense\, deception\, and fun.\nWhat to Expect \n\nFull Immersion – You’re not just watching the story—you’re living it. The characters engage with guests\, making every interaction a potential clue.\nLive Music Performances – Enjoy electrifying performances from our talented cast.\nA Suspenseful Mystery to Solve – Work with fellow guests to crack the case and uncover the truth.\nA Night of Fun and Entertainment – Whether you’re solving clues\, enjoying the music\, or just soaking in the atmosphere\, you’ll be entertained from start to finish.\n\nShow Details \nWhere: Bessemer Civic Center 1130 9th Ave SW\, Bessemer\, AL 35022\nWhen: Sunday\, October 12th\, 2025 at 2PM\n️\nTickets: Available at www.SoulfulMurderMystery.com/tickets \nDress Code: The Rellik Hotel 1920s Themed \nAbout Princeton James Productions\nPrinceton James Productions is a Memphis-based entertainment company that specializes in immersive theater\, film\, and live performances. Founded by Princeton James\, a visionary storyteller and director\, the company has entertained audiences across the country with innovative productions and unforgettable experiences. With over 350 performances in multiple cities\, the Soulful Murder Mystery Dinner Theater Experience has become a must-see event for lovers of suspense\, music\, and interactive entertainment.\nSecure Your Tickets Before They Sell Out \nFor media inquiries\, interviews\, or press passes\, please contact:\nPrinceton James at pj@princetonjamesproductions.com or call/text 901-949-1320. Follow us online\nWebsite: www.SoulfulMurderMystery.com\nInstagram & Facebook: @SoulfulMurderMystery
URL:https://urbanham.com/event/a-night-of-mystery-music-and-mayhem-the-soulful-murder-mystery-dinner-theater-experience-comes-to-birmingham-october-12/
LOCATION:Bessemer\, Alabama\, AL\, United States
CATEGORIES:Art & Culture,Featured Events,Theater,Upcoming Events
ATTACH;FMTTYPE=image/png:https://urbanham.com/wp-content/uploads/2025/09/SoufulMurder.png
END:VEVENT
BEGIN:VEVENT
DTSTART;TZID=UTC:20251014T190000
DTEND;TZID=UTC:20251014T230000
DTSTAMP:20260419T220147
CREATED:20250727T005235Z
LAST-MODIFIED:20250727T005235Z
UID:4378-1760468400-1760482800@urbanham.com
SUMMARY:NBA Preseason in Birmingham: News Orleans Pelicans vs Houston Rockets (October 14)
DESCRIPTION:The New Orleans Pelicans are coming to Birmingham and hosting the Houston Rockets in a preseason game. All fans are encouraged to arrive early.
URL:https://urbanham.com/event/nba-preseason-in-birmingham-news-orleans-pelicans-vs-houston-rockets-october-14/
LOCATION:Birmingham\, AL\, Birmingham\, AL\, 35203\, United States
CATEGORIES:Featured Events,Food & Drinks,Sports,Things to do,Upcoming Events
ATTACH;FMTTYPE=image/png:https://urbanham.com/wp-content/uploads/2025/07/515010764_1037807461862617_7969465846497775702_n.png
END:VEVENT
BEGIN:VEVENT
DTSTART;TZID=UTC:20251017T150000
DTEND;TZID=UTC:20251017T190000
DTSTAMP:20260419T220147
CREATED:20250910T023658Z
LAST-MODIFIED:20250910T025441Z
UID:4793-1760713200-1760727600@urbanham.com
SUMMARY:3rd And 10 Pre-Game Rooftop Day Party & Fundraiser (October 17)
DESCRIPTION:Change Before The Game\, Inc. Launches with “3rd and 10” Rooftop Day Party & Fundraiser at Bar Sebastian \nBirmingham\, AL  – October 1\, 2025 Change Before The Game\, Inc.\, a newly formed nonprofit dedicated to empowering youth through sports\, education\, and life skills\, will host its inaugural community event on Friday\, October 17\, 2025 \, from 3:00 PM to 7:00 PM at Bar Sebastian\, 1525 1st Ave S\, Birmingham. \nThe event\, titled 3rd and 10: Pregame Rooftop Day Party & Fundraiser\,” marks the official introduction of Change Before The Game\, Inc. to the community. The day will feature live sets from DJ Chocolate and DJ Sterl the Pearl\, the official DJ of the Tennessee Volunteers football\, basketball\, and other athletic programs. Guests can expect rooftop views\, food\, drinks\, and entertainment — all in a spirited pregame atmosphere celebrating football\, community\, and purpose. \nFree Admission \n 
URL:https://urbanham.com/event/3rd-and-10-pre-game-rooftop-day-party-fundraiser-october-17/
LOCATION:Birmingham\, AL\, Birmingham\, AL\, 35203\, United States
CATEGORIES:Day Party,DJ,Featured Events,Food & Drinks,Upcoming Events
ATTACH;FMTTYPE=image/png:https://urbanham.com/wp-content/uploads/2025/09/TailgateMixer2-300x300-1.png
END:VEVENT
BEGIN:VEVENT
DTSTART;TZID=UTC:20251019T150000
DTEND;TZID=UTC:20251019T180000
DTSTAMP:20260419T220147
CREATED:20250925T003432Z
LAST-MODIFIED:20250925T003432Z
UID:4832-1760886000-1760896800@urbanham.com
SUMMARY:The Jazz Essence Experience (October 19)
DESCRIPTION:Don’t miss the Jazz Essence Experience featuring Antonio Allen\, Jolanda\, Green and Between 9&7 Band LIVE on Sunday\, October 19th at the Historic Sixth Avenue Baptist Church located at 1101 Martin Luther King Jr. Drive\, Birmingham\, Alabama.  Voter registration and Food Trucks on site! Sponsored by Byron davis Lawn Company.
URL:https://urbanham.com/event/the-jazz-essence-experience-october-19/
LOCATION:Birmingham\, AL\, Birmingham\, AL\, 35203\, United States
CATEGORIES:Community,Live Music,Magic City Classic,Upcoming Events
ATTACH;FMTTYPE=image/png:https://urbanham.com/wp-content/uploads/2025/09/300x300.png
END:VEVENT
BEGIN:VEVENT
DTSTART;TZID=UTC:20251019T193000
DTEND;TZID=UTC:20251019T223000
DTSTAMP:20260419T220147
CREATED:20250608T050351Z
LAST-MODIFIED:20250608T050351Z
UID:4177-1760902200-1760913000@urbanham.com
SUMMARY:TP20 - Celebrating 20 Years of T-Pain (October 19)
DESCRIPTION:Celebrating 20 Years of T-Pain
URL:https://urbanham.com/event/tp20-celebrating-20-years-of-t-pain-october-19/
LOCATION:Birmingham\, AL\, Birmingham\, AL\, 35203\, United States
CATEGORIES:Featured Events,Live Music,Things to do,Upcoming Events
ATTACH;FMTTYPE=image/png:https://urbanham.com/wp-content/uploads/2025/06/TPainx300.png
END:VEVENT
BEGIN:VEVENT
DTSTART;TZID=UTC:20251024T210000
DTEND;TZID=UTC:20251025T020000
DTSTAMP:20260419T220147
CREATED:20250824T084625Z
LAST-MODIFIED:20250824T084817Z
UID:4718-1761339600-1761357600@urbanham.com
SUMMARY:8th Annual Magic City Classic Friday Night Soiree (October 24)
DESCRIPTION:Enjoy food\, drinks\, music\, and good vibes — all in one night!Friday October 24\, 20259:00PM – 2:00 AM1713 4th Ave. North\, Birmingham\, Alabama 35203Dj Jack Benny on the Musical V.I.B.E.$Secure your spot — get a ticket & enjoy a 2hr Open Bar — and we’ll see you Friday October 24th during Classic Weekend for an unforgettable evening! See you there.Space is limited….Tickets on sale Soon via https://classicfriday25.eventbrite.com \nSee less
URL:https://urbanham.com/event/8th-annual-magic-city-classic-friday-night-soiree-october-24/
LOCATION:Birmingham\, AL\, Birmingham\, AL\, 35203\, United States
CATEGORIES:DJ,Featured Events,Magic City Classic,Things to do,Upcoming Events
ATTACH;FMTTYPE=image/png:https://urbanham.com/wp-content/uploads/2025/08/mcc-friday.png
END:VEVENT
BEGIN:VEVENT
DTSTART;TZID=UTC:20251025T100000
DTEND;TZID=UTC:20251025T200000
DTSTAMP:20260419T220147
CREATED:20250727T150321Z
LAST-MODIFIED:20250727T150321Z
UID:4423-1761386400-1761422400@urbanham.com
SUMMARY:Magic City Classic (October 25)
DESCRIPTION:The Amazon Magic City Classic presented by Coca Cola is Saturday\, October 25\, 2025 at Legion Field.  Expect the best of the best as hundreds of thousands of fans\, tailgaters\, students\, alumni\, vendors and more attend the most anticipated HBCU Classic in the country! \nFor complete details and line up visit https://www.magiccityclassic.com/
URL:https://urbanham.com/event/magic-city-classic-october-25/
LOCATION:Birmingham\, AL\, Birmingham\, AL\, 35203\, United States
CATEGORIES:Featured Events,HBCU,Sports,Things to do,Upcoming Events
ATTACH;FMTTYPE=image/png:https://urbanham.com/wp-content/uploads/2025/07/MagicCityClassic.png
END:VEVENT
BEGIN:VEVENT
DTSTART;TZID=UTC:20251028T200000
DTEND;TZID=UTC:20251028T223000
DTSTAMP:20260419T220147
CREATED:20250608T151604Z
LAST-MODIFIED:20250608T152059Z
UID:4201-1761681600-1761690600@urbanham.com
SUMMARY:Brian Culbertson LIVE at the Lyric Theatre (October 28)
DESCRIPTION:Don’t miss Brian Culbertson Day Trip Tour on Tuesday\, October 28th at the Lyric Theatre!  For tickets and information visit https://lyricbham.com/event/brian-culbertson-day-trip-tour/
URL:https://urbanham.com/event/brian-culbertson-live-at-the-lyric-theatre-october-28/
LOCATION:Birmingham\, AL\, Birmingham\, AL\, 35203\, United States
CATEGORIES:Live Music,Things to do,Upcoming Events
ATTACH;FMTTYPE=image/png:https://urbanham.com/wp-content/uploads/2025/06/BrianCulbertsonx300.png
END:VEVENT
END:VCALENDAR