BEGIN:VCALENDAR
VERSION:2.0
PRODID:-//Urbanham.com - ECPv6.15.20//NONSGML v1.0//EN
CALSCALE:GREGORIAN
METHOD:PUBLISH
X-ORIGINAL-URL:https://urbanham.com
X-WR-CALDESC:Events for Urbanham.com
REFRESH-INTERVAL;VALUE=DURATION:PT1H
X-Robots-Tag:noindex
X-PUBLISHED-TTL:PT1H
BEGIN:VTIMEZONE
TZID:UTC
BEGIN:STANDARD
TZOFFSETFROM:+0000
TZOFFSETTO:+0000
TZNAME:UTC
DTSTART:20240101T000000
END:STANDARD
END:VTIMEZONE
BEGIN:VEVENT
DTSTART;TZID=UTC:20250619T080000
DTEND;TZID=UTC:20250620T180000
DTSTAMP:20260420T235513
CREATED:20250608T044643Z
LAST-MODIFIED:20250608T044643Z
UID:4166-1750320000-1750442400@urbanham.com
SUMMARY:Alabama State Black Chamber of Commerce: Entrepreneurs and Innovators Conference (June 19 - 20)
DESCRIPTION:For more information visit https://alblackcc.org/
URL:https://urbanham.com/event/alabama-state-black-chamber-of-commerce-entrepreneurs-and-innovators-conference-june-19-20/
LOCATION:Birmingham\, AL\, Birmingham\, AL\, 35203\, United States
CATEGORIES:Business & Networking,Upcoming Events
ATTACH;FMTTYPE=image/png:https://urbanham.com/wp-content/uploads/2025/06/BlackChamberx300.png
END:VEVENT
END:VCALENDAR