BEGIN:VCALENDAR
VERSION:2.0
PRODID:-//Urbanham.com - ECPv6.15.20//NONSGML v1.0//EN
CALSCALE:GREGORIAN
METHOD:PUBLISH
X-ORIGINAL-URL:https://urbanham.com
X-WR-CALDESC:Events for Urbanham.com
REFRESH-INTERVAL;VALUE=DURATION:PT1H
X-Robots-Tag:noindex
X-PUBLISHED-TTL:PT1H
BEGIN:VTIMEZONE
TZID:UTC
BEGIN:STANDARD
TZOFFSETFROM:+0000
TZOFFSETTO:+0000
TZNAME:UTC
DTSTART:20240101T000000
END:STANDARD
END:VTIMEZONE
BEGIN:VEVENT
DTSTART;TZID=UTC:20250215T200000
DTEND;TZID=UTC:20250215T230000
DTSTAMP:20260421T180852
CREATED:20241029T015521Z
LAST-MODIFIED:20250125T021717Z
UID:3423-1739649600-1739660400@urbanham.com
SUMMARY:Luv & Laughter Valentine's Concert (February 15)
DESCRIPTION:The Luv & Laughter Valentine’s Concert featuring LIVE MUSIC from Stokley and Raheem Devaughn plus comedy by DC Young Fly\, JJ Williamson and more is Saturday\, February 15\, 2025 at the Boutwell Auditorium.  Hosted by M.C. Lightfoot. \nTickets available at Etix.com 
URL:https://urbanham.com/event/luv-laughter-valentines-concert-february-15/
LOCATION:Birmingham\, AL\, Birmingham\, AL\, 35203\, United States
CATEGORIES:Comedy,Featured Events,Live Music,Things to do,Upcoming Events
ATTACH;FMTTYPE=image/png:https://urbanham.com/wp-content/uploads/2024/10/NewFlyer-GroupFlyerx300.png
END:VEVENT
END:VCALENDAR