BEGIN:VCALENDAR
VERSION:2.0
PRODID:-//Urbanham.com - ECPv6.15.20//NONSGML v1.0//EN
CALSCALE:GREGORIAN
METHOD:PUBLISH
X-ORIGINAL-URL:https://urbanham.com
X-WR-CALDESC:Events for Urbanham.com
REFRESH-INTERVAL;VALUE=DURATION:PT1H
X-Robots-Tag:noindex
X-PUBLISHED-TTL:PT1H
BEGIN:VTIMEZONE
TZID:UTC
BEGIN:STANDARD
TZOFFSETFROM:+0000
TZOFFSETTO:+0000
TZNAME:UTC
DTSTART:20240101T000000
END:STANDARD
END:VTIMEZONE
BEGIN:VEVENT
DTSTART;TZID=UTC:20250904T190000
DTEND;TZID=UTC:20250904T220000
DTSTAMP:20260424T053950
CREATED:20250608T013237Z
LAST-MODIFIED:20250608T013811Z
UID:4128-1757012400-1757023200@urbanham.com
SUMMARY:Durand Bernarr LIVE at Saturn (September 4)
DESCRIPTION:You Still Gon’ Grow\, Too! Tour \nSaturn\, Saturn\nBirmingham\, AL\nDoors: 7:00PM | Show: 8:00PM
URL:https://urbanham.com/event/durand-bernarr-live-at-saturn-september-4/
LOCATION:Birmingham\, AL\, Birmingham\, AL\, 35203\, United States
CATEGORIES:Live Music,Things to do,Upcoming Events
ATTACH;FMTTYPE=image/png:https://urbanham.com/wp-content/uploads/2025/06/Bernarr.png
END:VEVENT
END:VCALENDAR