BEGIN:VCALENDAR
VERSION:2.0
PRODID:-//Urbanham.com - ECPv6.15.20//NONSGML v1.0//EN
CALSCALE:GREGORIAN
METHOD:PUBLISH
X-WR-CALNAME:Urbanham.com
X-ORIGINAL-URL:https://urbanham.com
X-WR-CALDESC:Events for Urbanham.com
REFRESH-INTERVAL;VALUE=DURATION:PT1H
X-Robots-Tag:noindex
X-PUBLISHED-TTL:PT1H
BEGIN:VTIMEZONE
TZID:UTC
BEGIN:STANDARD
TZOFFSETFROM:+0000
TZOFFSETTO:+0000
TZNAME:UTC
DTSTART:20230101T000000
END:STANDARD
END:VTIMEZONE
BEGIN:VEVENT
DTSTART;TZID=UTC:20240308T193000
DTEND;TZID=UTC:20240308T213000
DTSTAMP:20260420T015831
CREATED:20240305T182221Z
LAST-MODIFIED:20240305T183920Z
UID:1434-1709926200-1709933400@urbanham.com
SUMMARY:Sharron Collins LIVE at Perfect Note
DESCRIPTION:Friday Night Live with Sharron Collins
URL:https://urbanham.com/event/sharron-collins-live-at-perfect-note/
LOCATION:Hoover\, Alabama
CATEGORIES:Food & Drinks,Live Music,Upcoming Events
ATTACH;FMTTYPE=image/jpeg:https://urbanham.com/wp-content/uploads/2024/03/sharronx300.jpg
ORGANIZER;CN="Perfect Note Live":MAILTO:info@perfectnotelive.com
END:VEVENT
BEGIN:VEVENT
DTSTART;TZID=UTC:20240316T200000
DTEND;TZID=UTC:20240316T200000
DTSTAMP:20260420T015831
CREATED:20240307T145601Z
LAST-MODIFIED:20240307T145838Z
UID:1614-1710619200-1710619200@urbanham.com
SUMMARY:Pastor Troy LIVE at WorkPlay
DESCRIPTION:WORKPLAY Presents:\nPastor Troy ShareShare\nWORKPLAY THEATRE\nSaturday\, Mar 16\, 2024\nWORKPLAY\, THEATRE\nBirmingham\, AL\nDoors: 7:00PM | Show: 8:00PM
URL:https://urbanham.com/event/pastor-troy-live-at-workplay/
LOCATION:Birmingham\, AL\, Birmingham\, AL\, 35203\, United States
CATEGORIES:Live Music
ATTACH;FMTTYPE=image/jpeg:https://urbanham.com/wp-content/uploads/2024/03/pastortroyx300.jpg
END:VEVENT
END:VCALENDAR