BEGIN:VCALENDAR
VERSION:2.0
PRODID:-//Urbanham.com - ECPv6.15.20//NONSGML v1.0//EN
CALSCALE:GREGORIAN
METHOD:PUBLISH
X-WR-CALNAME:Urbanham.com
X-ORIGINAL-URL:https://urbanham.com
X-WR-CALDESC:Events for Urbanham.com
REFRESH-INTERVAL;VALUE=DURATION:PT1H
X-Robots-Tag:noindex
X-PUBLISHED-TTL:PT1H
BEGIN:VTIMEZONE
TZID:UTC
BEGIN:STANDARD
TZOFFSETFROM:+0000
TZOFFSETTO:+0000
TZNAME:UTC
DTSTART:20230101T000000
END:STANDARD
END:VTIMEZONE
BEGIN:VEVENT
DTSTART;TZID=UTC:20241205T190000
DTEND;TZID=UTC:20241205T210000
DTSTAMP:20260421T182652
CREATED:20241128T152430Z
LAST-MODIFIED:20241128T152430Z
UID:3513-1733425200-1733432400@urbanham.com
SUMMARY:Birmingham City School 85th Annual All City Christmas Music Festival (December 5)
DESCRIPTION:This event is FREE to the public.  It’s the 85th Annual All City Christmas Music Festival at the Boutwell Auditorium! It’s All About the Family! December 5th at 7pm!
URL:https://urbanham.com/event/birmingham-city-school-85th-annual-all-city-christmas-music-festival-december-5/
LOCATION:Birmingham\, AL\, Birmingham\, AL\, 35203\, United States
CATEGORIES:Community,Live Music,Things to do,Upcoming Events
ATTACH;FMTTYPE=image/png:https://urbanham.com/wp-content/uploads/2024/11/Christmasx300.png
END:VEVENT
BEGIN:VEVENT
DTSTART;TZID=UTC:20241221T183000
DTEND;TZID=UTC:20241221T213000
DTSTAMP:20260421T182652
CREATED:20241220T183615Z
LAST-MODIFIED:20241220T183615Z
UID:3643-1734805800-1734816600@urbanham.com
SUMMARY:Christmas on the Rocks with Vox Fortura LIVE at the Harambe Room (December 21)
DESCRIPTION:VOX FORTURA\, the international vocal group from Britain’s Got Talent\, returns to Birmingham for Christmas on the Rocks! Known for their sold-out shows at the Lyric Theatre and Alys Stephens Center\, they’ll take the stage Dec. 21 at the Harambe Room. Limited seats—tickets $50-$75: harambe205.com
URL:https://urbanham.com/event/christmas-on-the-rocks-with-vox-fortura-live-at-the-harambe-room-december-21/
LOCATION:Birmingham\, AL\, Birmingham\, AL\, 35203\, United States
CATEGORIES:Art & Culture,Featured Events,Live Music,Shopping,Things to do,Upcoming Events
ATTACH;FMTTYPE=image/png:https://urbanham.com/wp-content/uploads/2024/12/ChristmasOnTheRocksx300.png
END:VEVENT
BEGIN:VEVENT
DTSTART;TZID=UTC:20241221T210000
DTEND;TZID=UTC:20241222T020000
DTSTAMP:20260421T182652
CREATED:20241213T174018Z
LAST-MODIFIED:20241213T174143Z
UID:3624-1734814800-1734832800@urbanham.com
SUMMARY:Winter Fashion Cafe (December 21)
DESCRIPTION:Parrish Reid Events presents the Winter Fashion Cafe on Christmas Weekend with DJ Chris Coleman and Dani LIVE at Lit on 8th!  Advance tickets $15. For tables call (773) 895-4838.
URL:https://urbanham.com/event/winter-fashion-cafe-december-21/
LOCATION:Birmingham\, AL\, Birmingham\, AL\, 35203\, United States
CATEGORIES:DJ,Night Life,Things to do,Upcoming Events
ATTACH;FMTTYPE=image/png:https://urbanham.com/wp-content/uploads/2024/12/WinterFashionx300.png
END:VEVENT
END:VCALENDAR