BEGIN:VCALENDAR
VERSION:2.0
PRODID:-//Urbanham.com - ECPv6.15.20//NONSGML v1.0//EN
CALSCALE:GREGORIAN
METHOD:PUBLISH
X-ORIGINAL-URL:https://urbanham.com
X-WR-CALDESC:Events for Urbanham.com
REFRESH-INTERVAL;VALUE=DURATION:PT1H
X-Robots-Tag:noindex
X-PUBLISHED-TTL:PT1H
BEGIN:VTIMEZONE
TZID:UTC
BEGIN:STANDARD
TZOFFSETFROM:+0000
TZOFFSETTO:+0000
TZNAME:UTC
DTSTART:20230101T000000
END:STANDARD
END:VTIMEZONE
BEGIN:VEVENT
DTSTART;TZID=UTC:20240510T173000
DTEND;TZID=UTC:20240510T210000
DTSTAMP:20260419T185502
CREATED:20240415T221120Z
LAST-MODIFIED:20240416T031913Z
UID:2216-1715362200-1715374800@urbanham.com
SUMMARY:JazzNet Mother's Day PopUp Shop (May 10)
DESCRIPTION:JazzNet Mother’s Day PopUp Shop will take place on Friday\, May 10\, 2024 featuring 35 vendors\, live music featuring the Hip Pocket Band\, DJ D Mack and plenty of Door Prizes!  Tickets are on sale now for only $10 for a limited time for all Mothers and $20 for everyone else. \nThe Dannon Project in Downtown Birmingham is located at 2324 5th Avenue North\, Birmingham\, AL 35203. \nTickets available on Eventbrite.com – For more information on vendor or sponsorship opportunities call (205) 873-4572 or email hatcherdonnie@gmail.com \n \n 
URL:https://urbanham.com/event/jazznet-mothers-day-popup-shop-may-10/
LOCATION:Birmingham\, AL\, Birmingham\, AL\, 35203\, United States
CATEGORIES:Featured Events,Shopping,Things to do,Upcoming Events
ATTACH;FMTTYPE=image/png:https://urbanham.com/wp-content/uploads/2024/04/jazznetx300.png
END:VEVENT
BEGIN:VEVENT
DTSTART;TZID=UTC:20240510T200000
DTEND;TZID=UTC:20240510T200000
DTSTAMP:20260419T185502
CREATED:20240305T180124Z
LAST-MODIFIED:20240309T181402Z
UID:1424-1715371200-1715371200@urbanham.com
SUMMARY:Kevin Gates - The Ceremony Tour
DESCRIPTION:Kevin Gates – The Ceremony Tour
URL:https://urbanham.com/event/kevin-gates-the-ceremony-tour/
LOCATION:Birmingham\, AL\, Birmingham\, AL\, 35203\, United States
CATEGORIES:Live Music,Upcoming Events
ATTACH;FMTTYPE=image/png:https://urbanham.com/wp-content/uploads/2024/03/Website-Event-Kevin-Gates-300x300-1.png
END:VEVENT
END:VCALENDAR