BEGIN:VCALENDAR
VERSION:2.0
PRODID:-//Urbanham.com - ECPv6.15.20//NONSGML v1.0//EN
CALSCALE:GREGORIAN
METHOD:PUBLISH
X-ORIGINAL-URL:https://urbanham.com
X-WR-CALDESC:Events for Urbanham.com
REFRESH-INTERVAL;VALUE=DURATION:PT1H
X-Robots-Tag:noindex
X-PUBLISHED-TTL:PT1H
BEGIN:VTIMEZONE
TZID:UTC
BEGIN:STANDARD
TZOFFSETFROM:+0000
TZOFFSETTO:+0000
TZNAME:UTC
DTSTART:20240101T000000
END:STANDARD
END:VTIMEZONE
BEGIN:VEVENT
DTSTART;TZID=UTC:20250201T190000
DTEND;TZID=UTC:20250201T220000
DTSTAMP:20260422T082021
CREATED:20241108T034127Z
LAST-MODIFIED:20241108T034811Z
UID:3452-1738436400-1738447200@urbanham.com
SUMMARY:Kim Scott's "Livin' It Up" Tour (February 1)
DESCRIPTION:Step into the enchanting world of jazz with the mesmerizing and soulful tunes of Kim Scott\, a three time #1 Billboard charting jazz flutist. Join us on a musical journey like no other as Kim Scott takes center stage for her “Livin’ It Up” tour. With her virtuoso flute skills and magnetic stage presence\, Kim Scott will transport you to a realm where jazz comes alive.
URL:https://urbanham.com/event/kim-scotts-livin-it-up-tour-february-1/
LOCATION:Birmingham\, AL\, Birmingham\, AL\, 35203\, United States
CATEGORIES:Featured Events,Live Music,Things to do,Upcoming Events
ATTACH;FMTTYPE=image/png:https://urbanham.com/wp-content/uploads/2024/11/KimScottx300b.png
END:VEVENT
END:VCALENDAR